Perl-Critic v1.146 Perl 5 v5.24.1 amd64-freebsd

Status
Pass
From
Slaven Rezić
Dist
Perl-Critic v1.146
Platform
Perl 5 v5.24.1 amd64-freebsd
Date
2022-12-23 15:50:09
ID
7a8485da-82d9-11ed-a1fe-db4b6e8775ea
This distribution has been tested as part of the CPAN Testers
project, supporting the Perl programming language.  See
http://wiki.cpantesters.org/ for more information or email
questions to cpan-testers-discuss@perl.org


--
Dear Andy Lester,

This is a computer-generated report for Perl-Critic-1.146
on perl 5.24.1, created by CPAN-Reporter-1.2018.

Thank you for uploading your work to CPAN.  Congratulations!
All tests were successful.

Sections of this report:

    * Tester comments
    * Program output
    * Prerequisites
    * Environment and other context

------------------------------
TESTER COMMENTS
------------------------------

Additional comments from tester:

none provided

------------------------------
PROGRAM OUTPUT
------------------------------

Output from './Build test':

# Testing Perl::Critic 1.146 with PPI 1.276 under Perl 5.024001, /usr/perl5.24.1p/bin/perl
t/00_modules.t ................................ ok
t/00_versions.t ............................... ok
Fehler: No word lists can be found for the language "de_DE".
Fehler: No word lists can be found for the language "de_DE".
Fehler: No word lists can be found for the language "de_DE".
Fehler: No word lists can be found for the language "de_DE".
Fehler: No word lists can be found for the language "de_DE".
Fehler: No word lists can be found for the language "de_DE".
Fehler: No word lists can be found for the language "de_DE".
Fehler: No word lists can be found for the language "de_DE".
Fehler: No word lists can be found for the language "de_DE".
Fehler: No word lists can be found for the language "de_DE".
Fehler: No word lists can be found for the language "de_DE".
Fehler: No word lists can be found for the language "de_DE".
Fehler: No word lists can be found for the language "de_DE".
Fehler: No word lists can be found for the language "de_DE".
t/01_config.t ................................. ok
t/01_config_bad_perlcriticrc.t ................ ok
t/01_policy_config.t .......................... ok
t/02_policy.t ................................. ok
t/03_annotations.t ............................ ok
t/03_pragmas.t ................................ ok
t/04_options_processor.t ...................... ok
t/05_utils.t .................................. ok
t/05_utils_perl.t ............................. ok
t/05_utils_pod.t .............................. ok
t/05_utils_ppi.t .............................. ok
t/06_violation.t .............................. ok
t/07_command.t ................................ ok
t/07_perlcritic.t ............................. ok
t/08_document.t ............................... ok
t/09_theme.t .................................. ok
t/10_user_profile.t ........................... ok
t/11_policy_factory.t ......................... ok
t/12_policy_listing.t ......................... ok
t/12_theme_listing.t .......................... ok
t/13_bundled_policies.t ....................... ok
t/14_policy_parameter_behavior_boolean.t ...... ok
t/14_policy_parameter_behavior_enumeration.t .. ok
t/14_policy_parameter_behavior_integer.t ...... ok
t/14_policy_parameter_behavior_list_string.t .. ok
t/14_policy_parameter_behavior_string.t ....... ok
Fehler: No word lists can be found for the language "de_DE".
Fehler: No word lists can be found for the language "de_DE".
Fehler: No word lists can be found for the language "de_DE".
t/14_policy_parameters.t ...................... ok
Fehler: No word lists can be found for the language "de_DE".
t/15_statistics.t ............................. ok
Fehler: No word lists can be found for the language "de_DE".
Fehler: No word lists can be found for the language "de_DE".
t/16_roundtrip_defaults.t ..................... ok
t/20_policies.t ............................... ok
Fehler: No word lists can be found for the language "de_DE".
Fehler: No word lists can be found for the language "de_DE".
Fehler: No word lists can be found for the language "de_DE".
Fehler: No word lists can be found for the language "de_DE".
t/20_policy_pod_spelling.t .................... ok
t/20_policy_prohibit_evil_modules.t ........... ok
t/20_policy_prohibit_hard_tabs.t .............. ok
t/20_policy_prohibit_trailing_whitespace.t .... ok
t/20_policy_require_consistent_newlines.t ..... ok
t/20_policy_require_tidy_code.t ............... ok
Fehler: No word lists can be found for the language "de_DE".
Unhandled type: REGEXP at /usr/perl5.24.1p/lib/site_perl/5.24.1/Devel/Cycle.pm line 107.
t/92_memory_leaks.t ........................... ok
t/gh-734.t .................................... ok
All tests successful.
Files=40, Tests=8181, 59 wallclock secs ( 0.48 usr  0.66 sys + 38.37 cusr 14.55 csys = 54.05 CPU)
Result: PASS

------------------------------
PREREQUISITES
------------------------------

Prerequisite modules loaded:

requires:

    Module                     Need     Have    
    -------------------------- -------- --------
    B::Keywords                1.23     1.23    
    Carp                       0        1.50    
    charnames                  0        1.43    
    Config::Tiny               2        2.28    
    English                    0        1.10    
    Exception::Class           1.23     1.45    
    Exporter                   5.63     5.74    
    File::Basename             0        2.85    
    File::Find                 0        1.34    
    File::Path                 0        2.18    
    File::Spec                 0        3.75    
    File::Spec::Unix           0        3.75    
    File::Temp                 0        0.2311  
    File::Which                0        1.27    
    Getopt::Long               0        2.52    
    List::SomeUtils            0.55     0.59    
    List::Util                 0        1.63    
    Module::Pluggable          3.1      5.2     
    overload                   0        1.26    
    parent                     0        0.239   
    perl                       5.010001 5.024001
    Perl::Tidy                 0        20221112
    Pod::PlainText             0        2.07    
    Pod::Select                0        1.65    
    Pod::Spell                 1        1.20    
    Pod::Usage                 0        2.03    
    PPI                        1.271    1.276   
    PPI::Document              1.271    1.276   
    PPI::Document::File        1.271    1.276   
    PPI::Node                  1.271    1.276   
    PPI::Token::Quote::Single  1.271    1.276   
    PPI::Token::Whitespace     1.271    1.276   
    PPIx::QuoteLike            0        0.022   
    PPIx::Regexp               0.027    0.085   
    PPIx::Regexp::Util         0.068    0.085   
    PPIx::Utilities::Node      1.001    1.001000
    PPIx::Utilities::Statement 1.001    1.001000
    Readonly                   2        2.05    
    Scalar::Util               0        1.63    
    strict                     0        1.11    
    String::Format             1.18     1.18    
    Term::ANSIColor            2.02     5.01    
    Test::Builder              0.92     1.302191
    Text::ParseWords           3        3.31    
    version                    0.77     0.9929  
    warnings                   0        1.36    

build_requires:

    Module                     Need     Have    
    -------------------------- -------- --------
    lib                        0        0.63    
    Test::Deep                 0        1.130   
    Test::More                 0        1.302191

configure_requires:

    Module                     Need     Have    
    -------------------------- -------- --------
    base                       0        2.23    
    Carp                       0        1.50    
    English                    0        1.10    
    Exporter                   5.63     5.74    
    lib                        0        0.63    
    Module::Build              0.4204   0.4232  


------------------------------
ENVIRONMENT AND OTHER CONTEXT
------------------------------

Environment variables:

    LC_ALL = de_DE.ISO8859-1
    PATH = /usr/local/bin:/usr/bin:/bin:/usr/local/sbin:/usr/sbin:/sbin:/home/cpansand/bin/freebsd10.3:/home/cpansand/bin/sh:/home/cpansand/bin:/usr/games:/home/cpansand/devel:/home/eserte/src/srezic-misc/scripts
    PERL5LIB = 
    PERL5OPT = 
    PERL5_CPANPLUS_IS_RUNNING = 8070
    PERL5_CPAN_IS_RUNNING = 8070
    PERL5_CPAN_IS_RUNNING_IN_RECURSION = 33150,8070
    PERLDOC = -MPod::Perldoc::ToTextOverstrike
    PERL_BATCH = yes
    PERL_CANARY_STABILITY_NOPROMPT = 1
    PERL_CPAN_REPORTER_CONFIG = /var/tmp/cpansmoker-1023/2022122307/cpanreporter_000_config.ini
    PERL_EXTUTILS_AUTOINSTALL = --defaultdeps
    PERL_USE_UNSAFE_INC = 1
    SHELL = /usr/local/bin/zsh
    TERM = screen
    TMPDIR = /var/tmp/cpansmoker-1023/2022122307

Perl special variables (and OS-specific diagnostics, for MSWin32):

    $^X = /usr/perl5.24.1p/bin/perl5.24.1
    $UID/$EUID = 1023 / 1023
    $GID = 1023 1023
    $EGID = 1023 1023

Perl module toolchain versions installed:

    Module              Have    
    ------------------- --------
    CPAN                2.34    
    CPAN::Meta          2.150010
    Cwd                 3.75    
    ExtUtils::CBuilder  0.280236
    ExtUtils::Command   7.64    
    ExtUtils::Install   2.20    
    ExtUtils::MakeMaker 7.64    
    ExtUtils::Manifest  1.71    
    ExtUtils::ParseXS   3.35    
    File::Spec          3.75    
    JSON                4.10    
    JSON::PP            4.12    
    Module::Build       0.4232  
    Module::Signature   0.87    
    Parse::CPAN::Meta   2.150010
    Test::Harness       3.44    
    Test::More          1.302191
    YAML                1.30    
    YAML::Syck          1.34    
    version             0.9929  


--

Summary of my perl5 (revision 5 version 24 subversion 1) configuration:
   
  Platform:
    osname=freebsd, osvers=10.1-release, archname=amd64-freebsd
    uname='freebsd cvrsnica-freebsd-101.herceg.de 10.1-release freebsd 10.1-release #0 r274401: tue nov 11 21:02:49 utc 2014 root@releng1.nyi.freebsd.org:usrobjusrsrcsysgeneric amd64 '
    config_args='-ds -e -Dprefix=/usr/perl5.24.1p -Dcf_email=srezic@cpan.org -Doptimize=-O2 -pipe'
    hint=recommended, useposix=true, d_sigaction=define
    useithreads=undef, usemultiplicity=undef
    use64bitint=define, use64bitall=define, uselongdouble=undef
    usemymalloc=n, bincompat5005=undef
  Compiler:
    cc='cc', ccflags ='-DHAS_FPSETMASK -DHAS_FLOATINGPOINT_H -fno-strict-aliasing -pipe -fstack-protector -I/usr/local/include -D_FORTIFY_SOURCE=2',
    optimize='-O2 -pipe',
    cppflags='-DHAS_FPSETMASK -DHAS_FLOATINGPOINT_H -fno-strict-aliasing -pipe -fstack-protector -I/usr/local/include'
    ccversion='', gccversion='4.2.1 Compatible FreeBSD Clang 3.4.1 (tags/RELEASE_34/dot1-final 208032)', gccosandvers=''
    intsize=4, longsize=8, ptrsize=8, doublesize=8, byteorder=12345678, doublekind=3
    d_longlong=define, longlongsize=8, d_longdbl=define, longdblsize=16, longdblkind=3
    ivtype='long', ivsize=8, nvtype='double', nvsize=8, Off_t='off_t', lseeksize=8
    alignbytes=8, prototype=define
  Linker and Libraries:
    ld='cc', ldflags ='-pthread -Wl,-E  -fstack-protector -L/usr/local/lib'
    libpth=/usr/lib /usr/local/lib /usr/include/clang/3.4.1 /usr/lib
    libs=-lpthread -lgdbm -lm -lcrypt -lutil -lc
    perllibs=-lpthread -lm -lcrypt -lutil -lc
    libc=, so=so, useshrplib=false, libperl=libperl.a
    gnulibc_version=''
  Dynamic Linking:
    dlsrc=dl_dlopen.xs, dlext=so, d_dlsymun=undef, ccdlflags=' '
    cccdlflags='-DPIC -fPIC', lddlflags='-shared  -L/usr/local/lib -fstack-protector'


Characteristics of this binary (from libperl): 
  Compile-time options: HAS_TIMES PERLIO_LAYERS PERL_COPY_ON_WRITE
                        PERL_DONT_CREATE_GVSV
                        PERL_HASH_FUNC_ONE_AT_A_TIME_HARD PERL_MALLOC_WRAP
                        PERL_PRESERVE_IVUV USE_64_BIT_ALL USE_64_BIT_INT
                        USE_LARGE_FILES USE_LOCALE USE_LOCALE_COLLATE
                        USE_LOCALE_CTYPE USE_LOCALE_NUMERIC USE_LOCALE_TIME
                        USE_PERLIO USE_PERL_ATOF
  Built under freebsd
  Compiled at Jan 15 2017 11:45:26
  %ENV:
    PERL5LIB=""
    PERL5OPT=""
    PERL5_CPANPLUS_IS_RUNNING="8070"
    PERL5_CPAN_IS_RUNNING="8070"
    PERL5_CPAN_IS_RUNNING_IN_RECURSION="33150,8070"
    PERLDOC="-MPod::Perldoc::ToTextOverstrike"
    PERL_BATCH="yes"
    PERL_CANARY_STABILITY_NOPROMPT="1"
    PERL_CPAN_REPORTER_CONFIG="/var/tmp/cpansmoker-1023/2022122307/cpanreporter_000_config.ini"
    PERL_EXTUTILS_AUTOINSTALL="--defaultdeps"
    PERL_USE_UNSAFE_INC="1"
  @INC:
    /usr/perl5.24.1p/lib/site_perl/5.24.1/amd64-freebsd
    /usr/perl5.24.1p/lib/site_perl/5.24.1
    /usr/perl5.24.1p/lib/5.24.1/amd64-freebsd
    /usr/perl5.24.1p/lib/5.24.1
    .