Test-PostgreSQL v1.23 Perl 5 v5.24.0 darwin-thread-multi-2level

Status
Pass
From
Nigel Horne
Dist
Test-PostgreSQL v1.23
Platform
Perl 5 v5.24.0 darwin-thread-multi-2level
Date
2017-10-18 11:50:03
ID
7a853bfa-b3fa-11e7-a30c-df11dc1c1d4b
This distribution has been tested as part of the CPAN Testers
project, supporting the Perl programming language.  See
http://wiki.cpantesters.org/ for more information or email
questions to cpan-testers-discuss@perl.org


--
Dear Toby Corkindale,

This is a computer-generated report for Test-PostgreSQL-1.23
on perl 5.24.0, created by CPAN-Reporter-1.2018.

Thank you for uploading your work to CPAN.  Congratulations!
All tests were successful.

Sections of this report:

    * Tester comments
    * Program output
    * Prerequisites
    * Environment and other context

------------------------------
TESTER COMMENTS
------------------------------

Additional comments from tester:

this report is from an automated smoke testing program
and was not reviewed by a human for accuracy

------------------------------
PROGRAM OUTPUT
------------------------------

Output from '/sw/bin/make test':

PERL_DL_NONLAZY=1 "/Users/hornenj/perl5/perlbrew/perls/perl-5.24.0/bin/perl5.24.0" "-MExtUtils::Command::MM" "-MTest::Harness" "-e" "undef *Test::Harness::Switches; test_harness(0, 'inc', 'blib/lib', 'blib/arch')" t/*.t
t/00-base.t .............. ok
FATAL:  could not create shared memory segment: No space left on device
DETAIL:  Failed system call was shmget(key=1, size=56, 03600).
HINT:  This error does *not* mean that you have run out of disk space.  It occurs either if all available shared memory IDs have been taken, in which case you need to raise the SHMMNI parameter in your kernel, or because the system's overall limit for shared memory has been reached.
	The PostgreSQL documentation contains more information about shared memory configuration.
child process exited with exit code 1
initdb: removing data directory "/var/folders/pz/pd7y1qjs6s3cbk170cw50fjc000c61/T/pgtest.Sgjop/data"
pg_ctl: database system initialization failed
pg_ctl: directory "/var/folders/pz/pd7y1qjs6s3cbk170cw50fjc000c61/T/pgtest.Sgjop/data" does not exist
pg_ctl: directory "/var/folders/pz/pd7y1qjs6s3cbk170cw50fjc000c61/T/pgtest.Sgjop/data" does not exist
pg_ctl: directory "/var/folders/pz/pd7y1qjs6s3cbk170cw50fjc000c61/T/pgtest.Sgjop/data" does not exist
pg_ctl: directory "/var/folders/pz/pd7y1qjs6s3cbk170cw50fjc000c61/T/pgtest.Sgjop/data" does not exist
pg_ctl: directory "/var/folders/pz/pd7y1qjs6s3cbk170cw50fjc000c61/T/pgtest.Sgjop/data" does not exist
pg_ctl: directory "/var/folders/pz/pd7y1qjs6s3cbk170cw50fjc000c61/T/pgtest.Sgjop/data" does not exist
pg_ctl: directory "/var/folders/pz/pd7y1qjs6s3cbk170cw50fjc000c61/T/pgtest.Sgjop/data" does not exist
pg_ctl: directory "/var/folders/pz/pd7y1qjs6s3cbk170cw50fjc000c61/T/pgtest.Sgjop/data" does not exist
pg_ctl: directory "/var/folders/pz/pd7y1qjs6s3cbk170cw50fjc000c61/T/pgtest.Sgjop/data" does not exist
pg_ctl: directory "/var/folders/pz/pd7y1qjs6s3cbk170cw50fjc000c61/T/pgtest.Sgjop/data" does not exist
pg_ctl: directory "/var/folders/pz/pd7y1qjs6s3cbk170cw50fjc000c61/T/pgtest.Sgjop/data" does not exist
t/01-raii.t .............. skipped: Failed to start postgres on port 15442: Failed to open /var/folders/pz/pd7y1qjs6s3cbk170cw50fjc000c61/T/pgtest.Sgjop/data/postmaster.pid: No such file or directory at /Users/hornenj/.cpan/build/Test-PostgreSQL-1.23-0/blib/lib/Test/PostgreSQL.pm line 313.
FATAL:  could not create shared memory segment: No space left on device
DETAIL:  Failed system call was shmget(key=1, size=56, 03600).
HINT:  This error does *not* mean that you have run out of disk space.  It occurs either if all available shared memory IDs have been taken, in which case you need to raise the SHMMNI parameter in your kernel, or because the system's overall limit for shared memory has been reached.
	The PostgreSQL documentation contains more information about shared memory configuration.
child process exited with exit code 1
initdb: removing data directory "/var/folders/pz/pd7y1qjs6s3cbk170cw50fjc000c61/T/pgtest.WlkjC/data"
pg_ctl: database system initialization failed
pg_ctl: directory "/var/folders/pz/pd7y1qjs6s3cbk170cw50fjc000c61/T/pgtest.WlkjC/data" does not exist
pg_ctl: directory "/var/folders/pz/pd7y1qjs6s3cbk170cw50fjc000c61/T/pgtest.WlkjC/data" does not exist
pg_ctl: directory "/var/folders/pz/pd7y1qjs6s3cbk170cw50fjc000c61/T/pgtest.WlkjC/data" does not exist
pg_ctl: directory "/var/folders/pz/pd7y1qjs6s3cbk170cw50fjc000c61/T/pgtest.WlkjC/data" does not exist
pg_ctl: directory "/var/folders/pz/pd7y1qjs6s3cbk170cw50fjc000c61/T/pgtest.WlkjC/data" does not exist
pg_ctl: directory "/var/folders/pz/pd7y1qjs6s3cbk170cw50fjc000c61/T/pgtest.WlkjC/data" does not exist
pg_ctl: directory "/var/folders/pz/pd7y1qjs6s3cbk170cw50fjc000c61/T/pgtest.WlkjC/data" does not exist
pg_ctl: directory "/var/folders/pz/pd7y1qjs6s3cbk170cw50fjc000c61/T/pgtest.WlkjC/data" does not exist
pg_ctl: directory "/var/folders/pz/pd7y1qjs6s3cbk170cw50fjc000c61/T/pgtest.WlkjC/data" does not exist
pg_ctl: directory "/var/folders/pz/pd7y1qjs6s3cbk170cw50fjc000c61/T/pgtest.WlkjC/data" does not exist
pg_ctl: directory "/var/folders/pz/pd7y1qjs6s3cbk170cw50fjc000c61/T/pgtest.WlkjC/data" does not exist
t/02-multi.t ............. skipped: Failed to start postgres on port 15442: Failed to open /var/folders/pz/pd7y1qjs6s3cbk170cw50fjc000c61/T/pgtest.WlkjC/data/postmaster.pid: No such file or directory at /Users/hornenj/.cpan/build/Test-PostgreSQL-1.23-0/blib/lib/Test/PostgreSQL.pm line 313.
FATAL:  could not create shared memory segment: No space left on device
DETAIL:  Failed system call was shmget(key=1, size=56, 03600).
HINT:  This error does *not* mean that you have run out of disk space.  It occurs either if all available shared memory IDs have been taken, in which case you need to raise the SHMMNI parameter in your kernel, or because the system's overall limit for shared memory has been reached.
	The PostgreSQL documentation contains more information about shared memory configuration.
child process exited with exit code 1
initdb: removing data directory "/var/folders/pz/pd7y1qjs6s3cbk170cw50fjc000c61/T/pgtest.xQjap/data"
pg_ctl: database system initialization failed
pg_ctl: directory "/var/folders/pz/pd7y1qjs6s3cbk170cw50fjc000c61/T/pgtest.xQjap/data" does not exist
pg_ctl: directory "/var/folders/pz/pd7y1qjs6s3cbk170cw50fjc000c61/T/pgtest.xQjap/data" does not exist
pg_ctl: directory "/var/folders/pz/pd7y1qjs6s3cbk170cw50fjc000c61/T/pgtest.xQjap/data" does not exist
pg_ctl: directory "/var/folders/pz/pd7y1qjs6s3cbk170cw50fjc000c61/T/pgtest.xQjap/data" does not exist
pg_ctl: directory "/var/folders/pz/pd7y1qjs6s3cbk170cw50fjc000c61/T/pgtest.xQjap/data" does not exist
pg_ctl: directory "/var/folders/pz/pd7y1qjs6s3cbk170cw50fjc000c61/T/pgtest.xQjap/data" does not exist
pg_ctl: directory "/var/folders/pz/pd7y1qjs6s3cbk170cw50fjc000c61/T/pgtest.xQjap/data" does not exist
pg_ctl: directory "/var/folders/pz/pd7y1qjs6s3cbk170cw50fjc000c61/T/pgtest.xQjap/data" does not exist
pg_ctl: directory "/var/folders/pz/pd7y1qjs6s3cbk170cw50fjc000c61/T/pgtest.xQjap/data" does not exist
pg_ctl: directory "/var/folders/pz/pd7y1qjs6s3cbk170cw50fjc000c61/T/pgtest.xQjap/data" does not exist
pg_ctl: directory "/var/folders/pz/pd7y1qjs6s3cbk170cw50fjc000c61/T/pgtest.xQjap/data" does not exist
t/04-multiprocess.t ...... skipped: Failed to start postgres on port 15442: Failed to open /var/folders/pz/pd7y1qjs6s3cbk170cw50fjc000c61/T/pgtest.xQjap/data/postmaster.pid: No such file or directory at /Users/hornenj/.cpan/build/Test-PostgreSQL-1.23-0/blib/lib/Test/PostgreSQL.pm line 313.
FATAL:  could not create shared memory segment: No space left on device
DETAIL:  Failed system call was shmget(key=1, size=56, 03600).
HINT:  This error does *not* mean that you have run out of disk space.  It occurs either if all available shared memory IDs have been taken, in which case you need to raise the SHMMNI parameter in your kernel, or because the system's overall limit for shared memory has been reached.
	The PostgreSQL documentation contains more information about shared memory configuration.
child process exited with exit code 1
initdb: removing data directory "/var/folders/pz/pd7y1qjs6s3cbk170cw50fjc000c61/T/uxZqJ6DBtr/data"
pg_ctl: database system initialization failed
pg_ctl: directory "/var/folders/pz/pd7y1qjs6s3cbk170cw50fjc000c61/T/uxZqJ6DBtr/data" does not exist
pg_ctl: directory "/var/folders/pz/pd7y1qjs6s3cbk170cw50fjc000c61/T/uxZqJ6DBtr/data" does not exist
pg_ctl: directory "/var/folders/pz/pd7y1qjs6s3cbk170cw50fjc000c61/T/uxZqJ6DBtr/data" does not exist
pg_ctl: directory "/var/folders/pz/pd7y1qjs6s3cbk170cw50fjc000c61/T/uxZqJ6DBtr/data" does not exist
pg_ctl: directory "/var/folders/pz/pd7y1qjs6s3cbk170cw50fjc000c61/T/uxZqJ6DBtr/data" does not exist
pg_ctl: directory "/var/folders/pz/pd7y1qjs6s3cbk170cw50fjc000c61/T/uxZqJ6DBtr/data" does not exist
pg_ctl: directory "/var/folders/pz/pd7y1qjs6s3cbk170cw50fjc000c61/T/uxZqJ6DBtr/data" does not exist
pg_ctl: directory "/var/folders/pz/pd7y1qjs6s3cbk170cw50fjc000c61/T/uxZqJ6DBtr/data" does not exist
pg_ctl: directory "/var/folders/pz/pd7y1qjs6s3cbk170cw50fjc000c61/T/uxZqJ6DBtr/data" does not exist
pg_ctl: directory "/var/folders/pz/pd7y1qjs6s3cbk170cw50fjc000c61/T/uxZqJ6DBtr/data" does not exist
pg_ctl: directory "/var/folders/pz/pd7y1qjs6s3cbk170cw50fjc000c61/T/uxZqJ6DBtr/data" does not exist
t/05-recycle-base-dir.t .. skipped: Failed to start postgres on port 15442: Failed to open /var/folders/pz/pd7y1qjs6s3cbk170cw50fjc000c61/T/uxZqJ6DBtr/data/postmaster.pid: No such file or directory at /Users/hornenj/.cpan/build/Test-PostgreSQL-1.23-0/blib/lib/Test/PostgreSQL.pm line 313.
FATAL:  could not create shared memory segment: No space left on device
DETAIL:  Failed system call was shmget(key=1, size=56, 03600).
HINT:  This error does *not* mean that you have run out of disk space.  It occurs either if all available shared memory IDs have been taken, in which case you need to raise the SHMMNI parameter in your kernel, or because the system's overall limit for shared memory has been reached.
	The PostgreSQL documentation contains more information about shared memory configuration.
child process exited with exit code 1
initdb: removing data directory "/var/folders/pz/pd7y1qjs6s3cbk170cw50fjc000c61/T/pgtest.T9DSb/data"
pg_ctl: database system initialization failed
pg_ctl: directory "/var/folders/pz/pd7y1qjs6s3cbk170cw50fjc000c61/T/pgtest.T9DSb/data" does not exist
pg_ctl: directory "/var/folders/pz/pd7y1qjs6s3cbk170cw50fjc000c61/T/pgtest.T9DSb/data" does not exist
pg_ctl: directory "/var/folders/pz/pd7y1qjs6s3cbk170cw50fjc000c61/T/pgtest.T9DSb/data" does not exist
pg_ctl: directory "/var/folders/pz/pd7y1qjs6s3cbk170cw50fjc000c61/T/pgtest.T9DSb/data" does not exist
pg_ctl: directory "/var/folders/pz/pd7y1qjs6s3cbk170cw50fjc000c61/T/pgtest.T9DSb/data" does not exist
pg_ctl: directory "/var/folders/pz/pd7y1qjs6s3cbk170cw50fjc000c61/T/pgtest.T9DSb/data" does not exist
pg_ctl: directory "/var/folders/pz/pd7y1qjs6s3cbk170cw50fjc000c61/T/pgtest.T9DSb/data" does not exist
pg_ctl: directory "/var/folders/pz/pd7y1qjs6s3cbk170cw50fjc000c61/T/pgtest.T9DSb/data" does not exist
pg_ctl: directory "/var/folders/pz/pd7y1qjs6s3cbk170cw50fjc000c61/T/pgtest.T9DSb/data" does not exist
pg_ctl: directory "/var/folders/pz/pd7y1qjs6s3cbk170cw50fjc000c61/T/pgtest.T9DSb/data" does not exist
pg_ctl: directory "/var/folders/pz/pd7y1qjs6s3cbk170cw50fjc000c61/T/pgtest.T9DSb/data" does not exist
t/deadlock.t ............. skipped: Failed to start postgres on port 15442: Failed to open /var/folders/pz/pd7y1qjs6s3cbk170cw50fjc000c61/T/pgtest.T9DSb/data/postmaster.pid: No such file or directory at /Users/hornenj/.cpan/build/Test-PostgreSQL-1.23-0/blib/lib/Test/PostgreSQL.pm line 313.
t/pod.t .................. ok
All tests successful.
Files=7, Tests=2, 10 wallclock secs ( 0.03 usr  0.02 sys +  2.35 cusr  2.49 csys =  4.89 CPU)
Result: PASS

------------------------------
PREREQUISITES
------------------------------

Prerequisite modules loaded:

requires:

    Module               Need  Have    
    -------------------- ----- --------
  ! DBD::Pg              0     n/a     
    DBI                  0     1.636   
    File::Spec           0     3.63    
    File::Which          0     1.21    
    Function::Parameters 0     2.001001
    Moo                  0     2.003002
    perl                 5.014 5.024000
    POSIX                0     1.65    
    Tie::Hash::Method    0     0.02    
    Try::Tiny            0     0.28    
    Types::Standard      0     1.000006
    User::pwent          0     1.00    

build_requires:

    Module               Need  Have    
    -------------------- ----- --------
  ! DBD::Pg              0     n/a     
    ExtUtils::MakeMaker  6.59  7.30    
    Test::SharedFork     0.06  0.35    

configure_requires:

    Module               Need  Have    
    -------------------- ----- --------
    ExtUtils::MakeMaker  0     7.30    


------------------------------
ENVIRONMENT AND OTHER CONTEXT
------------------------------

Environment variables:

    AUTOMATED_TESTING = 1
    LANG = en_US.UTF-8
    LC_ALL = POSIX
    PATH = /Users/hornenj/perl5/perlbrew/bin:/Users/hornenj/perl5/perlbrew/perls/perl-5.24.0/bin:/Users/hornenj/perl5/perlbrew/bin:/Users/hornenj/bin:/sw/bin:/usr/bin:/bin:/usr/X11R6/bin
    PERL5LIB = /Users/hornenj/.cpan/build/Tie-Hash-Method-0.02-0/blib/arch:/Users/hornenj/.cpan/build/Tie-Hash-Method-0.02-0/blib/lib:/Users/hornenj/.cpan/build/Function-Parameters-2.001001-1/blib/arch:/Users/hornenj/.cpan/build/Function-Parameters-2.001001-1/blib/lib:/Users/hornenj/.cpan/build/Dir-Self-0.11-2/blib/arch:/Users/hornenj/.cpan/build/Dir-Self-0.11-2/blib/lib:/Users/hornenj/.cpan/build/Test-Mock-Redis-0.20-0/blib/arch:/Users/hornenj/.cpan/build/Test-Mock-Redis-0.20-0/blib/lib:/Users/hornenj/.cpan/build/Test-Deep-UnorderedPairs-0.006-0/blib/arch:/Users/hornenj/.cpan/build/Test-Deep-UnorderedPairs-0.006-0/blib/lib:/Users/hornenj/.cpan/build/Date-Utility-1.08-0/blib/arch:/Users/hornenj/.cpan/build/Date-Utility-1.08-0/blib/lib:/Users/hornenj/.cpan/build/Time-Duration-Concise-Localize-2.61-0/blib/arch:/Users/hornenj/.cpan/build/Time-Duration-Concise-Localize-2.61-0/blib/lib:/Users/hornenj/.cpan/build/Tie-Hash-LRU-0.05-0/blib/arch:/Users/hornenj/.cpan/build/Tie-Hash-LRU-0.05-0/blib/lib
    PERL5OPT = 
    PERL5_CPANPLUS_IS_RUNNING = 59971
    PERL5_CPAN_IS_RUNNING = 59971
    PERL5_MINISMOKEBOX = 0.68
    PERLBREW_BASHRC_VERSION = 0.80
    PERLBREW_HOME = /Users/hornenj/.perlbrew
    PERLBREW_LIB = 
    PERLBREW_MANPATH = /Users/hornenj/perl5/perlbrew/perls/perl-5.24.0/man
    PERLBREW_PATH = /Users/hornenj/perl5/perlbrew/bin:/Users/hornenj/perl5/perlbrew/perls/perl-5.24.0/bin
    PERLBREW_PERL = perl-5.24.0
    PERLBREW_ROOT = /Users/hornenj/perl5/perlbrew
    PERLBREW_VERSION = 0.80
    PERL_EXTUTILS_AUTOINSTALL = --defaultdeps
    PERL_LOCAL_LIB_ROOT = 
    PERL_MM_USE_DEFAULT = 1
    SHELL = /bin/bash
    TERM = xterm-256color
    TMPDIR = /var/folders/pz/pd7y1qjs6s3cbk170cw50fjc000c61/T/

Perl special variables (and OS-specific diagnostics, for MSWin32):

    $^X = /Users/hornenj/perl5/perlbrew/perls/perl-5.24.0/bin/perl5.24.0
    $UID/$EUID = 12481 / 12481
    $GID = 14 14 5344 37191 527 12 62 204 399 206 37223 241 223
    $EGID = 14 14 5344 37191 527 12 62 204 399 206 37223 241 223

Perl module toolchain versions installed:

    Module              Have    
    ------------------- --------
    CPAN                2.16    
    CPAN::Meta          2.150010
    Cwd                 3.63    
    ExtUtils::CBuilder  0.280225
    ExtUtils::Command   7.30    
    ExtUtils::Install   2.08    
    ExtUtils::MakeMaker 7.30    
    ExtUtils::Manifest  1.70    
    ExtUtils::ParseXS   3.31    
    File::Spec          3.63    
    JSON                2.93    
    JSON::PP            2.27400 
    Module::Build       0.4222  
    Module::Signature   n/a     
    Parse::CPAN::Meta   2.150010
    Test::Harness       3.39    
    Test::More          1.302103
    YAML                1.23    
    YAML::Syck          1.30    
    version             0.9918  


--

Summary of my perl5 (revision 5 version 24 subversion 0) configuration:
   
  Platform:
    osname=darwin, osvers=15.4.0, archname=darwin-thread-multi-2level
    uname='darwin ncbimac2027 15.4.0 darwin kernel version 15.4.0: fri feb 26 22:08:05 pst 2016; root:xnu-3248.40.184~3release_x86_64 x86_64 '
    config_args='-de -Dprefix=/Users/hornenj/perl5/perlbrew/perls/perl-5.24.0 -Duseithreads -Dusemultiplicity -Dusedevel -Accflags=-O2 -W -Wformat=2 -Wswitch -Wshadow -Wwrite-strings -Wuninitialized -Wall -pipe -mtune=native -march=native -fomit-frame-pointer -msse2 -msse -mmmx -pedantic -D_FORTIFY_SOURCE=2 -Wpointer-arith -Wstrict-prototypes -fstack-protector -Wstack-protector -Wextra -Wbad-function-cast -Wcast-align -Wcast-qual -Wdisabled-optimization -Wendif-labels -Wfloat-equal -Wformat-nonliteral -Winline -Wmissing-declarations -Wmissing-prototypes -Wnested-externs -Wpointer-arith -Wundef -Wformat-security -fassociative-math -Acc=cc -Aeval:scriptdir=/Users/hornenj/perl5/perlbrew/perls/perl-5.24.0/bin'
    hint=recommended, useposix=true, d_sigaction=define
    useithreads=define, usemultiplicity=define
    use64bitint=define, use64bitall=define, uselongdouble=undef
    usemymalloc=n, bincompat5005=undef
  Compiler:
    cc=' cc', ccflags ='-fno-common -DPERL_DARWIN -O2 -W -Wformat=2 -Wswitch -Wshadow -Wwrite-strings -Wuninitialized -Wall -pipe -mtune=native -march=native -fomit-frame-pointer -msse2 -msse -mmmx -pedantic -D_FORTIFY_SOURCE=2 -Wpointer-arith -Wstrict-prototypes -fstack-protector -Wstack-protector -Wextra -Wbad-function-cast -Wcast-align -Wcast-qual -Wdisabled-optimization -Wendif-labels -Wfloat-equal -Wformat-nonliteral -Winline -Wmissing-declarations -Wmissing-prototypes -Wnested-externs -Wpointer-arith -Wundef -Wformat-security -fassociative-math -fno-strict-aliasing -fstack-protector-strong -I/usr/local/include',
    optimize='-O3',
    cppflags='-fno-common -DPERL_DARWIN -O2 -W -Wformat=2 -Wswitch -Wshadow -Wwrite-strings -Wuninitialized -Wall -pipe -mtune=native -march=native -fomit-frame-pointer -msse2 -msse -mmmx -pedantic -D_FORTIFY_SOURCE=2 -Wpointer-arith -Wstrict-prototypes -fstack-protector -Wstack-protector -Wextra -Wbad-function-cast -Wcast-align -Wcast-qual -Wdisabled-optimization -Wendif-labels -Wfloat-equal -Wformat-nonliteral -Winline -Wmissing-declarations -Wmissing-prototypes -Wnested-externs -Wpointer-arith -Wundef -Wformat-security -fassociative-math -fno-strict-aliasing -fstack-protector-strong -I/usr/local/include'
    ccversion='', gccversion='4.2.1 Compatible Apple LLVM 7.3.0 (clang-703.0.31)', gccosandvers=''
    intsize=4, longsize=8, ptrsize=8, doublesize=8, byteorder=12345678, doublekind=3
    d_longlong=define, longlongsize=8, d_longdbl=define, longdblsize=16, longdblkind=3
    ivtype='long', ivsize=8, nvtype='double', nvsize=8, Off_t='off_t', lseeksize=8
    alignbytes=8, prototype=define
  Linker and Libraries:
    ld='env MACOSX_DEPLOYMENT_TARGET=10.3 cc', ldflags =' -fstack-protector-strong -L/usr/local/lib'
    libpth=/usr/local/lib /Applications/Xcode.app/Contents/Developer/Toolchains/XcodeDefault.xctoolchain/usr/bin/../lib/clang/7.3.0/lib /Applications/Xcode.app/Contents/Developer/Toolchains/XcodeDefault.xctoolchain/usr/lib /usr/lib
    libs=-lpthread -ldbm -ldl -lm -lutil -lc
    perllibs=-lpthread -ldl -lm -lutil -lc
    libc=, so=dylib, useshrplib=false, libperl=libperl.a
    gnulibc_version=''
  Dynamic Linking:
    dlsrc=dl_dlopen.xs, dlext=bundle, d_dlsymun=undef, ccdlflags=' '
    cccdlflags=' ', lddlflags=' -bundle -undefined dynamic_lookup -L/usr/local/lib -fstack-protector-strong'


Characteristics of this binary (from libperl): 
  Compile-time options: HAS_TIMES MULTIPLICITY PERLIO_LAYERS
                        PERL_COPY_ON_WRITE PERL_DONT_CREATE_GVSV
                        PERL_HASH_FUNC_ONE_AT_A_TIME_HARD
                        PERL_IMPLICIT_CONTEXT PERL_MALLOC_WRAP
                        PERL_PRESERVE_IVUV PERL_USE_DEVEL USE_64_BIT_ALL
                        USE_64_BIT_INT USE_ITHREADS USE_LARGE_FILES
                        USE_LOCALE USE_LOCALE_COLLATE USE_LOCALE_CTYPE
                        USE_LOCALE_NUMERIC USE_LOCALE_TIME USE_PERLIO
                        USE_PERL_ATOF USE_REENTRANT_API
  Locally applied patches:
	Devel::PatchPerl 1.30
  Built under darwin
  Compiled at May 10 2016 14:06:06
  %ENV:
    PERL5LIB="/Users/hornenj/.cpan/build/Tie-Hash-Method-0.02-0/blib/arch:/Users/hornenj/.cpan/build/Tie-Hash-Method-0.02-0/blib/lib:/Users/hornenj/.cpan/build/Function-Parameters-2.001001-1/blib/arch:/Users/hornenj/.cpan/build/Function-Parameters-2.001001-1/blib/lib:/Users/hornenj/.cpan/build/Dir-Self-0.11-2/blib/arch:/Users/hornenj/.cpan/build/Dir-Self-0.11-2/blib/lib:/Users/hornenj/.cpan/build/Test-Mock-Redis-0.20-0/blib/arch:/Users/hornenj/.cpan/build/Test-Mock-Redis-0.20-0/blib/lib:/Users/hornenj/.cpan/build/Test-Deep-UnorderedPairs-0.006-0/blib/arch:/Users/hornenj/.cpan/build/Test-Deep-UnorderedPairs-0.006-0/blib/lib:/Users/hornenj/.cpan/build/Date-Utility-1.08-0/blib/arch:/Users/hornenj/.cpan/build/Date-Utility-1.08-0/blib/lib:/Users/hornenj/.cpan/build/Time-Duration-Concise-Localize-2.61-0/blib/arch:/Users/hornenj/.cpan/build/Time-Duration-Concise-Localize-2.61-0/blib/lib:/Users/hornenj/.cpan/build/Tie-Hash-LRU-0.05-0/blib/arch:/Users/hornenj/.cpan/build/Tie-Hash-LRU-0.05-0/blib/lib"
    PERL5OPT=""
    PERL5_CPANPLUS_IS_RUNNING="59971"
    PERL5_CPAN_IS_RUNNING="59971"
    PERL5_MINISMOKEBOX="0.68"
    PERLBREW_BASHRC_VERSION="0.80"
    PERLBREW_HOME="/Users/hornenj/.perlbrew"
    PERLBREW_LIB=""
    PERLBREW_MANPATH="/Users/hornenj/perl5/perlbrew/perls/perl-5.24.0/man"
    PERLBREW_PATH="/Users/hornenj/perl5/perlbrew/bin:/Users/hornenj/perl5/perlbrew/perls/perl-5.24.0/bin"
    PERLBREW_PERL="perl-5.24.0"
    PERLBREW_ROOT="/Users/hornenj/perl5/perlbrew"
    PERLBREW_VERSION="0.80"
    PERL_EXTUTILS_AUTOINSTALL="--defaultdeps"
    PERL_LOCAL_LIB_ROOT=""
    PERL_MM_USE_DEFAULT="1"
  @INC:
    /Users/hornenj/.cpan/build/Tie-Hash-Method-0.02-0/blib/arch
    /Users/hornenj/.cpan/build/Tie-Hash-Method-0.02-0/blib/lib
    /Users/hornenj/.cpan/build/Function-Parameters-2.001001-1/blib/arch
    /Users/hornenj/.cpan/build/Function-Parameters-2.001001-1/blib/lib
    /Users/hornenj/.cpan/build/Dir-Self-0.11-2/blib/arch
    /Users/hornenj/.cpan/build/Dir-Self-0.11-2/blib/lib
    /Users/hornenj/.cpan/build/Test-Mock-Redis-0.20-0/blib/arch
    /Users/hornenj/.cpan/build/Test-Mock-Redis-0.20-0/blib/lib
    /Users/hornenj/.cpan/build/Test-Deep-UnorderedPairs-0.006-0/blib/arch
    /Users/hornenj/.cpan/build/Test-Deep-UnorderedPairs-0.006-0/blib/lib
    /Users/hornenj/.cpan/build/Date-Utility-1.08-0/blib/arch
    /Users/hornenj/.cpan/build/Date-Utility-1.08-0/blib/lib
    /Users/hornenj/.cpan/build/Time-Duration-Concise-Localize-2.61-0/blib/arch
    /Users/hornenj/.cpan/build/Time-Duration-Concise-Localize-2.61-0/blib/lib
    /Users/hornenj/.cpan/build/Tie-Hash-LRU-0.05-0/blib/arch
    /Users/hornenj/.cpan/build/Tie-Hash-LRU-0.05-0/blib/lib
    /Users/hornenj/perl5/perlbrew/perls/perl-5.24.0/lib/site_perl/5.24.0/darwin-thread-multi-2level
    /Users/hornenj/perl5/perlbrew/perls/perl-5.24.0/lib/site_perl/5.24.0
    /Users/hornenj/perl5/perlbrew/perls/perl-5.24.0/lib/5.24.0/darwin-thread-multi-2level
    /Users/hornenj/perl5/perlbrew/perls/perl-5.24.0/lib/5.24.0
    .