HTTP-AnyUA v0.904 Perl 5 v5.10.1 x86_64-linux

Status
Pass
From
Chris Williams (BINGOS)
Dist
HTTP-AnyUA v0.904
Platform
Perl 5 v5.10.1 x86_64-linux
Date
2021-04-04 07:50:52
ID
7a8a5b80-951a-11eb-84bc-edd243e66a77
This distribution has been tested as part of the CPAN Testers
project, supporting the Perl programming language.  See
http://wiki.cpantesters.org/ for more information or email
questions to cpan-testers-discuss@perl.org


--

Dear Charles McGarvey,

This is a computer-generated error report created automatically by
CPANPLUS, version 0.9910. Testers personal comments may appear
at the end of this report.


Thank you for uploading your work to CPAN.  Congratulations!
All tests were successful.

TEST RESULTS:

Below is the error stack from stage 'make test':

PERL_DL_NONLAZY=1 "/home/cpan/pit/bare/perl-5.10.1/bin/perl" "-MExtUtils::Command::MM" "-MTest::Harness" "-e" "undef *Test::Harness::Switches; test_harness(0, 'blib/lib', 'blib/arch')" t/*.t
t/00-compile.t ..................... ok
# 
# Versions for all modules listed in MYMETA.json (including optional ones):
# 
# === Configure Requires ===
# 
#     Module              Want Have
#     ------------------- ---- ----
#     ExtUtils::MakeMaker  any 7.60
# 
# === Build Requires ===
# 
#     Module              Want Have
#     ------------------- ---- ----
#     ExtUtils::MakeMaker  any 7.60
# 
# === Test Requires ===
# 
#     Module              Want     Have
#     ------------------- ---- --------
#     ExtUtils::MakeMaker  any     7.60
#     File::Spec           any     3.75
#     IO::Handle           any     1.28
#     IPC::Open3           any     1.04
#     Test2::API           any 1.302183
#     Test::Exception      any     0.43
#     Test::More           any 1.302183
#     lib                  any     0.62
#     namespace::clean     any     0.27
# 
# === Test Recommends ===
# 
#     Module         Want     Have
#     ---------- -------- --------
#     CPAN::Meta 2.120900 2.150010
# 
# === Test Suggests ===
# 
#     Module          Want    Have
#     --------------- ---- -------
#     AnyEvent::HTTP   any missing
#     Furl             any missing
#     HTTP::Tiny       any missing
#     JSON             any missing
#     LWP::UserAgent   any missing
#     Mojo::UserAgent  any missing
#     Net::Curl::Easy  any missing
#     Plack::Runner    any missing
#     Starman          any missing
# 
# === Runtime Requires ===
# 
#     Module         Want   Have
#     -------------- ---- ------
#     Carp            any   1.50
#     Exporter        any   5.63
#     Fcntl           any   1.06
#     Future          any   0.47
#     MIME::Base64    any   3.08
#     Module::Loader  any   0.04
#     Scalar::Util    any   1.21
#     Time::HiRes     any 1.9719
#     Time::Local     any 1.1901
#     bytes           any   1.03
#     parent          any  0.221
#     strict          any   1.04
#     warnings        any   1.06
# 
# === Runtime Recommends ===
# 
#     Module     Want    Have
#     ---------- ---- -------
#     HTTP::Tiny  any missing
# 
t/00-report-prereqs.t .............. ok
t/01-new.t ......................... ok
t/02-shortcuts.t ................... ok
t/03-post_form.t ................... ok
    # Can't locate AnyEvent/HTTP.pm in @INC (@INC contains: t/lib /home/cpan/pit/bare/conf/perl-5.10.1/.cpanplus/5.10.1/build/bJ006YYbw4/HTTP-AnyUA-0.904/blib/lib /home/cpan/pit/bare/conf/perl-5.10.1/.cpanplus/5.10.1/build/bJ006YYbw4/HTTP-AnyUA-0.904/blib/arch /home/cpan/pit/jail/JSXHkdUfeV/lib/perl5/5.10.1/x86_64-linux /home/cpan/pit/jail/JSXHkdUfeV/lib/perl5/5.10.1 /home/cpan/pit/jail/JSXHkdUfeV/lib/perl5/x86_64-linux /home/cpan/pit/jail/JSXHkdUfeV/lib/perl5 /home/cpan/pit/bare/perl-5.10.1/lib/5.10.1/x86_64-linux /home/cpan/pit/bare/perl-5.10.1/lib/5.10.1 /home/cpan/pit/bare/perl-5.10.1/lib/site_perl/5.10.1/x86_64-linux /home/cpan/pit/bare/perl-5.10.1/lib/site_perl/5.10.1 .) at (eval 43) line 3.
    # Can't locate Furl.pm in @INC (@INC contains: t/lib /home/cpan/pit/bare/conf/perl-5.10.1/.cpanplus/5.10.1/build/bJ006YYbw4/HTTP-AnyUA-0.904/blib/lib /home/cpan/pit/bare/conf/perl-5.10.1/.cpanplus/5.10.1/build/bJ006YYbw4/HTTP-AnyUA-0.904/blib/arch /home/cpan/pit/jail/JSXHkdUfeV/lib/perl5/5.10.1/x86_64-linux /home/cpan/pit/jail/JSXHkdUfeV/lib/perl5/5.10.1 /home/cpan/pit/jail/JSXHkdUfeV/lib/perl5/x86_64-linux /home/cpan/pit/jail/JSXHkdUfeV/lib/perl5 /home/cpan/pit/bare/perl-5.10.1/lib/5.10.1/x86_64-linux /home/cpan/pit/bare/perl-5.10.1/lib/5.10.1 /home/cpan/pit/bare/perl-5.10.1/lib/site_perl/5.10.1/x86_64-linux /home/cpan/pit/bare/perl-5.10.1/lib/site_perl/5.10.1 .) at (eval 44) line 3.
    # Can't locate HTTP/Tiny.pm in @INC (@INC contains: t/lib /home/cpan/pit/bare/conf/perl-5.10.1/.cpanplus/5.10.1/build/bJ006YYbw4/HTTP-AnyUA-0.904/blib/lib /home/cpan/pit/bare/conf/perl-5.10.1/.cpanplus/5.10.1/build/bJ006YYbw4/HTTP-AnyUA-0.904/blib/arch /home/cpan/pit/jail/JSXHkdUfeV/lib/perl5/5.10.1/x86_64-linux /home/cpan/pit/jail/JSXHkdUfeV/lib/perl5/5.10.1 /home/cpan/pit/jail/JSXHkdUfeV/lib/perl5/x86_64-linux /home/cpan/pit/jail/JSXHkdUfeV/lib/perl5 /home/cpan/pit/bare/perl-5.10.1/lib/5.10.1/x86_64-linux /home/cpan/pit/bare/perl-5.10.1/lib/5.10.1 /home/cpan/pit/bare/perl-5.10.1/lib/site_perl/5.10.1/x86_64-linux /home/cpan/pit/bare/perl-5.10.1/lib/site_perl/5.10.1 .) at (eval 45) line 3.
    # Can't locate LWP/UserAgent.pm in @INC (@INC contains: t/lib /home/cpan/pit/bare/conf/perl-5.10.1/.cpanplus/5.10.1/build/bJ006YYbw4/HTTP-AnyUA-0.904/blib/lib /home/cpan/pit/bare/conf/perl-5.10.1/.cpanplus/5.10.1/build/bJ006YYbw4/HTTP-AnyUA-0.904/blib/arch /home/cpan/pit/jail/JSXHkdUfeV/lib/perl5/5.10.1/x86_64-linux /home/cpan/pit/jail/JSXHkdUfeV/lib/perl5/5.10.1 /home/cpan/pit/jail/JSXHkdUfeV/lib/perl5/x86_64-linux /home/cpan/pit/jail/JSXHkdUfeV/lib/perl5 /home/cpan/pit/bare/perl-5.10.1/lib/5.10.1/x86_64-linux /home/cpan/pit/bare/perl-5.10.1/lib/5.10.1 /home/cpan/pit/bare/perl-5.10.1/lib/site_perl/5.10.1/x86_64-linux /home/cpan/pit/bare/perl-5.10.1/lib/site_perl/5.10.1 .) at (eval 46) line 3.
    # Can't locate Mojo/UserAgent.pm in @INC (@INC contains: t/lib /home/cpan/pit/bare/conf/perl-5.10.1/.cpanplus/5.10.1/build/bJ006YYbw4/HTTP-AnyUA-0.904/blib/lib /home/cpan/pit/bare/conf/perl-5.10.1/.cpanplus/5.10.1/build/bJ006YYbw4/HTTP-AnyUA-0.904/blib/arch /home/cpan/pit/jail/JSXHkdUfeV/lib/perl5/5.10.1/x86_64-linux /home/cpan/pit/jail/JSXHkdUfeV/lib/perl5/5.10.1 /home/cpan/pit/jail/JSXHkdUfeV/lib/perl5/x86_64-linux /home/cpan/pit/jail/JSXHkdUfeV/lib/perl5 /home/cpan/pit/bare/perl-5.10.1/lib/5.10.1/x86_64-linux /home/cpan/pit/bare/perl-5.10.1/lib/5.10.1 /home/cpan/pit/bare/perl-5.10.1/lib/site_perl/5.10.1/x86_64-linux /home/cpan/pit/bare/perl-5.10.1/lib/site_perl/5.10.1 .) at (eval 47) line 3.
    # Can't locate Net/Curl/Easy.pm in @INC (@INC contains: t/lib /home/cpan/pit/bare/conf/perl-5.10.1/.cpanplus/5.10.1/build/bJ006YYbw4/HTTP-AnyUA-0.904/blib/lib /home/cpan/pit/bare/conf/perl-5.10.1/.cpanplus/5.10.1/build/bJ006YYbw4/HTTP-AnyUA-0.904/blib/arch /home/cpan/pit/jail/JSXHkdUfeV/lib/perl5/5.10.1/x86_64-linux /home/cpan/pit/jail/JSXHkdUfeV/lib/perl5/5.10.1 /home/cpan/pit/jail/JSXHkdUfeV/lib/perl5/x86_64-linux /home/cpan/pit/jail/JSXHkdUfeV/lib/perl5 /home/cpan/pit/bare/perl-5.10.1/lib/5.10.1/x86_64-linux /home/cpan/pit/bare/perl-5.10.1/lib/5.10.1 /home/cpan/pit/bare/perl-5.10.1/lib/site_perl/5.10.1/x86_64-linux /home/cpan/pit/bare/perl-5.10.1/lib/site_perl/5.10.1 .) at (eval 48) line 3.
t/04-internal-exception.t .......... ok
# Can't locate Plack/Runner.pm in @INC (@INC contains: t/lib /home/cpan/pit/bare/conf/perl-5.10.1/.cpanplus/5.10.1/build/bJ006YYbw4/HTTP-AnyUA-0.904/blib/lib /home/cpan/pit/bare/conf/perl-5.10.1/.cpanplus/5.10.1/build/bJ006YYbw4/HTTP-AnyUA-0.904/blib/arch /home/cpan/pit/jail/JSXHkdUfeV/lib/perl5/5.10.1/x86_64-linux /home/cpan/pit/jail/JSXHkdUfeV/lib/perl5/5.10.1 /home/cpan/pit/jail/JSXHkdUfeV/lib/perl5/x86_64-linux /home/cpan/pit/jail/JSXHkdUfeV/lib/perl5 /home/cpan/pit/bare/perl-5.10.1/lib/5.10.1/x86_64-linux /home/cpan/pit/bare/perl-5.10.1/lib/5.10.1 /home/cpan/pit/bare/perl-5.10.1/lib/site_perl/5.10.1/x86_64-linux /home/cpan/pit/bare/perl-5.10.1/lib/site_perl/5.10.1 .) at t/lib/Server.pm line 20.
# BEGIN failed--compilation aborted at t/lib/Server.pm line 20.
# Compilation failed in require at (eval 43) line 2.
# BEGIN failed--compilation aborted at (eval 43) line 2.
t/10-get.t ......................... skipped: Could not compile test server runner.
# Can't locate Plack/Runner.pm in @INC (@INC contains: t/lib /home/cpan/pit/bare/conf/perl-5.10.1/.cpanplus/5.10.1/build/bJ006YYbw4/HTTP-AnyUA-0.904/blib/lib /home/cpan/pit/bare/conf/perl-5.10.1/.cpanplus/5.10.1/build/bJ006YYbw4/HTTP-AnyUA-0.904/blib/arch /home/cpan/pit/jail/JSXHkdUfeV/lib/perl5/5.10.1/x86_64-linux /home/cpan/pit/jail/JSXHkdUfeV/lib/perl5/5.10.1 /home/cpan/pit/jail/JSXHkdUfeV/lib/perl5/x86_64-linux /home/cpan/pit/jail/JSXHkdUfeV/lib/perl5 /home/cpan/pit/bare/perl-5.10.1/lib/5.10.1/x86_64-linux /home/cpan/pit/bare/perl-5.10.1/lib/5.10.1 /home/cpan/pit/bare/perl-5.10.1/lib/site_perl/5.10.1/x86_64-linux /home/cpan/pit/bare/perl-5.10.1/lib/site_perl/5.10.1 .) at t/lib/Server.pm line 20.
# BEGIN failed--compilation aborted at t/lib/Server.pm line 20.
# Compilation failed in require at (eval 43) line 2.
# BEGIN failed--compilation aborted at (eval 43) line 2.
t/11-post.t ........................ skipped: Could not compile test server runner.
# Can't locate Plack/Runner.pm in @INC (@INC contains: t/lib /home/cpan/pit/bare/conf/perl-5.10.1/.cpanplus/5.10.1/build/bJ006YYbw4/HTTP-AnyUA-0.904/blib/lib /home/cpan/pit/bare/conf/perl-5.10.1/.cpanplus/5.10.1/build/bJ006YYbw4/HTTP-AnyUA-0.904/blib/arch /home/cpan/pit/jail/JSXHkdUfeV/lib/perl5/5.10.1/x86_64-linux /home/cpan/pit/jail/JSXHkdUfeV/lib/perl5/5.10.1 /home/cpan/pit/jail/JSXHkdUfeV/lib/perl5/x86_64-linux /home/cpan/pit/jail/JSXHkdUfeV/lib/perl5 /home/cpan/pit/bare/perl-5.10.1/lib/5.10.1/x86_64-linux /home/cpan/pit/bare/perl-5.10.1/lib/5.10.1 /home/cpan/pit/bare/perl-5.10.1/lib/site_perl/5.10.1/x86_64-linux /home/cpan/pit/bare/perl-5.10.1/lib/site_perl/5.10.1 .) at t/lib/Server.pm line 20.
# BEGIN failed--compilation aborted at t/lib/Server.pm line 20.
# Compilation failed in require at (eval 43) line 2.
# BEGIN failed--compilation aborted at (eval 43) line 2.
t/12-put.t ......................... skipped: Could not compile test server runner.
# Can't locate Plack/Runner.pm in @INC (@INC contains: t/lib /home/cpan/pit/bare/conf/perl-5.10.1/.cpanplus/5.10.1/build/bJ006YYbw4/HTTP-AnyUA-0.904/blib/lib /home/cpan/pit/bare/conf/perl-5.10.1/.cpanplus/5.10.1/build/bJ006YYbw4/HTTP-AnyUA-0.904/blib/arch /home/cpan/pit/jail/JSXHkdUfeV/lib/perl5/5.10.1/x86_64-linux /home/cpan/pit/jail/JSXHkdUfeV/lib/perl5/5.10.1 /home/cpan/pit/jail/JSXHkdUfeV/lib/perl5/x86_64-linux /home/cpan/pit/jail/JSXHkdUfeV/lib/perl5 /home/cpan/pit/bare/perl-5.10.1/lib/5.10.1/x86_64-linux /home/cpan/pit/bare/perl-5.10.1/lib/5.10.1 /home/cpan/pit/bare/perl-5.10.1/lib/site_perl/5.10.1/x86_64-linux /home/cpan/pit/bare/perl-5.10.1/lib/site_perl/5.10.1 .) at t/lib/Server.pm line 20.
# BEGIN failed--compilation aborted at t/lib/Server.pm line 20.
# Compilation failed in require at (eval 43) line 2.
# BEGIN failed--compilation aborted at (eval 43) line 2.
t/13-head.t ........................ skipped: Could not compile test server runner.
# Can't locate Plack/Runner.pm in @INC (@INC contains: t/lib /home/cpan/pit/bare/conf/perl-5.10.1/.cpanplus/5.10.1/build/bJ006YYbw4/HTTP-AnyUA-0.904/blib/lib /home/cpan/pit/bare/conf/perl-5.10.1/.cpanplus/5.10.1/build/bJ006YYbw4/HTTP-AnyUA-0.904/blib/arch /home/cpan/pit/jail/JSXHkdUfeV/lib/perl5/5.10.1/x86_64-linux /home/cpan/pit/jail/JSXHkdUfeV/lib/perl5/5.10.1 /home/cpan/pit/jail/JSXHkdUfeV/lib/perl5/x86_64-linux /home/cpan/pit/jail/JSXHkdUfeV/lib/perl5 /home/cpan/pit/bare/perl-5.10.1/lib/5.10.1/x86_64-linux /home/cpan/pit/bare/perl-5.10.1/lib/5.10.1 /home/cpan/pit/bare/perl-5.10.1/lib/site_perl/5.10.1/x86_64-linux /home/cpan/pit/bare/perl-5.10.1/lib/site_perl/5.10.1 .) at t/lib/Server.pm line 20.
# BEGIN failed--compilation aborted at t/lib/Server.pm line 20.
# Compilation failed in require at (eval 43) line 2.
# BEGIN failed--compilation aborted at (eval 43) line 2.
t/14-delete.t ...................... skipped: Could not compile test server runner.
# Can't locate Plack/Runner.pm in @INC (@INC contains: t/lib /home/cpan/pit/bare/conf/perl-5.10.1/.cpanplus/5.10.1/build/bJ006YYbw4/HTTP-AnyUA-0.904/blib/lib /home/cpan/pit/bare/conf/perl-5.10.1/.cpanplus/5.10.1/build/bJ006YYbw4/HTTP-AnyUA-0.904/blib/arch /home/cpan/pit/jail/JSXHkdUfeV/lib/perl5/5.10.1/x86_64-linux /home/cpan/pit/jail/JSXHkdUfeV/lib/perl5/5.10.1 /home/cpan/pit/jail/JSXHkdUfeV/lib/perl5/x86_64-linux /home/cpan/pit/jail/JSXHkdUfeV/lib/perl5 /home/cpan/pit/bare/perl-5.10.1/lib/5.10.1/x86_64-linux /home/cpan/pit/bare/perl-5.10.1/lib/5.10.1 /home/cpan/pit/bare/perl-5.10.1/lib/site_perl/5.10.1/x86_64-linux /home/cpan/pit/bare/perl-5.10.1/lib/site_perl/5.10.1 .) at t/lib/Server.pm line 20.
# BEGIN failed--compilation aborted at t/lib/Server.pm line 20.
# Compilation failed in require at (eval 43) line 2.
# BEGIN failed--compilation aborted at (eval 43) line 2.
t/15-custom-method.t ............... skipped: Could not compile test server runner.
# Can't locate Plack/Runner.pm in @INC (@INC contains: t/lib /home/cpan/pit/bare/conf/perl-5.10.1/.cpanplus/5.10.1/build/bJ006YYbw4/HTTP-AnyUA-0.904/blib/lib /home/cpan/pit/bare/conf/perl-5.10.1/.cpanplus/5.10.1/build/bJ006YYbw4/HTTP-AnyUA-0.904/blib/arch /home/cpan/pit/jail/JSXHkdUfeV/lib/perl5/5.10.1/x86_64-linux /home/cpan/pit/jail/JSXHkdUfeV/lib/perl5/5.10.1 /home/cpan/pit/jail/JSXHkdUfeV/lib/perl5/x86_64-linux /home/cpan/pit/jail/JSXHkdUfeV/lib/perl5 /home/cpan/pit/bare/perl-5.10.1/lib/5.10.1/x86_64-linux /home/cpan/pit/bare/perl-5.10.1/lib/5.10.1 /home/cpan/pit/bare/perl-5.10.1/lib/site_perl/5.10.1/x86_64-linux /home/cpan/pit/bare/perl-5.10.1/lib/site_perl/5.10.1 .) at t/lib/Server.pm line 20.
# BEGIN failed--compilation aborted at t/lib/Server.pm line 20.
# Compilation failed in require at (eval 43) line 2.
# BEGIN failed--compilation aborted at (eval 43) line 2.
t/20-data_callback.t ............... skipped: Could not compile test server runner.
# Can't locate Plack/Runner.pm in @INC (@INC contains: t/lib /home/cpan/pit/bare/conf/perl-5.10.1/.cpanplus/5.10.1/build/bJ006YYbw4/HTTP-AnyUA-0.904/blib/lib /home/cpan/pit/bare/conf/perl-5.10.1/.cpanplus/5.10.1/build/bJ006YYbw4/HTTP-AnyUA-0.904/blib/arch /home/cpan/pit/jail/JSXHkdUfeV/lib/perl5/5.10.1/x86_64-linux /home/cpan/pit/jail/JSXHkdUfeV/lib/perl5/5.10.1 /home/cpan/pit/jail/JSXHkdUfeV/lib/perl5/x86_64-linux /home/cpan/pit/jail/JSXHkdUfeV/lib/perl5 /home/cpan/pit/bare/perl-5.10.1/lib/5.10.1/x86_64-linux /home/cpan/pit/bare/perl-5.10.1/lib/5.10.1 /home/cpan/pit/bare/perl-5.10.1/lib/site_perl/5.10.1/x86_64-linux /home/cpan/pit/bare/perl-5.10.1/lib/site_perl/5.10.1 .) at t/lib/Server.pm line 20.
# BEGIN failed--compilation aborted at t/lib/Server.pm line 20.
# Compilation failed in require at (eval 43) line 2.
# BEGIN failed--compilation aborted at (eval 43) line 2.
t/21-basic-auth.t .................. skipped: Could not compile test server runner.
# Can't locate Plack/Runner.pm in @INC (@INC contains: t/lib /home/cpan/pit/bare/conf/perl-5.10.1/.cpanplus/5.10.1/build/bJ006YYbw4/HTTP-AnyUA-0.904/blib/lib /home/cpan/pit/bare/conf/perl-5.10.1/.cpanplus/5.10.1/build/bJ006YYbw4/HTTP-AnyUA-0.904/blib/arch /home/cpan/pit/jail/JSXHkdUfeV/lib/perl5/5.10.1/x86_64-linux /home/cpan/pit/jail/JSXHkdUfeV/lib/perl5/5.10.1 /home/cpan/pit/jail/JSXHkdUfeV/lib/perl5/x86_64-linux /home/cpan/pit/jail/JSXHkdUfeV/lib/perl5 /home/cpan/pit/bare/perl-5.10.1/lib/5.10.1/x86_64-linux /home/cpan/pit/bare/perl-5.10.1/lib/5.10.1 /home/cpan/pit/bare/perl-5.10.1/lib/site_perl/5.10.1/x86_64-linux /home/cpan/pit/bare/perl-5.10.1/lib/site_perl/5.10.1 .) at t/lib/Server.pm line 20.
# BEGIN failed--compilation aborted at t/lib/Server.pm line 20.
# Compilation failed in require at (eval 43) line 2.
# BEGIN failed--compilation aborted at (eval 43) line 2.
t/22-redirects.t ................... skipped: Could not compile test server runner.
# Can't locate Plack/Runner.pm in @INC (@INC contains: t/lib /home/cpan/pit/bare/conf/perl-5.10.1/.cpanplus/5.10.1/build/bJ006YYbw4/HTTP-AnyUA-0.904/blib/lib /home/cpan/pit/bare/conf/perl-5.10.1/.cpanplus/5.10.1/build/bJ006YYbw4/HTTP-AnyUA-0.904/blib/arch /home/cpan/pit/jail/JSXHkdUfeV/lib/perl5/5.10.1/x86_64-linux /home/cpan/pit/jail/JSXHkdUfeV/lib/perl5/5.10.1 /home/cpan/pit/jail/JSXHkdUfeV/lib/perl5/x86_64-linux /home/cpan/pit/jail/JSXHkdUfeV/lib/perl5 /home/cpan/pit/bare/perl-5.10.1/lib/5.10.1/x86_64-linux /home/cpan/pit/bare/perl-5.10.1/lib/5.10.1 /home/cpan/pit/bare/perl-5.10.1/lib/site_perl/5.10.1/x86_64-linux /home/cpan/pit/bare/perl-5.10.1/lib/site_perl/5.10.1 .) at t/lib/Server.pm line 20.
# BEGIN failed--compilation aborted at t/lib/Server.pm line 20.
# Compilation failed in require at (eval 43) line 2.
# BEGIN failed--compilation aborted at (eval 43) line 2.
t/23-content-coderef.t ............. skipped: Could not compile test server runner.
t/40-middleware-content-length.t ... ok
t/40-middleware-request-headers.t .. ok
t/40-middleware-runtime.t .......... ok
    # Can't locate Mojo/UserAgent.pm in @INC (@INC contains: t/lib /home/cpan/pit/bare/conf/perl-5.10.1/.cpanplus/5.10.1/build/bJ006YYbw4/HTTP-AnyUA-0.904/blib/lib /home/cpan/pit/bare/conf/perl-5.10.1/.cpanplus/5.10.1/build/bJ006YYbw4/HTTP-AnyUA-0.904/blib/arch /home/cpan/pit/jail/JSXHkdUfeV/lib/perl5/5.10.1/x86_64-linux /home/cpan/pit/jail/JSXHkdUfeV/lib/perl5/5.10.1 /home/cpan/pit/jail/JSXHkdUfeV/lib/perl5/x86_64-linux /home/cpan/pit/jail/JSXHkdUfeV/lib/perl5 /home/cpan/pit/bare/perl-5.10.1/lib/5.10.1/x86_64-linux /home/cpan/pit/bare/perl-5.10.1/lib/5.10.1 /home/cpan/pit/bare/perl-5.10.1/lib/site_perl/5.10.1/x86_64-linux /home/cpan/pit/bare/perl-5.10.1/lib/site_perl/5.10.1 .) at (eval 43) line 3.
    # Can't locate AnyEvent/HTTP.pm in @INC (@INC contains: t/lib /home/cpan/pit/bare/conf/perl-5.10.1/.cpanplus/5.10.1/build/bJ006YYbw4/HTTP-AnyUA-0.904/blib/lib /home/cpan/pit/bare/conf/perl-5.10.1/.cpanplus/5.10.1/build/bJ006YYbw4/HTTP-AnyUA-0.904/blib/arch /home/cpan/pit/jail/JSXHkdUfeV/lib/perl5/5.10.1/x86_64-linux /home/cpan/pit/jail/JSXHkdUfeV/lib/perl5/5.10.1 /home/cpan/pit/jail/JSXHkdUfeV/lib/perl5/x86_64-linux /home/cpan/pit/jail/JSXHkdUfeV/lib/perl5 /home/cpan/pit/bare/perl-5.10.1/lib/5.10.1/x86_64-linux /home/cpan/pit/bare/perl-5.10.1/lib/5.10.1 /home/cpan/pit/bare/perl-5.10.1/lib/site_perl/5.10.1/x86_64-linux /home/cpan/pit/bare/perl-5.10.1/lib/site_perl/5.10.1 .) at (eval 44) line 3.
t/50-future-subclass.t ............. ok
All tests successful.
Files=20, Tests=50,  2 wallclock secs ( 0.04 usr  0.03 sys +  1.32 cusr  0.23 csys =  1.62 CPU)
Result: PASS


PREREQUISITES:

Here is a list of prerequisites you specified and versions we
managed to load:

	  Module Name                        Have     Want
	  Carp                               1.50        0
	  Exporter                           5.63        0
	  ExtUtils::MakeMaker                7.60        0
	  Fcntl                              1.06        0
	  File::Spec                         3.75        0
	  Future                             0.47        0
	  IO::Handle                         1.28        0
	  IPC::Open3                         1.04        0
	  MIME::Base64                       3.08        0
	  Module::Loader                     0.04        0
	  Scalar::Util                       1.21        0
	  Test2::API                     1.302183        0
	  Test::Exception                    0.43        0
	  Test::More                     1.302183        0
	  Time::HiRes                      1.9719        0
	  Time::Local                      1.1901        0
	  bytes                              1.03        0
	  lib                                0.62        0
	  namespace::clean                   0.27        0
	  parent                            0.221        0
	  strict                             1.04        0
	  warnings                           1.06        0

Perl module toolchain versions installed:
	Module Name                        Have
	CPANPLUS                         0.9910
	CPANPLUS::Dist::Build              0.90
	Cwd                                3.75
	ExtUtils::CBuilder             0.280236
	ExtUtils::Command                  7.60
	ExtUtils::Install                  2.20
	ExtUtils::MakeMaker                7.60
	ExtUtils::Manifest                 1.73
	ExtUtils::ParseXS                  3.35
	File::Spec                         3.75
	Module::Build                    0.4231
	Pod::Parser                        1.37
	Pod::Simple                        3.07
	Test2                          1.302183
	Test::Harness                      3.42
	Test::More                     1.302183
	version                          0.9928

******************************** NOTE ********************************
The comments above are created mechanically, possibly without manual
checking by the sender.  As there are many people performing automatic
tests on each upload to CPAN, it is likely that you will receive
identical messages about the same problem.

If you believe that the message is mistaken, please reply to the first
one with correction and/or additional informations, and do not take
it personally.  We appreciate your patience. :)
**********************************************************************

Additional comments:


This report was machine-generated by CPANPLUS::Dist::YACSmoke 1.08.
Powered by minismokebox version 0.68

CPANPLUS is prefering Build.PL

------------------------------
ENVIRONMENT AND OTHER CONTEXT
------------------------------

Environment variables:

    AUTOMATED_TESTING = 1
    LANG = C.UTF-8
    LC_COLLATE = C
    NONINTERACTIVE_TESTING = 1
    PATH = /usr/local/sbin:/usr/local/bin:/usr/sbin:/usr/bin:/sbin:/bin
    PERL5LIB = /home/cpan/pit/jail/JSXHkdUfeV/lib/perl5:/home/cpan/pit/bare/conf/perl-5.10.1/.cpanplus/5.10.1/build/bJ006YYbw4/HTTP-AnyUA-0.904/blib/lib:/home/cpan/pit/bare/conf/perl-5.10.1/.cpanplus/5.10.1/build/bJ006YYbw4/HTTP-AnyUA-0.904/blib/arch
    PERL5_CPANPLUS_IS_RUNNING = 19675
    PERL5_CPANPLUS_IS_VERSION = 0.9910
    PERL5_MINISMOKEBOX = 0.68
    PERL5_YACSMOKE_BASE = /home/cpan/pit/bare/conf/perl-5.10.1
    PERL_EXTUTILS_AUTOINSTALL = --defaultdeps
    PERL_LOCAL_LIB_ROOT = /home/cpan/pit/jail/JSXHkdUfeV
    PERL_MB_OPT = --install_base "/home/cpan/pit/jail/JSXHkdUfeV"
    PERL_MM_OPT = INSTALL_BASE=/home/cpan/pit/jail/JSXHkdUfeV
    PERL_MM_USE_DEFAULT = 1
    PERL_USE_UNSAFE_INC = 0
    SHELL = /bin/bash
    TERM = screen

Perl special variables (and OS-specific diagnostics, for MSWin32):

    Perl: $^X = /home/cpan/pit/bare/perl-5.10.1/bin/perl
    UID:  $<  = 1001
    EUID: $>  = 1001
    GID:  $(  = 1001 1001
    EGID: $)  = 1001 1001


-------------------------------


--

Summary of my perl5 (revision 5 version 10 subversion 1) configuration:
   
  Platform:
    osname=linux, osvers=5.10.16-0-lts, archname=x86_64-linux
    uname='linux agaric 5.10.16-0-lts #1-alpine smp wed, 17 feb 2021 08:17:06 utc x86_64 linux '
    config_args='-des -Dprefix=/home/cpan/pit/bare/perl-5.10.1'
    hint=recommended, useposix=true, d_sigaction=define
    useithreads=undef, usemultiplicity=undef
    useperlio=define, d_sfio=undef, uselargefiles=define, usesocks=undef
    use64bitint=define, use64bitall=define, uselongdouble=undef
    usemymalloc=n, bincompat5005=undef
  Compiler:
    cc='cc', ccflags ='-D_GNU_SOURCE -fwrapv -fno-strict-aliasing -pipe -fstack-protector -D_LARGEFILE_SOURCE -D_FILE_OFFSET_BITS=64',
    optimize='-O2',
    cppflags='-D_GNU_SOURCE -fwrapv -fno-strict-aliasing -pipe -fstack-protector'
    ccversion='', gccversion='10.2.1 20201203', gccosandvers=''
    intsize=4, longsize=8, ptrsize=8, doublesize=8, byteorder=12345678
    d_longlong=define, longlongsize=8, d_longdbl=define, longdblsize=16
    ivtype='long', ivsize=8, nvtype='double', nvsize=8, Off_t='off_t', lseeksize=8
    alignbytes=8, prototype=define
  Linker and Libraries:
    ld='cc', ldflags =' -fstack-protector -L/usr/local/lib'
    libpth=/usr/local/lib /lib/../lib /usr/lib/../lib /lib /usr/lib
    libs=-lgdbm -ldl -lm -lcrypt -lutil -lc -lgdbm_compat
    perllibs=-ldl -lm -lcrypt -lutil -lc
    libc=/usr/lib/libc.a, so=so, useshrplib=false, libperl=libperl.a
    gnulibc_version=''
  Dynamic Linking:
    dlsrc=dl_dlopen.xs, dlext=so, d_dlsymun=undef, ccdlflags='-Wl,-E'
    cccdlflags='-fPIC', lddlflags='-shared -O2 -L/usr/local/lib -fstack-protector'


Characteristics of this binary (from libperl): 
  Compile-time options: PERL_DONT_CREATE_GVSV PERL_MALLOC_WRAP USE_64_BIT_ALL
                        USE_64_BIT_INT USE_LARGE_FILES USE_PERLIO
  Locally applied patches:
	Devel::PatchPerl 2.08
  Built under linux
  Compiled at Mar 11 2021 18:31:59
  %ENV:
    PERL5LIB="/home/cpan/pit/jail/JSXHkdUfeV/lib/perl5:/home/cpan/pit/bare/conf/perl-5.10.1/.cpanplus/5.10.1/build/bJ006YYbw4/HTTP-AnyUA-0.904/blib/lib:/home/cpan/pit/bare/conf/perl-5.10.1/.cpanplus/5.10.1/build/bJ006YYbw4/HTTP-AnyUA-0.904/blib/arch"
    PERL5_CPANPLUS_IS_RUNNING="19675"
    PERL5_CPANPLUS_IS_VERSION="0.9910"
    PERL5_MINISMOKEBOX="0.68"
    PERL5_YACSMOKE_BASE="/home/cpan/pit/bare/conf/perl-5.10.1"
    PERL_EXTUTILS_AUTOINSTALL="--defaultdeps"
    PERL_LOCAL_LIB_ROOT="/home/cpan/pit/jail/JSXHkdUfeV"
    PERL_MB_OPT="--install_base "/home/cpan/pit/jail/JSXHkdUfeV""
    PERL_MM_OPT="INSTALL_BASE=/home/cpan/pit/jail/JSXHkdUfeV"
    PERL_MM_USE_DEFAULT="1"
    PERL_USE_UNSAFE_INC="0"
  @INC:
    /home/cpan/pit/jail/JSXHkdUfeV/lib/perl5/5.10.1/x86_64-linux
    /home/cpan/pit/jail/JSXHkdUfeV/lib/perl5/5.10.1
    /home/cpan/pit/jail/JSXHkdUfeV/lib/perl5/x86_64-linux
    /home/cpan/pit/jail/JSXHkdUfeV/lib/perl5
    /home/cpan/pit/bare/conf/perl-5.10.1/.cpanplus/5.10.1/build/bJ006YYbw4/HTTP-AnyUA-0.904/blib/lib
    /home/cpan/pit/bare/conf/perl-5.10.1/.cpanplus/5.10.1/build/bJ006YYbw4/HTTP-AnyUA-0.904/blib/arch
    /home/cpan/pit/bare/perl-5.10.1/lib/5.10.1/x86_64-linux
    /home/cpan/pit/bare/perl-5.10.1/lib/5.10.1
    /home/cpan/pit/bare/perl-5.10.1/lib/site_perl/5.10.1/x86_64-linux
    /home/cpan/pit/bare/perl-5.10.1/lib/site_perl/5.10.1
    .