Report for Dancer2-Plugin-Cache-CHI-1.7.1

Back
From: metabase:user:7298ebcc-b357-11e4-8d18-8eca7e4756b9
Subject: PASS Dancer2-Plugin-Cache-CHI-1.7.1 v5.18.2 GNU/Linux
Date: 2016-01-08T00:26:37Z

This distribution has been tested as part of the CPAN Testers
project, supporting the Perl programming language.  See
http://wiki.cpantesters.org/ for more information or email
questions to cpan-testers-discuss@perl.org


--
Dear YANICK,

This is a computer-generated report for Dancer2-Plugin-Cache-CHI-1.7.1
on perl 5.18.2, created by App::cpanminus::reporter 0.12 (1.7027).

Thank you for uploading your work to CPAN.  Congratulations!
All tests were successful.

Sections of this report:

    * Tester comments
    * Program output
    * Prerequisites
    * Environment and other context

------------------------------
TESTER COMMENTS
------------------------------

Additional comments from tester:

none provided

------------------------------
PROGRAM OUTPUT
------------------------------

Output from '':

Building and testing Dancer2-Plugin-Cache-CHI-1.7.1
cp lib/Dancer2/Plugin/Cache/CHI.pm blib/lib/Dancer2/Plugin/Cache/CHI.pm
Manifying blib/man3/Dancer2::Plugin::Cache::CHI.3
PERL_DL_NONLAZY=1 /home/mojolicious/perl5/perlbrew/perls/perl-5.18.2/bin/perl "-MExtUtils::Command::MM" "-e" "test_harness(0, 'blib/lib', 'blib/arch')" t/*.t
# 
# Versions for all modules listed in MYMETA.json (including optional ones):
# 
# === Configure Requires ===
# 
#     Module              Want Have
#     ------------------- ---- ----
#     ExtUtils::MakeMaker  any 6.66
# 
# === Build Requires ===
# 
#     Module              Want Have
#     ------------------- ---- ----
#     ExtUtils::MakeMaker  any 6.66
# 
# === Test Requires ===
# 
#     Module                    Want     Have
#     --------------------- -------- --------
#     Dancer2               0.162000 0.162000
#     ExtUtils::MakeMaker        any     6.66
#     File::Spec                 any     3.40
#     HTTP::Request::Common      any     6.11
#     Plack::Test                any    undef
#     Test::More                 any 1.001014
#     lib                        any     0.63
# 
# === Test Recommends ===
# 
#     Module         Want     Have
#     ---------- -------- --------
#     CPAN::Meta 2.120900 2.150005
# 
# === Runtime Requires ===
# 
#     Module              Want     Have
#     --------------- -------- --------
#     CHI                  any     0.60
#     Carp                 any     1.29
#     Dancer2         0.162000 0.162000
#     Dancer2::Plugin      any 0.162000
#     Moo             1.000007 2.000002
#     strict               any     1.07
#     warnings             any     1.18
# 
t/00-report-prereqs.t ...... ok
t/basic.t .................. ok
t/honor-no-cache.t ......... ok
t/hooks.t .................. ok
t/init-check-page-cache.t .. ok
t/key-gen.t ................ ok
t/namespaces.t ............. skipped: File::Temp and CHI::Driver::FastMmap required for these tests (Can't locate Cache/FastMmap.pm in @INC (you may need to install the Cache::FastMmap module) (@INC contains: /home/mojolicious/.cpanm/work/1452212636.27976/Dancer2-Plugin-Cache-CHI-1.7.1/blib/lib /home/mojolicious/.cpanm/work/1452212636.27976/Dancer2-Plugin-Cache-CHI-1.7.1/blib/arch /tmp/GCeuB88lxO/lib/perl5/x86_64-linux /tmp/GCeuB88lxO/lib/perl5/x86_64-linux /tmp/GCeuB88lxO/lib/perl5 /home/mojolicious/dancerlib/5.18.2/0.162000/lib/perl5/x86_64-linux /home/mojolicious/dancerlib/5.18.2/0.162000/lib/perl5/x86_64-linux /home/mojolicious/dancerlib/5.18.2/0.162000/lib/perl5 /tmp/GCeuB88lxO/lib/perl5/x86_64-linux /tmp/GCeuB88lxO/lib/perl5 /home/mojolicious/dancerlib/5.18.2/0.162000/lib/perl5/x86_64-linux /home/mojolicious/dancerlib/5.18.2/0.162000/lib/perl5 /home/mojolicious/perl5/perlbrew/perls/perl-5.18.2/lib/site_perl/5.18.2/x86_64-linux /home/mojolicious/perl5/perlbrew/perls/perl-5.18.2/lib/site_perl/5.18.2 /home/mojolicious/perl5/perlbrew/perls/perl-5.18.2/lib/5.18.2/x86_64-linux /home/mojolicious/perl5/perlbrew/perls/perl-5.18.2/lib/5.18.2 .) at /tmp/GCeuB88lxO/lib/perl5/CHI/Driver/FastMmap.pm line 4.
All tests successful.
Files=7, Tests=42,  6 wallclock secs ( 0.05 usr  0.01 sys +  2.33 cusr  0.26 csys =  2.65 CPU)
Result: PASS

------------------------------
PREREQUISITES
------------------------------

Prerequisite modules loaded:

runtime:

    Module              Need     Have
    ------------------- -------- ----
    Carp                0        1.29
  ! CHI                 0        n/a 
  ! Dancer2             0.162000 n/a 
  ! Dancer2::Plugin     0        n/a 
  ! Moo                 1.000007 n/a 
    strict              0        1.07
    warnings            0        1.18

configure:

    Module              Need     Have
    ------------------- -------- ----
    ExtUtils::MakeMaker 0        6.66


------------------------------
ENVIRONMENT AND OTHER CONTEXT
------------------------------

Environment variables:

    PATH = /home/mojolicious/perl5/perlbrew/bin:/home/mojolicious/perl5/perlbrew/perls/perl-5.20.1/bin:/usr/local/bin:/usr/bin:/bin:/usr/local/games:/usr/games
    PERLBREW_BASHRC_VERSION = 0.73
    PERLBREW_HOME = /home/mojolicious/.perlbrew
    PERLBREW_MANPATH = /home/mojolicious/perl5/perlbrew/perls/perl-5.20.1/man
    PERLBREW_PATH = /home/mojolicious/perl5/perlbrew/bin:/home/mojolicious/perl5/perlbrew/perls/perl-5.20.1/bin
    PERLBREW_PERL = perl-5.20.1
    PERLBREW_ROOT = /home/mojolicious/perl5/perlbrew
    PERLBREW_VERSION = 0.73
    SHELL = /bin/bash
    TERM = xterm

Perl special variables (and OS-specific diagnostics, for MSWin32):

    EGID = 1003 1003
    EUID = 1003
    EXECUTABLE_NAME = /home/mojolicious/perl5/perlbrew/perls/perl-5.18.2/bin/perl
    GID = 1003 1003
    UID = 1003

Perl module toolchain versions installed:

    Module              Have    
    ------------------- --------
    CPAN                2.00    
    CPAN::Meta          2.120921
    Cwd                 3.40    
    ExtUtils::CBuilder  0.280210
    ExtUtils::Command   1.17    
    ExtUtils::Install   1.59    
    ExtUtils::MakeMaker 6.66    
    ExtUtils::Manifest  1.63    
    ExtUtils::ParseXS   3.18    
    File::Spec          3.40    
    JSON                2.90    
    JSON::PP            2.27202 
    Module::Build       0.4003  
    Module::Signature   n/a     
    Parse::CPAN::Meta   1.4404  
    Test::Harness       3.26    
    Test::More          1.001014
    YAML                n/a     
    YAML::Syck          n/a     
    version             0.9902  


--

Summary of my perl5 (revision 5 version 18 subversion 2) configuration:
   
  Platform:
    osname=linux, osvers=3.13.0-042stab094.8, archname=x86_64-linux
    uname='linux lvps92-51-161-142.dedicated.hosteurope.de 3.13.0-042stab094.8 #1 smp tue dec 16 20:36:56 msk 2014 x86_64 x86_64 x86_64 gnulinux '
    config_args='-de -Dprefix=/home/mojolicious/perl5/perlbrew/perls/perl-5.18.2 -Aeval:scriptdir=/home/mojolicious/perl5/perlbrew/perls/perl-5.18.2/bin'
    hint=recommended, useposix=true, d_sigaction=define
    useithreads=undef, usemultiplicity=undef
    useperlio=define, d_sfio=undef, uselargefiles=define, usesocks=undef
    use64bitint=define, use64bitall=define, uselongdouble=undef
    usemymalloc=n, bincompat5005=undef
  Compiler:
    cc='cc', ccflags ='-fno-strict-aliasing -pipe -fstack-protector -I/usr/local/include -D_LARGEFILE_SOURCE -D_FILE_OFFSET_BITS=64',
    optimize='-O2',
    cppflags='-fno-strict-aliasing -pipe -fstack-protector -I/usr/local/include'
    ccversion='', gccversion='4.8.2', gccosandvers=''
    intsize=4, longsize=8, ptrsize=8, doublesize=8, byteorder=12345678
    d_longlong=define, longlongsize=8, d_longdbl=define, longdblsize=16
    ivtype='long', ivsize=8, nvtype='double', nvsize=8, Off_t='off_t', lseeksize=8
    alignbytes=8, prototype=define
  Linker and Libraries:
    ld='cc', ldflags =' -fstack-protector -L/usr/local/lib'
    libpth=/usr/local/lib /lib/x86_64-linux-gnu /lib/../lib /usr/lib/x86_64-linux-gnu /usr/lib/../lib /lib /usr/lib
    libs=-lnsl -ldl -lm -lcrypt -lutil -lc
    perllibs=-lnsl -ldl -lm -lcrypt -lutil -lc
    libc=libc-2.19.so, so=so, useshrplib=false, libperl=libperl.a
    gnulibc_version='2.19'
  Dynamic Linking:
    dlsrc=dl_dlopen.xs, dlext=so, d_dlsymun=undef, ccdlflags='-Wl,-E'
    cccdlflags='-fPIC', lddlflags='-shared -O2 -L/usr/local/lib -fstack-protector'


Characteristics of this binary (from libperl): 
  Compile-time options: HAS_TIMES PERLIO_LAYERS PERL_DONT_CREATE_GVSV
                        PERL_HASH_FUNC_ONE_AT_A_TIME_HARD PERL_MALLOC_WRAP
                        PERL_PRESERVE_IVUV PERL_SAWAMPERSAND USE_64_BIT_ALL
                        USE_64_BIT_INT USE_LARGE_FILES USE_LOCALE
                        USE_LOCALE_COLLATE USE_LOCALE_CTYPE
                        USE_LOCALE_NUMERIC USE_PERLIO USE_PERL_ATOF
  Locally applied patches:
	Devel::PatchPerl 1.30
  Built under linux
  Compiled at Feb 14 2015 12:27:20
  %ENV:
    PERLBREW_BASHRC_VERSION="0.73"
    PERLBREW_HOME="/home/mojolicious/.perlbrew"
    PERLBREW_MANPATH="/home/mojolicious/perl5/perlbrew/perls/perl-5.20.1/man"
    PERLBREW_PATH="/home/mojolicious/perl5/perlbrew/bin:/home/mojolicious/perl5/perlbrew/perls/perl-5.20.1/bin"
    PERLBREW_PERL="perl-5.20.1"
    PERLBREW_ROOT="/home/mojolicious/perl5/perlbrew"
    PERLBREW_VERSION="0.73"
  @INC:
    /home/mojolicious/perl5/perlbrew/perls/perl-5.18.2/lib/site_perl/5.18.2/x86_64-linux
    /home/mojolicious/perl5/perlbrew/perls/perl-5.18.2/lib/site_perl/5.18.2
    /home/mojolicious/perl5/perlbrew/perls/perl-5.18.2/lib/5.18.2/x86_64-linux
    /home/mojolicious/perl5/perlbrew/perls/perl-5.18.2/lib/5.18.2
    .