Paws v0.45 Perl 5 v5.24.4 x86_64-linux-thread-multi

Status
Pass
From
David Cantrell (DCANTRELL)
Dist
Paws v0.45
Platform
Perl 5 v5.24.4 x86_64-linux-thread-multi
Date
2022-06-03 00:16:57
ID
7afb4b40-e2d2-11ec-861a-468dc1eef825
This distribution has been tested as part of the CPAN Testers
project, supporting the Perl programming language.  See
http://wiki.cpantesters.org/ for more information or email
questions to cpan-testers-discuss@perl.org


--
Dear Jose Luis Martinez Torres,

This is a computer-generated report for Paws-0.45
on perl 5.24.4, created by CPAN-Reporter-1.2018.

Thank you for uploading your work to CPAN.  Congratulations!
All tests were successful.

Sections of this report:

    * Tester comments
    * Program output
    * Prerequisites
    * Environment and other context

------------------------------
TESTER COMMENTS
------------------------------

Additional comments from tester:

this report is from an automated smoke testing program
and was not reviewed by a human for accuracy

------------------------------
PROGRAM OUTPUT
------------------------------

Output from './Build test':

Paws::CloudFront is not stable / supported / entirely developed at /home/david/cpantesting/perl-5.24.4/.cpan/build/Paws-0.45-4bRZUu/blib/lib/Paws/CloudFront.pm line 2.
Paws::Route53 is not stable / supported / entirely developed at /home/david/cpantesting/perl-5.24.4/.cpan/build/Paws-0.45-4bRZUu/blib/lib/Paws/Route53.pm line 2.
Paws::S3 is not stable / supported / entirely developed at /home/david/cpantesting/perl-5.24.4/.cpan/build/Paws-0.45-4bRZUu/blib/lib/Paws/S3.pm line 2.
Paws::S3Control is not stable / supported / entirely developed at /home/david/cpantesting/perl-5.24.4/.cpan/build/Paws-0.45-4bRZUu/blib/lib/Paws/S3Control.pm line 2.
t/01_load.t ............................. ok
t/02_aws_object.t ....................... ok
t/03_aws_default_object.t ............... ok
t/04_credentials.t ...................... ok
Paws::S3 is not stable / supported / entirely developed at /home/david/cpantesting/perl-5.24.4/.cpan/build/Paws-0.45-4bRZUu/blib/lib/Paws/S3.pm line 2.
Paws::CloudFront is not stable / supported / entirely developed at /home/david/cpantesting/perl-5.24.4/.cpan/build/Paws-0.45-4bRZUu/blib/lib/Paws/CloudFront.pm line 2.
Paws::Route53 is not stable / supported / entirely developed at /home/david/cpantesting/perl-5.24.4/.cpan/build/Paws-0.45-4bRZUu/blib/lib/Paws/Route53.pm line 2.
t/05_service_calls.t .................... ok
t/06_endpoint_override.t ................ ok
Paws::CloudFront is not stable / supported / entirely developed at /home/david/cpantesting/perl-5.24.4/.cpan/build/Paws-0.45-4bRZUu/blib/lib/Paws/CloudFront.pm line 2.
Use of uninitialized value in string eq at t/lib/TestFromYaml.pm line 22.
Use of uninitialized value $got in string eq at (eval in cmp_ok) t/10_responses.t line 136.
Use of uninitialized value $got in string eq at (eval in cmp_ok) t/10_responses.t line 136.
Use of uninitialized value $got in string eq at (eval in cmp_ok) t/10_responses.t line 136.
Use of uninitialized value $got in string eq at (eval in cmp_ok) t/10_responses.t line 136.
Paws::Route53 is not stable / supported / entirely developed at /home/david/cpantesting/perl-5.24.4/.cpan/build/Paws-0.45-4bRZUu/blib/lib/Paws/Route53.pm line 2.
Paws::S3 is not stable / supported / entirely developed at /home/david/cpantesting/perl-5.24.4/.cpan/build/Paws-0.45-4bRZUu/blib/lib/Paws/S3.pm line 2.
t/10_responses.t ........................ ok
# Skipping Paws::Net::FurlCaller due to probem loading: Can't locate Furl.pm in @INC (you may need to install the Furl module) (@INC contains: t/lib /home/david/cpantesting/perl-5.24.4/.cpan/build/Paws-0.45-4bRZUu/blib/arch /home/david/cpantesting/perl-5.24.4/.cpan/build/Paws-0.45-4bRZUu/blib/lib /home/david/cpantesting/perl-5.24.4/lib/site_perl/5.24.4/x86_64-linux-thread-multi /home/david/cpantesting/perl-5.24.4/lib/site_perl/5.24.4 /home/david/cpantesting/perl-5.24.4/lib/5.24.4/x86_64-linux-thread-multi /home/david/cpantesting/perl-5.24.4/lib/5.24.4 .) at /home/david/cpantesting/perl-5.24.4/.cpan/build/Paws-0.45-4bRZUu/blib/lib/Paws/Net/FurlCaller.pm line 5.
# BEGIN failed--compilation aborted at /home/david/cpantesting/perl-5.24.4/.cpan/build/Paws-0.45-4bRZUu/blib/lib/Paws/Net/FurlCaller.pm line 5.
# Compilation failed in require at /home/david/cpantesting/perl-5.24.4/lib/site_perl/5.24.4/Module/Runtime.pm line 314.
# Testing with caller Paws::Net::Caller
Paws::S3 is not stable / supported / entirely developed at /home/david/cpantesting/perl-5.24.4/.cpan/build/Paws-0.45-4bRZUu/blib/lib/Paws/S3.pm line 2.
Paws::Route53 is not stable / supported / entirely developed at /home/david/cpantesting/perl-5.24.4/.cpan/build/Paws-0.45-4bRZUu/blib/lib/Paws/Route53.pm line 2.
# Testing with caller Paws::Net::LWPCaller
t/11_client_exceptions.t ................ ok
No service for cloudformation at t/12_regions.t line 310.
No service for cloudfront at t/12_regions.t line 310.
No service for dynamodb at t/12_regions.t line 310.
No service for ec2 at t/12_regions.t line 310.
No service for elasticache at t/12_regions.t line 310.
No service for glacier at t/12_regions.t line 310.
No service for iam at t/12_regions.t line 310.
No service for importexport at t/12_regions.t line 310.
No service for rds at t/12_regions.t line 310.
Paws::Route53 is not stable / supported / entirely developed at /home/david/cpantesting/perl-5.24.4/.cpan/build/Paws-0.45-4bRZUu/t/../lib/Paws/Route53.pm line 2.
Paws::S3 is not stable / supported / entirely developed at /home/david/cpantesting/perl-5.24.4/.cpan/build/Paws-0.45-4bRZUu/t/../lib/Paws/S3.pm line 2.
No service for sns at t/12_regions.t line 310.
No service for sqs at t/12_regions.t line 310.
No service for cloudformation at t/12_regions.t line 310.
No service for cloudfront at t/12_regions.t line 310.
No service for cloudsearch at t/12_regions.t line 310.
No service for dynamodb at t/12_regions.t line 310.
No service for ec2 at t/12_regions.t line 310.
No service for elasticache at t/12_regions.t line 310.
No service for iam at t/12_regions.t line 310.
No service for importexport at t/12_regions.t line 310.
No service for rds at t/12_regions.t line 310.
No service for sns at t/12_regions.t line 310.
No service for sqs at t/12_regions.t line 310.
No service for cloudformation at t/12_regions.t line 310.
No service for cloudfront at t/12_regions.t line 310.
No service for dynamodb at t/12_regions.t line 310.
No service for ec2 at t/12_regions.t line 310.
No service for elasticache at t/12_regions.t line 310.
No service for glacier at t/12_regions.t line 310.
No service for iam at t/12_regions.t line 310.
No service for importexport at t/12_regions.t line 310.
No service for rds at t/12_regions.t line 310.
No service for sns at t/12_regions.t line 310.
No service for sqs at t/12_regions.t line 310.
No service for cloudformation at t/12_regions.t line 310.
No service for dynamodb at t/12_regions.t line 310.
No service for ec2 at t/12_regions.t line 310.
No service for elasticache at t/12_regions.t line 310.
No service for glacier at t/12_regions.t line 310.
No service for iam at t/12_regions.t line 310.
No service for rds at t/12_regions.t line 310.
No service for sns at t/12_regions.t line 310.
No service for sqs at t/12_regions.t line 310.
No service for cloudformation at t/12_regions.t line 310.
No service for cloudfront at t/12_regions.t line 310.
No service for cloudsearch at t/12_regions.t line 310.
No service for dynamodb at t/12_regions.t line 310.
No service for ec2 at t/12_regions.t line 310.
No service for elasticache at t/12_regions.t line 310.
No service for glacier at t/12_regions.t line 310.
No service for iam at t/12_regions.t line 310.
No service for importexport at t/12_regions.t line 310.
No service for rds at t/12_regions.t line 310.
No service for sns at t/12_regions.t line 310.
No service for sqs at t/12_regions.t line 310.
No service for cloudformation at t/12_regions.t line 310.
No service for cloudfront at t/12_regions.t line 310.
No service for dynamodb at t/12_regions.t line 310.
No service for ec2 at t/12_regions.t line 310.
No service for elasticache at t/12_regions.t line 310.
No service for iam at t/12_regions.t line 310.
No service for importexport at t/12_regions.t line 310.
No service for rds at t/12_regions.t line 310.
No service for sns at t/12_regions.t line 310.
No service for sqs at t/12_regions.t line 310.
No service for cloudformation at t/12_regions.t line 310.
No service for cloudfront at t/12_regions.t line 310.
No service for cloudsearch at t/12_regions.t line 310.
No service for cloudtrail at t/12_regions.t line 310.
No service for dynamodb at t/12_regions.t line 310.
No service for ec2 at t/12_regions.t line 310.
No service for elasticache at t/12_regions.t line 310.
No service for glacier at t/12_regions.t line 310.
No service for iam at t/12_regions.t line 310.
No service for importexport at t/12_regions.t line 310.
No service for kinesis at t/12_regions.t line 310.
No service for opsworks at t/12_regions.t line 310.
No service for rds at t/12_regions.t line 310.
No service for sns at t/12_regions.t line 310.
No service for sqs at t/12_regions.t line 310.
No service for support at t/12_regions.t line 310.
No service for dynamodb at t/12_regions.t line 310.
No service for ec2 at t/12_regions.t line 310.
No service for iam at t/12_regions.t line 310.
No service for rds at t/12_regions.t line 310.
No service for sns at t/12_regions.t line 310.
No service for sqs at t/12_regions.t line 310.
No service for cloudformation at t/12_regions.t line 310.
No service for cloudfront at t/12_regions.t line 310.
No service for cloudsearch at t/12_regions.t line 310.
No service for dynamodb at t/12_regions.t line 310.
No service for ec2 at t/12_regions.t line 310.
No service for elasticache at t/12_regions.t line 310.
No service for glacier at t/12_regions.t line 310.
No service for iam at t/12_regions.t line 310.
No service for importexport at t/12_regions.t line 310.
No service for rds at t/12_regions.t line 310.
No service for sns at t/12_regions.t line 310.
No service for sqs at t/12_regions.t line 310.
No service for cloudformation at t/12_regions.t line 310.
No service for cloudfront at t/12_regions.t line 310.
No service for cloudsearch at t/12_regions.t line 310.
No service for cloudtrail at t/12_regions.t line 310.
No service for dynamodb at t/12_regions.t line 310.
No service for ec2 at t/12_regions.t line 310.
No service for elasticache at t/12_regions.t line 310.
No service for glacier at t/12_regions.t line 310.
No service for iam at t/12_regions.t line 310.
No service for importexport at t/12_regions.t line 310.
No service for rds at t/12_regions.t line 310.
No service for sns at t/12_regions.t line 310.
No service for sqs at t/12_regions.t line 310.
Paws::CloudFront is not stable / supported / entirely developed at /home/david/cpantesting/perl-5.24.4/.cpan/build/Paws-0.45-4bRZUu/t/../lib/Paws/CloudFront.pm line 2.
t/12_regions.t .......................... ok
# Default caller
# LWP caller
# Mojo caller
# Can't locate Future.pm in @INC (you may need to install the Future module) (@INC contains: t/lib /home/david/cpantesting/perl-5.24.4/.cpan/build/Paws-0.45-4bRZUu/blib/arch /home/david/cpantesting/perl-5.24.4/.cpan/build/Paws-0.45-4bRZUu/blib/lib /home/david/cpantesting/perl-5.24.4/lib/site_perl/5.24.4/x86_64-linux-thread-multi /home/david/cpantesting/perl-5.24.4/lib/site_perl/5.24.4 /home/david/cpantesting/perl-5.24.4/lib/5.24.4/x86_64-linux-thread-multi /home/david/cpantesting/perl-5.24.4/lib/5.24.4 .) at /home/david/cpantesting/perl-5.24.4/.cpan/build/Paws-0.45-4bRZUu/blib/lib/Paws/Net/MojoAsyncCaller.pm line 8.
# BEGIN failed--compilation aborted at /home/david/cpantesting/perl-5.24.4/.cpan/build/Paws-0.45-4bRZUu/blib/lib/Paws/Net/MojoAsyncCaller.pm line 8.
# Compilation failed in require at /home/david/cpantesting/perl-5.24.4/lib/site_perl/5.24.4/Module/Runtime.pm line 314.
# Furl caller
t/13_client_connect_errors.t ............ ok
# Default caller
# LWP caller
# Mojo caller
# Furl caller
t/14_dns_client_errors.t ................ ok
t/15_timeouts.t ......................... ok
t/16_retries.t .......................... ok
Paws::S3 is not stable / supported / entirely developed at /home/david/cpantesting/perl-5.24.4/.cpan/build/Paws-0.45-4bRZUu/blib/lib/Paws/S3.pm line 2.
t/17_s3metadata.t ....................... ok
# Testing file t/18_mocked/autoscaling-describescalingactivities.response.test.yml
Use of uninitialized value $got in string eq at (eval in cmp_ok) t/18_mocked.t line 100.
# Testing file t/18_mocked/cwlogs-createlog-group.response.test.yml
# Testing file t/18_mocked/cwlogs-createloggroup-2.response.test.yml
# Testing file t/18_mocked/cwlogs-createlogstream-dup.response.test.yml
# Testing file t/18_mocked/cwlogs-createlogstream.response.test.yml
# Testing file t/18_mocked/cwlogs-deleteloggroup-nonexist.response.test.yml
# Testing file t/18_mocked/cwlogs-deleteloggroup.response.test.yml
# Testing file t/18_mocked/cwlogs-deletelogstream-nonexist.response.test.yml
# Testing file t/18_mocked/cwlogs-deletelogstream.response.test.yml
# Testing file t/18_mocked/cwlogs-describeloggroups.response.test.yml
# Testing file t/18_mocked/cwlogs-describelogstreams.response.test.yml
# Testing file t/18_mocked/cwlogs-filterpattern.response.test.yml
# Testing file t/18_mocked/cwlogs-putlogevents-1.response.test.yml
# Testing file t/18_mocked/cwlogs-putlogevents-2.response.test.yml
# Testing file t/18_mocked/cwlogs-putlogevents-3.response.test.yml
# Testing file t/18_mocked/cwlogs-putlogevents-dup.response.test.yml
# Testing file t/18_mocked/efs_createfilesystem.response.test.yml
# Testing file t/18_mocked/efs_createfilesystem_duplicate.response.test.yml
# Testing file t/18_mocked/efs_deletefilesystem.response.test.yml
# Testing file t/18_mocked/efs_describefilesystems.response.test.yml
# Testing file t/18_mocked/efs_describefilesystems_nonexistant.response.test.yml
# Testing file t/18_mocked/polly_listlexicons.response.test.yml
# Testing file t/18_mocked/polly_listlexicons_empty.response.test.yml
# Testing file t/18_mocked/polly_putlexicon.response.test.yml
# Testing file t/18_mocked/polly_synthesizespeech.response.test.yml
# Testing file t/18_mocked/signin-getsignintoken.response.test.yml
# Testing file t/18_mocked/sts-getfederationtoken.response.test.yml
# Testing file t/26_paginators/s3-getallobjects-with-prefix/0001.response.test.yml
Paws::S3 is not stable / supported / entirely developed at /home/david/cpantesting/perl-5.24.4/.cpan/build/Paws-0.45-4bRZUu/blib/lib/Paws/S3.pm line 2.
# Testing file t/26_paginators/s3-getallobjects-with-prefix/0002.response.test.yml
# Testing file t/26_paginators/s3-getallobjects/0001.response.test.yml
# Testing file t/26_paginators/s3-getallobjects/0002.response.test.yml
# Testing file t/26_paginators/s3-getallobjects/0003.response.test.yml
# Testing file t/26_paginators/s3-getallobjects/0004.response.test.yml
# Testing file t/26_paginators/s3-getallobjectsv2-with-prefix/0001.response.test.yml
# Testing file t/26_paginators/s3-getallobjectsv2-with-prefix/0002.response.test.yml
# Testing file t/26_paginators/s3-getallobjectsv2/0001.response.test.yml
# Testing file t/26_paginators/s3-getallobjectsv2/0002.response.test.yml
# Testing file t/26_paginators/s3-getallobjectsv2/0003.response.test.yml
# Testing file t/26_paginators/s3-getallobjectsv2/0004.response.test.yml
t/18_mocked.t ........................... ok
t/19_signin_login.t ..................... ok
t/20_json_syntetic_responses.t .......... ok
t/21_restjson_syntetic_responses.t ...... ok
t/22_query_syntetic_responses.t ......... ok
t/23_queryflatten_syntetic_responses.t .. ok
t/24_error_from_nonreturningmethod.t .... ok
t/25_error_on_malformed_response.t ...... ok
Paws::S3 is not stable / supported / entirely developed at /home/david/cpantesting/perl-5.24.4/.cpan/build/Paws-0.45-4bRZUu/blib/lib/Paws/S3.pm line 2.
t/26_paginators.t ....................... ok
t/27_signing_name.t ..................... ok
t/28_retries_mojoasynccaller.t .......... ok
t/99_pod_syntax.t ....................... skipped: author testing only
t/glacier/content_headers.t ............. ok
t/glacier/multipartupload.t ............. ok
Paws::Route53 is not stable / supported / entirely developed at /home/david/cpantesting/perl-5.24.4/.cpan/build/Paws-0.45-4bRZUu/blib/lib/Paws/Route53.pm line 2.
t/route53/uri_generation.t .............. ok
Paws::Route53 is not stable / supported / entirely developed at /home/david/cpantesting/perl-5.24.4/.cpan/build/Paws-0.45-4bRZUu/blib/lib/Paws/Route53.pm line 2.
t/route53/xml_creation.t ................ ok
Paws::S3 is not stable / supported / entirely developed at /home/david/cpantesting/perl-5.24.4/.cpan/build/Paws-0.45-4bRZUu/blib/lib/Paws/S3.pm line 2.
t/s3/content_headers.t .................. ok
Paws::S3 is not stable / supported / entirely developed at /home/david/cpantesting/perl-5.24.4/.cpan/build/Paws-0.45-4bRZUu/blib/lib/Paws/S3.pm line 2.
t/s3/multipartupload.t .................. ok
Paws::S3 is not stable / supported / entirely developed at /home/david/cpantesting/perl-5.24.4/.cpan/build/Paws-0.45-4bRZUu/blib/lib/Paws/S3.pm line 2.
t/s3/prefix.t ........................... ok
Paws::S3 is not stable / supported / entirely developed at /home/david/cpantesting/perl-5.24.4/.cpan/build/Paws-0.45-4bRZUu/blib/lib/Paws/S3.pm line 2.
# $VAR1 = bless( {}, 'Paws::S3::ContinuationEvent' );
t/s3/selectcontent.t .................... ok
Paws::S3 is not stable / supported / entirely developed at /home/david/cpantesting/perl-5.24.4/.cpan/build/Paws-0.45-4bRZUu/blib/lib/Paws/S3.pm line 2.
t/s3/uri_avoid_chars.t .................. ok
Paws::S3 is not stable / supported / entirely developed at /home/david/cpantesting/perl-5.24.4/.cpan/build/Paws-0.45-4bRZUu/blib/lib/Paws/S3.pm line 2.
t/s3/uri_encoding.t ..................... ok
Paws::S3 is not stable / supported / entirely developed at /home/david/cpantesting/perl-5.24.4/.cpan/build/Paws-0.45-4bRZUu/blib/lib/Paws/S3.pm line 2.
t/s3/uri_other_chars.t .................. ok
Paws::S3 is not stable / supported / entirely developed at /home/david/cpantesting/perl-5.24.4/.cpan/build/Paws-0.45-4bRZUu/blib/lib/Paws/S3.pm line 2.
# PutBucketLifecycleConfiguration
# SelectObjectContent
t/s3/xml_creation.t ..................... ok
All tests successful.

Test Summary Report
-------------------
t/10_responses.t                      (Wstat: 0 Tests: 9900 Failed: 0)
  TODO passed:   6364, 6370, 7896, 9579, 9586, 9671, 9736
t/18_mocked.t                         (Wstat: 0 Tests: 4007 Failed: 0)
  TODO passed:   91-143, 145-154, 156-173, 175-222, 224-262
                264-322, 324-330
t/glacier/multipartupload.t           (Wstat: 0 Tests: 3 Failed: 0)
  TODO passed:   2-3
t/s3/content_headers.t                (Wstat: 0 Tests: 27 Failed: 0)
  TODO passed:   1-2, 4-7
t/s3/multipartupload.t                (Wstat: 0 Tests: 7 Failed: 0)
  TODO passed:   2-7
t/s3/prefix.t                         (Wstat: 0 Tests: 2 Failed: 0)
  TODO passed:   1-2
t/s3/xml_creation.t                   (Wstat: 0 Tests: 2 Failed: 0)
  TODO passed:   2
Files=38, Tests=15168, 4674 wallclock secs ( 2.95 usr  0.27 sys + 865.64 cusr 14.05 csys = 882.91 CPU)
Result: PASS

------------------------------
PREREQUISITES
------------------------------

Prerequisite modules loaded:

requires:

    Module                     Need     Have     
    -------------------------- -------- ---------
    ARGV::Struct               0        0.06     
    Config::AWS                0        0.10     
    Data::Compare              0        1.27     
    DataStruct::Flat           0        0.01     
    DateTime                   0        1.58     
    DateTime::Format::ISO8601  0        0.16     
    Digest::SHA                0        5.95_01  
    File::HomeDir              0        1.006    
    Getopt::Long               0        2.48     
    HTTP::Tiny                 0        0.056_001
    IO::Socket::SSL            0        2.074    
    JSON::MaybeXS              0        1.004003 
    Module::Find               0        0.15     
    Moose                      0        2.2201   
    MooseX::ClassAttribute     0        0.29     
    MooseX::Getopt             0        0.75     
    Net::Amazon::Signature::V4 0        0.21     
    Path::Tiny                 0.017    0.122    
    perl                       5.012001 5.024004 
    String::CRC32              0        2.100    
    Throwable::Error           0        1.000    
    URI                        0        5.10     
    URI::Template              0.23     0.24     
    URL::Encode                0        0.03     
    URL::Encode::XS            0        0.03     
    XML::Simple                2.21     2.25     

build_requires:

    Module                     Need     Have     
    -------------------------- -------- ---------
    Class::Unload              0        0.11     
    File::Slurper              0        0.013    
    Path::Class                0        0.37     
    Test::Exception            0        0.43     
    Test::More                 0        1.302190 
    Test::Timer                0        2.12     
    Test::Warnings             0        0.031    
    YAML                       0        1.30     

configure_requires:

    Module                     Need     Have     
    -------------------------- -------- ---------
    Module::Build::Tiny        0.034    0.039    


------------------------------
ENVIRONMENT AND OTHER CONTEXT
------------------------------

Environment variables:

    AUTOMATED_TESTING = 1
    LANG = en_GB.UTF-8
    LANGUAGE = en_GB:en
    LC_TERMINAL = iTerm2
    LC_TERMINAL_VERSION = 3.4.14
    NONINTERACTIVE_TESTING = 1
    PATH = /home/david/perl5/perlbrew/bin:/home/david/perl5/perlbrew/perls/perl-5.30.2/bin:/home/david/bin:/usr/local/bin:/usr/bin:/bin:/usr/local/games:/usr/games
    PERL = 5.24.4
    PERL5LIB = 
    PERL5OPT = 
    PERL5_CPANPLUS_IS_RUNNING = 633263
    PERL5_CPAN_IS_RUNNING = 633263
    PERLBREW_HOME = /home/david/.perlbrew
    PERLBREW_MANPATH = /home/david/perl5/perlbrew/perls/perl-5.30.2/man
    PERLBREW_PATH = /home/david/perl5/perlbrew/bin:/home/david/perl5/perlbrew/perls/perl-5.30.2/bin
    PERLBREW_PERL = perl-5.30.2
    PERLBREW_ROOT = /home/david/perl5/perlbrew
    PERLBREW_SHELLRC_VERSION = 0.89
    PERLBREW_VERSION = 0.89
    PERLVER = 5.24.4
    PERL_INLINE_DIRECTORY = /home/david/.Inline-5.24.4
    PERL_MM_USE_DEFAULT = 1
    PERL_USE_UNSAFE_INC = 0
    SHELL = /bin/bash
    TERM = screen

Perl special variables (and OS-specific diagnostics, for MSWin32):

    $^X = /home/david/cpantesting/perl-5.24.4/bin/perl
    $UID/$EUID = 1000 / 1000
    $GID = 1000 24 25 27 29 30 44 46 109 1000
    $EGID = 1000 24 25 27 29 30 44 46 109 1000

Perl module toolchain versions installed:

    Module              Have    
    ------------------- --------
    CPAN                2.11_01 
    CPAN::Meta          2.150010
    Cwd                 3.75    
    ExtUtils::CBuilder  0.280225
    ExtUtils::Command   7.64    
    ExtUtils::Install   2.06    
    ExtUtils::MakeMaker 7.64    
    ExtUtils::Manifest  1.70    
    ExtUtils::ParseXS   3.31    
    File::Spec          3.75    
    JSON                4.06    
    JSON::PP            4.09    
    Module::Build       0.4231  
    Module::Signature   n/a     
    Parse::CPAN::Meta   2.150010
    Test::Harness       3.36_01 
    Test::More          1.302190
    YAML                1.30    
    YAML::Syck          n/a     
    version             0.9916  


--

Summary of my perl5 (revision 5 version 24 subversion 4) configuration:
   
  Platform:
    osname=linux, osvers=5.10.0-11-amd64, archname=x86_64-linux-thread-multi
    uname='linux cpantesting-linux-utm 5.10.0-11-amd64 #1 smp debian 5.10.92-1 (2022-01-18) x86_64 gnulinux '
    config_args='-de -Dusethreads -Dprefix=/home/david/cpantesting/perl-5.24.4'
    hint=recommended, useposix=true, d_sigaction=define
    useithreads=define, usemultiplicity=define
    use64bitint=define, use64bitall=define, uselongdouble=undef
    usemymalloc=n, bincompat5005=undef
  Compiler:
    cc='cc', ccflags ='-D_REENTRANT -D_GNU_SOURCE -fwrapv -fno-strict-aliasing -pipe -fstack-protector-strong -I/usr/local/include -D_LARGEFILE_SOURCE -D_FILE_OFFSET_BITS=64 -D_FORTIFY_SOURCE=2',
    optimize='-O2',
    cppflags='-D_REENTRANT -D_GNU_SOURCE -fwrapv -fno-strict-aliasing -pipe -fstack-protector-strong -I/usr/local/include'
    ccversion='', gccversion='10.2.1 20210110', gccosandvers=''
    intsize=4, longsize=8, ptrsize=8, doublesize=8, byteorder=12345678, doublekind=3
    d_longlong=define, longlongsize=8, d_longdbl=define, longdblsize=16, longdblkind=3
    ivtype='long', ivsize=8, nvtype='double', nvsize=8, Off_t='off_t', lseeksize=8
    alignbytes=8, prototype=define
  Linker and Libraries:
    ld='cc', ldflags =' -fstack-protector-strong -L/usr/local/lib'
    libpth=/usr/local/lib /usr/include/x86_64-linux-gnu /usr/lib /lib/x86_64-linux-gnu /lib/../lib /usr/lib/x86_64-linux-gnu /usr/lib/../lib /lib /lib64 /usr/lib64
    libs=-lpthread -lnsl -ldl -lm -lcrypt -lutil -lc
    perllibs=-lpthread -lnsl -ldl -lm -lcrypt -lutil -lc
    libc=libc-2.31.so, so=so, useshrplib=false, libperl=libperl.a
    gnulibc_version='2.31'
  Dynamic Linking:
    dlsrc=dl_dlopen.xs, dlext=so, d_dlsymun=undef, ccdlflags='-Wl,-E'
    cccdlflags='-fPIC', lddlflags='-shared -O2 -L/usr/local/lib -fstack-protector-strong'


Characteristics of this binary (from libperl): 
  Compile-time options: HAS_TIMES MULTIPLICITY PERLIO_LAYERS
                        PERL_COPY_ON_WRITE PERL_DONT_CREATE_GVSV
                        PERL_HASH_FUNC_ONE_AT_A_TIME_HARD
                        PERL_IMPLICIT_CONTEXT PERL_MALLOC_WRAP
                        PERL_PRESERVE_IVUV USE_64_BIT_ALL USE_64_BIT_INT
                        USE_ITHREADS USE_LARGE_FILES USE_LOCALE
                        USE_LOCALE_COLLATE USE_LOCALE_CTYPE
                        USE_LOCALE_NUMERIC USE_LOCALE_TIME USE_PERLIO
                        USE_PERL_ATOF USE_REENTRANT_API
  Locally applied patches:
	Devel::PatchPerl 2.08
  Built under linux
  Compiled at Feb  5 2022 21:03:51
  %ENV:
    PERL="5.24.4"
    PERL5LIB=""
    PERL5OPT=""
    PERL5_CPANPLUS_IS_RUNNING="633263"
    PERL5_CPAN_IS_RUNNING="633263"
    PERLBREW_HOME="/home/david/.perlbrew"
    PERLBREW_MANPATH="/home/david/perl5/perlbrew/perls/perl-5.30.2/man"
    PERLBREW_PATH="/home/david/perl5/perlbrew/bin:/home/david/perl5/perlbrew/perls/perl-5.30.2/bin"
    PERLBREW_PERL="perl-5.30.2"
    PERLBREW_ROOT="/home/david/perl5/perlbrew"
    PERLBREW_SHELLRC_VERSION="0.89"
    PERLBREW_VERSION="0.89"
    PERLVER="5.24.4"
    PERL_INLINE_DIRECTORY="/home/david/.Inline-5.24.4"
    PERL_MM_USE_DEFAULT="1"
    PERL_USE_UNSAFE_INC="0"
  @INC:
    /home/david/cpantesting/perl-5.24.4/lib/site_perl/5.24.4/x86_64-linux-thread-multi
    /home/david/cpantesting/perl-5.24.4/lib/site_perl/5.24.4
    /home/david/cpantesting/perl-5.24.4/lib/5.24.4/x86_64-linux-thread-multi
    /home/david/cpantesting/perl-5.24.4/lib/5.24.4
    .