Statistics-Autocorrelation v0.06 Perl 5 v5.8.9 x86_64-linux

Status
Pass
From
Andreas J. König (ANDK)
Dist
Statistics-Autocorrelation v0.06
Platform
Perl 5 v5.8.9 x86_64-linux
Date
2017-12-04 05:03:34
ID
7b0bad5e-d8b0-11e7-b77e-8634b5d65ef4
This distribution has been tested as part of the CPAN Testers
project, supporting the Perl programming language.  See
http://wiki.cpantesters.org/ for more information or email
questions to cpan-testers-discuss@perl.org


--
Dear Roderick Garton,

This is a computer-generated report for Statistics-Autocorrelation-0.06
on perl 5.8.9, created by CPAN-Reporter-1.2018.

Thank you for uploading your work to CPAN.  Congratulations!
All tests were successful.

Sections of this report:

    * Tester comments
    * Program output
    * Prerequisites
    * Environment and other context

------------------------------
TESTER COMMENTS
------------------------------

Additional comments from tester:

this report is from an automated smoke testing program
and was not reviewed by a human for accuracy

------------------------------
PROGRAM OUTPUT
------------------------------

Output from './Build test':

# Testing Statistics::Autocorrelation 0.06, Perl 5.008009, /home/sand/src/perl/repoperls/installed-perls/host/k93msid/perl-5.8.9/89ad/bin/perl
t/00-load.t ............ ok
t/01-basics.t .......... ok
# 1	1
# -0.31	-0.308071529270775
# -0.74	-0.749049167515742
# 0.77	0.784323247735839
# 0.21	0.208877598015533
# -0.9	-0.918813706027067
# 0.38	0.386652735218839
# 0.63	0.654553768392636
# -0.77	-0.796550351808819
# -0.12	-0.130519929380512
# 0.82	0.864643019213711
# -0.4	-0.421384089433339
# -0.55	-0.580716880126989
# 0.73	0.777761156749794
# 0.07	0.0765164288438996
# -0.76	-0.816215751829798
# 0.4	0.434487992925124
# 0.48	0.525882048388483
# -0.7	-0.761302866282146
# -0.03	-0.0365504182704293
# 0.7	0.77698431849003
# -0.41	-0.455513506257951
# -0.43	-0.481511229989287
# 0.67	0.754803922408943
# 0	-0.000721715652079184
# -0.66	-0.75014417224701
# 0.42	0.475416467981228
# 0.39	0.447326603329478
# -0.65	-0.757539412418846
# 0.03	0.0305363772989425
# 0.63	0.736511151186032
# -0.42	-0.496633082497667
# -0.36	-0.422841918740382
# 0.64	0.763572169334023
# -0.05	-0.062918304852615
# -0.6	-0.724078469079772
# 0.43	0.526299298189015
# 0.32	0.392420931667183
# -0.64	-0.780464126878208
# 0.08	0.103980865082087
# 0.58	0.714922437289871
# -0.45	-0.562981688031779
# -0.28	-0.355908669226571
# 0.62	0.787876882809841
# -0.1	-0.135103727297876
# -0.55	-0.703897993304772
# 0.45	0.5920749381622
# 0.25	0.328070443088622
# -0.61	-0.800343193782884
# 0.14	0.186342015336873
t/02-nist_ref.t ........ ok
t/03-neg_lag.t ......... ok
t/04-correlogram.t ..... ok
t/05-PASW_RiessData.t .. ok
t/pod-coverage.t ....... ok
t/pod.t ................ ok
All tests successful.
Files=8, Tests=84,  3 wallclock secs ( 0.03 usr  0.08 sys +  0.54 cusr  0.19 csys =  0.84 CPU)
Result: PASS

------------------------------
PREREQUISITES
------------------------------

Prerequisite modules loaded:

requires:

    Module           Need   Have    
    ---------------- ------ --------
    List::AllUtils   0.07   0.14    
    Math::Cephes     0.5303 0.5305  
    Statistics::Data 0.08   0.11    
    Statistics::Lite 3.2    3.62    
    Statistics::Zed  0.10   0.10    

build_requires:

    Module           Need   Have    
    ---------------- ------ --------
    List::AllUtils   0.07   0.14    
    Math::Cephes     0.5303 0.5305  
    Statistics::Data 0.08   0.11    
    Statistics::Lite 3.2    3.62    
    Statistics::Zed  0.072  0.10    
    Test::More       0.92   1.302120

configure_requires:

    Module           Need   Have    
    ---------------- ------ --------
    Module::Build    0.4007 0.4224  


------------------------------
ENVIRONMENT AND OTHER CONTEXT
------------------------------

Environment variables:

    AUTOMATED_TESTING = 1
    LANG = en_US.UTF-8
    PATH = /home/sand/bin:/usr/local/bin:/usr/bin:/bin:/usr/games:/usr/local/perl/bin:/usr/X11/bin:/sbin:/usr/sbin
    PERL5LIB = /tmp/loop_over_bdir-12405-uMtTMx/Statistics-Zed-0.10-0/blib/arch:/tmp/loop_over_bdir-12405-uMtTMx/Statistics-Zed-0.10-0/blib/lib:/tmp/loop_over_bdir-12405-uMtTMx/Statistics-Lite-3.62-0/blib/arch:/tmp/loop_over_bdir-12405-uMtTMx/Statistics-Lite-3.62-0/blib/lib:/tmp/loop_over_bdir-12405-uMtTMx/Statistics-Data-0.11-0/blib/arch:/tmp/loop_over_bdir-12405-uMtTMx/Statistics-Data-0.11-0/blib/lib:/tmp/loop_over_bdir-12405-uMtTMx/Array-Compare-v3.0.0-0/blib/arch:/tmp/loop_over_bdir-12405-uMtTMx/Array-Compare-v3.0.0-0/blib/lib:/tmp/loop_over_bdir-12405-uMtTMx/Math-Cephes-0.5305-0/blib/arch:/tmp/loop_over_bdir-12405-uMtTMx/Math-Cephes-0.5305-0/blib/lib
    PERL5OPT = 
    PERL5_CPANPLUS_IS_RUNNING = 12409
    PERL5_CPAN_IS_RUNNING = 12409
    PERL5_CPAN_IS_RUNNING_IN_RECURSION = 8141,12409
    PERL_CANARY_STABILITY_NOPROMPT = 1
    PERL_MM_USE_DEFAULT = 1
    PERL_USE_UNSAFE_INC = 1
    SHELL = /usr/bin/zsh
    TERM = screen

Perl special variables (and OS-specific diagnostics, for MSWin32):

    $^X = /home/sand/src/perl/repoperls/installed-perls/host/k93msid/perl-5.8.9/89ad/bin/perl
    $UID/$EUID = 1005 / 1005
    $GID = 1005 1005
    $EGID = 1005 1005

Perl module toolchain versions installed:

    Module              Have    
    ------------------- --------
    CPAN                2.19    
    CPAN::Meta          2.150010
    Cwd                 3.62    
    ExtUtils::CBuilder  0.280230
    ExtUtils::Command   7.31_05 
    ExtUtils::Install   2.06    
    ExtUtils::MakeMaker 7.31_05 
    ExtUtils::Manifest  1.70    
    ExtUtils::ParseXS   3.35    
    File::Spec          3.62    
    JSON                2.94    
    JSON::PP            2.94    
    Module::Build       0.4224  
    Module::Signature   0.81    
    Parse::CPAN::Meta   2.150010
    Test::Harness       3.39    
    Test::More          1.302120
    YAML                1.24    
    YAML::Syck          1.30    
    version             0.9918  


--

Summary of my perl5 (revision 5 version 8 subversion 9) configuration:
  Platform:
    osname=linux, osvers=4.12.0-2-amd64, archname=x86_64-linux
    uname='linux k93msid 4.12.0-2-amd64 #1 smp debian 4.12.13-1 (2017-09-19) x86_64 gnulinux '
    config_args='-Dprefix=/home/sand/src/perl/repoperls/installed-perls/host/k93msid/perl-5.8.9/89ad -Dmyhostname=k93msid -Dinstallusrbinperl=n -Uversiononly -Dusedevel -des -Ui_db -Dlibswanted=cl pthread socket inet nsl gdbm dbm malloc dl ld sun m crypt sec util c cposix posix ucb BSD gdbm_compat -Uuseithreads -Uuselongdouble -DDEBUGGING=-g'
    hint=recommended, useposix=true, d_sigaction=define
    usethreads=undef use5005threads=undef useithreads=undef usemultiplicity=undef
    useperlio=define d_sfio=undef uselargefiles=define usesocks=undef
    use64bitint=define use64bitall=define uselongdouble=undef
    usemymalloc=n, bincompat5005=undef
  Compiler:
    cc='cc', ccflags ='-fno-strict-aliasing -pipe -I/usr/local/include -D_LARGEFILE_SOURCE -D_FILE_OFFSET_BITS=64',
    optimize='-O2 -g',
    cppflags='-fno-strict-aliasing -pipe -I/usr/local/include'
    ccversion='', gccversion='7.2.0', gccosandvers=''
    intsize=4, longsize=8, ptrsize=8, doublesize=8, byteorder=12345678
    d_longlong=define, longlongsize=8, d_longdbl=define, longdblsize=16
    ivtype='long', ivsize=8, nvtype='double', nvsize=8, Off_t='off_t', lseeksize=8
    alignbytes=8, prototype=define
  Linker and Libraries:
    ld='cc', ldflags =' -L/usr/local/lib'
    libpth=/usr/local/lib /lib/x86_64-linux-gnu /lib/../lib /usr/lib/x86_64-linux-gnu /usr/lib/../lib /lib /usr/lib
    libs=-lpthread -lnsl -ldl -lm -lcrypt -lutil -lc
    perllibs=-lpthread -lnsl -ldl -lm -lcrypt -lutil -lc
    libc=libc-2.24.so, so=so, useshrplib=false, libperl=libperl.a
    gnulibc_version='2.24'
  Dynamic Linking:
    dlsrc=dl_dlopen.xs, dlext=so, d_dlsymun=undef, ccdlflags='-Wl,-E'
    cccdlflags='-fPIC', lddlflags='-shared -O2 -g -L/usr/local/lib'


Characteristics of this binary (from libperl): 
  Compile-time options: PERL_MALLOC_WRAP USE_64_BIT_ALL USE_64_BIT_INT
                        USE_FAST_STDIO USE_LARGE_FILES USE_PERLIO
  Built under linux
  Compiled at Oct  3 2017 21:29:46
  %ENV:
    PERL5LIB="/tmp/loop_over_bdir-12405-uMtTMx/Statistics-Zed-0.10-0/blib/arch:/tmp/loop_over_bdir-12405-uMtTMx/Statistics-Zed-0.10-0/blib/lib:/tmp/loop_over_bdir-12405-uMtTMx/Statistics-Lite-3.62-0/blib/arch:/tmp/loop_over_bdir-12405-uMtTMx/Statistics-Lite-3.62-0/blib/lib:/tmp/loop_over_bdir-12405-uMtTMx/Statistics-Data-0.11-0/blib/arch:/tmp/loop_over_bdir-12405-uMtTMx/Statistics-Data-0.11-0/blib/lib:/tmp/loop_over_bdir-12405-uMtTMx/Array-Compare-v3.0.0-0/blib/arch:/tmp/loop_over_bdir-12405-uMtTMx/Array-Compare-v3.0.0-0/blib/lib:/tmp/loop_over_bdir-12405-uMtTMx/Math-Cephes-0.5305-0/blib/arch:/tmp/loop_over_bdir-12405-uMtTMx/Math-Cephes-0.5305-0/blib/lib"
    PERL5OPT=""
    PERL5_CPANPLUS_IS_RUNNING="12409"
    PERL5_CPAN_IS_RUNNING="12409"
    PERL5_CPAN_IS_RUNNING_IN_RECURSION="8141,12409"
    PERL_CANARY_STABILITY_NOPROMPT="1"
    PERL_MM_USE_DEFAULT="1"
    PERL_USE_UNSAFE_INC="1"
  @INC:
    /tmp/loop_over_bdir-12405-uMtTMx/Statistics-Zed-0.10-0/blib/arch
    /tmp/loop_over_bdir-12405-uMtTMx/Statistics-Zed-0.10-0/blib/lib
    /tmp/loop_over_bdir-12405-uMtTMx/Statistics-Lite-3.62-0/blib/arch
    /tmp/loop_over_bdir-12405-uMtTMx/Statistics-Lite-3.62-0/blib/lib
    /tmp/loop_over_bdir-12405-uMtTMx/Statistics-Data-0.11-0/blib/arch
    /tmp/loop_over_bdir-12405-uMtTMx/Statistics-Data-0.11-0/blib/lib
    /tmp/loop_over_bdir-12405-uMtTMx/Array-Compare-v3.0.0-0/blib/arch
    /tmp/loop_over_bdir-12405-uMtTMx/Array-Compare-v3.0.0-0/blib/lib
    /tmp/loop_over_bdir-12405-uMtTMx/Math-Cephes-0.5305-0/blib/arch
    /tmp/loop_over_bdir-12405-uMtTMx/Math-Cephes-0.5305-0/blib/lib
    /home/sand/src/perl/repoperls/installed-perls/host/k93msid/perl-5.8.9/89ad/lib/5.8.9/x86_64-linux
    /home/sand/src/perl/repoperls/installed-perls/host/k93msid/perl-5.8.9/89ad/lib/5.8.9
    /home/sand/src/perl/repoperls/installed-perls/host/k93msid/perl-5.8.9/89ad/lib/site_perl/5.8.9/x86_64-linux
    /home/sand/src/perl/repoperls/installed-perls/host/k93msid/perl-5.8.9/89ad/lib/site_perl/5.8.9
    .