Devel-REPL v1.003029 Perl 5 v5.28.3 darwin-thread-multi-2level

Status
Pass
From
aero
Dist
Devel-REPL v1.003029
Platform
Perl 5 v5.28.3 darwin-thread-multi-2level
Date
2022-05-30 02:30:33
ID
7b147ec2-dfc0-11ec-af40-97991d50a958
This distribution has been tested as part of the CPAN Testers
project, supporting the Perl programming language.  See
http://wiki.cpantesters.org/ for more information or email
questions to cpan-testers-discuss@perl.org


--
Dear Karen Etheridge,

This is a computer-generated report for Devel-REPL-1.003029
on perl 5.28.3, created by CPAN-Reporter-1.2018.

Thank you for uploading your work to CPAN.  Congratulations!
All tests were successful.

Sections of this report:

    * Tester comments
    * Program output
    * Prerequisites
    * Environment and other context

------------------------------
TESTER COMMENTS
------------------------------

Additional comments from tester:

none provided

------------------------------
PROGRAM OUTPUT
------------------------------

Output from '/usr/bin/make test':

PERL_DL_NONLAZY=1 "/Users/chadwick/CASE_SENSITIVE_FS/perl5/perlbrew/perls/perl-5.28/bin/perl" "-MExtUtils::Command::MM" "-MTest::Harness" "-e" "undef *Test::Harness::Switches; test_harness(0, 'blib/lib', 'blib/arch')" t/*.t
# 
# Versions for all modules listed in MYMETA.json (including optional ones):
# 
# === Configure Requires ===
# 
#     Module                       Want     Have
#     ------------------------ -------- --------
#     CPAN::Meta::Requirements 2.120620    2.140
#     ExtUtils::MakeMaker           any     7.64
#     Module::Metadata              any 1.000037
# 
# === Build Requires ===
# 
#     Module              Want Have
#     ------------------- ---- ----
#     ExtUtils::MakeMaker  any 7.64
# 
# === Test Requires ===
# 
#     Module              Want     Have
#     ------------------- ---- --------
#     ExtUtils::MakeMaker  any     7.64
#     File::Spec           any     3.75
#     Test::Fatal          any    0.016
#     Test::More          0.88 1.302190
#     if                   any   0.0608
# 
# === Test Recommends ===
# 
#     Module         Want     Have
#     ---------- -------- --------
#     CPAN::Meta 2.120900 2.150010
# 
# === Runtime Requires ===
# 
#     Module                      Want   Have
#     ------------------------- ------ ------
#     App::Nopaste                 any  1.013
#     B::Concise                  0.62  1.003
#     B::Keywords                  any   1.24
#     Data::Dump::Streamer        2.39   2.40
#     Data::Dumper::Concise        any  2.023
#     Devel::Peek                  any   1.27
#     File::Next                   any   1.18
#     File::Spec                   any   3.75
#     Lexical::Persistence         any  1.020
#     Module::Refresh              any   0.18
#     Module::Runtime              any  0.016
#     Moose                       0.93 2.2201
#     Moose::Meta::Role            any 2.2201
#     Moose::Role                  any 2.2201
#     MooseX::Getopt              0.18   0.75
#     MooseX::Object::Pluggable 0.0009 0.0014
#     PPI                          any  1.274
#     Scalar::Util                 any   1.62
#     Sys::SigAction               any   0.23
#     Task::Weaken                 any   1.06
#     Term::ANSIColor              any   5.01
#     Term::ReadLine               any   1.17
#     Time::HiRes                  any 1.9764
#     namespace::autoclean         any   0.29
#     strict                       any   1.11
#     warnings                     any   1.42
# 
# === Runtime Recommends ===
# 
#     Module                 Want  Have
#     --------------------- ----- -----
#     App::Nopaste            any 1.013
#     B::Keywords             any  1.24
#     Data::Dump::Streamer   2.39  2.40
#     Data::Dumper::Concise   any 2.023
#     File::Next              any  1.18
#     Lexical::Persistence    any 1.020
#     Module::Refresh         any  0.18
#     PPI                     any 1.274
#     PPI::XS               0.902 0.910
#     Sys::SigAction          any  0.23
# 
# === Other Modules ===
# 
#     Module            Have
#     --------------- ------
#     Encode            3.17
#     File::Temp      0.2311
#     JSON::PP          4.09
#     Module::Runtime  0.016
#     Sub::Name         0.26
#     YAML              1.30
#     autodie           2.34
# 
t/00-report-prereqs.t .. ok
t/load_core.t .......... ok
t/load_plugins.t ....... ok
All tests successful.
Files=3, Tests=61,  4 wallclock secs ( 0.03 usr  0.02 sys +  1.41 cusr  0.23 csys =  1.69 CPU)
Result: PASS

------------------------------
PREREQUISITES
------------------------------

Prerequisite modules loaded:

requires:

    Module                    Need     Have    
    ------------------------- -------- --------
    App::Nopaste              0        1.013   
    B::Concise                0.62     1.003   
    B::Keywords               0        1.24    
    Data::Dump::Streamer      2.39     2.40    
    Data::Dumper::Concise     0        2.023   
    Devel::Peek               0        1.27    
    File::Next                0        1.18    
    File::Spec                0        3.75    
    Lexical::Persistence      0        1.020   
    Module::Refresh           0        0.18    
    Module::Runtime           0        0.016   
    Moose                     0.93     2.2201  
    Moose::Meta::Role         0        2.2201  
    Moose::Role               0        2.2201  
    MooseX::Getopt            0.18     0.75    
    MooseX::Object::Pluggable 0.0009   0.0014  
    namespace::autoclean      0        0.29    
    perl                      5.008001 5.028003
    PPI                       0        1.274   
    Scalar::Util              0        1.62    
    strict                    0        1.11    
    Sys::SigAction            0        0.23    
    Task::Weaken              0        1.06    
    Term::ANSIColor           0        5.01    
    Term::ReadLine            0        1.17    
    Time::HiRes               0        1.9764  
    warnings                  0        1.42    

build_requires:

    Module                    Need     Have    
    ------------------------- -------- --------
    ExtUtils::MakeMaker       0        7.64    
    File::Spec                0        3.75    
    if                        0        0.0608  
    Test::Fatal               0        0.016   
    Test::More                0.88     1.302190

configure_requires:

    Module                    Need     Have    
    ------------------------- -------- --------
    CPAN::Meta::Requirements  2.120620 2.140   
    ExtUtils::MakeMaker       0        7.64    
    Module::Metadata          0        1.000037
    perl                      5.008001 5.028003


------------------------------
ENVIRONMENT AND OTHER CONTEXT
------------------------------

Environment variables:

    LANG = ko_KR.UTF-8
    LC_TERMINAL = iTerm2
    LC_TERMINAL_VERSION = 3.4.15
    NONINTERACTIVE_TESTING = 1
    PATH = /Users/chadwick/.anyenv/envs/pyenv/shims:/Users/chadwick/.anyenv/envs/pyenv/bin:/Users/chadwick/.anyenv/envs/nodenv/shims:/Users/chadwick/.anyenv/envs/nodenv/bin:/Users/chadwick/.anyenv/envs/jenv/shims:/Users/chadwick/.anyenv/envs/jenv/bin:/Users/chadwick/.anyenv/envs/goenv/shims:/Users/chadwick/.anyenv/envs/goenv/bin:/Users/chadwick/.anyenv/bin:/Users/chadwick/.rakubrew/shims:/Users/chadwick/perl5/perlbrew/bin:/Users/chadwick/perl5/perlbrew/perls/perl-5.28/bin:/Users/chadwick/bin:/usr/local/opt/openssl/bin:/usr/local/sbin:/usr/local/bin:/usr/bin:/bin:/usr/sbin:/sbin:/opt/X11/bin:/Library/Apple/usr/bin
    PERL5LIB = 
    PERL5OPT = 
    PERL5_CPANPLUS_IS_RUNNING = 6346
    PERL5_CPAN_IS_RUNNING = 6346
    PERLBREW_HOME = /Users/chadwick/.perlbrew
    PERLBREW_MANPATH = /Users/chadwick/perl5/perlbrew/perls/perl-5.28/man
    PERLBREW_PATH = /Users/chadwick/perl5/perlbrew/bin:/Users/chadwick/perl5/perlbrew/perls/perl-5.28/bin
    PERLBREW_PERL = perl-5.28
    PERLBREW_ROOT = /Users/chadwick/perl5/perlbrew
    PERLBREW_SHELLRC_VERSION = 0.95
    PERLBREW_VERSION = 0.95
    PERL_MM_USE_DEFAULT = 1
    PERL_USE_UNSAFE_INC = 1
    SHELL = /usr/local/bin/bash
    TERM = xterm-256color
    TMPDIR = /var/folders/mw/pq9rk2250zb605jk5mqcj5g80000gq/T/

Perl special variables (and OS-specific diagnostics, for MSWin32):

    $^X = /Users/chadwick/CASE_SENSITIVE_FS/perl5/perlbrew/perls/perl-5.28/bin/perl
    $UID/$EUID = 503 / 503
    $GID = 20 20 12 61 79 80 81 98 399 33 100 204 250 395 400 701
    $EGID = 20 20 12 61 79 80 81 98 399 33 100 204 250 395 400 701

Perl module toolchain versions installed:

    Module              Have    
    ------------------- --------
    CPAN                2.34    
    CPAN::Meta          2.150010
    Cwd                 3.75    
    ExtUtils::CBuilder  0.280236
    ExtUtils::Command   7.64    
    ExtUtils::Install   2.20    
    ExtUtils::MakeMaker 7.64    
    ExtUtils::Manifest  1.73    
    ExtUtils::ParseXS   3.44    
    File::Spec          3.75    
    JSON                4.06    
    JSON::PP            4.09    
    Module::Build       0.4231  
    Module::Signature   n/a     
    Parse::CPAN::Meta   2.150010
    Test::Harness       3.44    
    Test::More          1.302190
    YAML                1.30    
    YAML::Syck          1.34    
    version             0.9929  


--

Summary of my perl5 (revision 5 version 28 subversion 3) configuration:
   
  Platform:
    osname=darwin
    osvers=19.5.0
    archname=darwin-thread-multi-2level
    uname='darwin chadwick-mac 19.5.0 darwin kernel version 19.5.0: thu apr 30 18:25:59 pdt 2020; root:xnu-6153.121.1~7release_x86_64 x86_64 '
    config_args='-de -Dprefix=/Users/chadwick/perl5/perlbrew/perls/perl-5.28 -Dman1dir=none -Dman3dir=none -Dusethreads -Aeval:scriptdir=/Users/chadwick/perl5/perlbrew/perls/perl-5.28/bin'
    hint=recommended
    useposix=true
    d_sigaction=define
    useithreads=define
    usemultiplicity=define
    use64bitint=define
    use64bitall=define
    uselongdouble=undef
    usemymalloc=n
    default_inc_excludes_dot=define
    bincompat5005=undef
  Compiler:
    cc='cc'
    ccflags ='-fno-common -DPERL_DARWIN -mmacosx-version-min=10.15 -fno-strict-aliasing -pipe -fstack-protector-strong -I/usr/local/include -DPERL_USE_SAFE_PUTENV'
    optimize='-O3'
    cppflags='-fno-common -DPERL_DARWIN -mmacosx-version-min=10.15 -fno-strict-aliasing -pipe -fstack-protector-strong -I/usr/local/include'
    ccversion=''
    gccversion='4.2.1 Compatible Apple LLVM 11.0.3 (clang-1103.0.32.62)'
    gccosandvers=''
    intsize=4
    longsize=8
    ptrsize=8
    doublesize=8
    byteorder=12345678
    doublekind=3
    d_longlong=define
    longlongsize=8
    d_longdbl=define
    longdblsize=16
    longdblkind=3
    ivtype='long'
    ivsize=8
    nvtype='double'
    nvsize=8
    Off_t='off_t'
    lseeksize=8
    alignbytes=8
    prototype=define
  Linker and Libraries:
    ld='cc'
    ldflags =' -mmacosx-version-min=10.15 -fstack-protector-strong -L/usr/local/lib'
    libpth=/usr/local/lib /Library/Developer/CommandLineTools/usr/lib/clang/11.0.3/lib /Library/Developer/CommandLineTools/SDKs/MacOSX.sdk/usr/lib /Library/Developer/CommandLineTools/usr/lib /usr/lib
    libs=-lpthread -lgdbm -ldbm -ldl -lm -lutil -lc
    perllibs=-lpthread -ldl -lm -lutil -lc
    libc=
    so=dylib
    useshrplib=false
    libperl=libperl.a
    gnulibc_version=''
  Dynamic Linking:
    dlsrc=dl_dlopen.xs
    dlext=bundle
    d_dlsymun=undef
    ccdlflags=' '
    cccdlflags=' '
    lddlflags=' -mmacosx-version-min=10.15 -bundle -undefined dynamic_lookup -L/usr/local/lib -fstack-protector-strong'


Characteristics of this binary (from libperl): 
  Compile-time options:
    HAS_TIMES
    MULTIPLICITY
    PERLIO_LAYERS
    PERL_COPY_ON_WRITE
    PERL_DONT_CREATE_GVSV
    PERL_IMPLICIT_CONTEXT
    PERL_MALLOC_WRAP
    PERL_OP_PARENT
    PERL_PRESERVE_IVUV
    PERL_USE_SAFE_PUTENV
    USE_64_BIT_ALL
    USE_64_BIT_INT
    USE_ITHREADS
    USE_LARGE_FILES
    USE_LOCALE
    USE_LOCALE_COLLATE
    USE_LOCALE_CTYPE
    USE_LOCALE_NUMERIC
    USE_LOCALE_TIME
    USE_PERLIO
    USE_PERL_ATOF
    USE_REENTRANT_API
  Locally applied patches:
    Devel::PatchPerl 1.98
  Built under darwin
  Compiled at Jun  2 2020 08:33:23
  %ENV:
    PERL5LIB=""
    PERL5OPT=""
    PERL5_CPANPLUS_IS_RUNNING="6346"
    PERL5_CPAN_IS_RUNNING="6346"
    PERLBREW_HOME="/Users/chadwick/.perlbrew"
    PERLBREW_MANPATH="/Users/chadwick/perl5/perlbrew/perls/perl-5.28/man"
    PERLBREW_PATH="/Users/chadwick/perl5/perlbrew/bin:/Users/chadwick/perl5/perlbrew/perls/perl-5.28/bin"
    PERLBREW_PERL="perl-5.28"
    PERLBREW_ROOT="/Users/chadwick/perl5/perlbrew"
    PERLBREW_SHELLRC_VERSION="0.95"
    PERLBREW_VERSION="0.95"
    PERL_MM_USE_DEFAULT="1"
    PERL_USE_UNSAFE_INC="1"
  @INC:
    /Users/chadwick/perl5/perlbrew/perls/perl-5.28/lib/site_perl/5.28.3/darwin-thread-multi-2level
    /Users/chadwick/perl5/perlbrew/perls/perl-5.28/lib/site_perl/5.28.3
    /Users/chadwick/perl5/perlbrew/perls/perl-5.28/lib/5.28.3/darwin-thread-multi-2level
    /Users/chadwick/perl5/perlbrew/perls/perl-5.28/lib/5.28.3
    /Users/chadwick/perl5/perlbrew/perls/perl-5.28/lib/site_perl/5.28.2/darwin-thread-multi-2level
    /Users/chadwick/perl5/perlbrew/perls/perl-5.28/lib/site_perl/5.28.2
    /Users/chadwick/perl5/perlbrew/perls/perl-5.28/lib/site_perl/5.28.1/darwin-thread-multi-2level
    /Users/chadwick/perl5/perlbrew/perls/perl-5.28/lib/site_perl/5.28.1
    /Users/chadwick/perl5/perlbrew/perls/perl-5.28/lib/site_perl
    .