Back
From: metabase:user:30ae4450-2aae-11df-837a-5e0a49663a4f
Subject: PASS InlineX-CPP2XS-0.25 v5.18.0
Date: 2016-10-24T13:54:19Z
This distribution has been tested as part of the CPAN Testers
project, supporting the Perl programming language. See
http://wiki.cpantesters.org/ for more information or email
questions to cpan-testers-discuss@perl.org
--
Dear Sisyphus,
This is a computer-generated report for InlineX-CPP2XS-0.25
on perl 5.18.0, created by CPAN-Reporter-1.2014.
Thank you for uploading your work to CPAN. Congratulations!
All tests were successful.
Sections of this report:
* Tester comments
* Program output
* Prerequisites
* Environment and other context
------------------------------
TESTER COMMENTS
------------------------------
Additional comments from tester:
this report is from an automated smoke testing program
and was not reviewed by a human for accuracy
------------------------------
PROGRAM OUTPUT
------------------------------
Output from 'C:\strawberry180\c\bin\dmake.exe test':
C:\strawberry180\perl\bin\perl.exe -MExtUtils::Command -e cp -- cpp2xs blib\script\cpp2xs
pl2bat.bat blib\script\cpp2xs
C:\strawberry180\perl\bin\perl.exe "-MExtUtils::Command::MM" "-e" "test_harness(0, 'blib\lib', 'blib\arch')" t/*.t
Test::Pod version: 1.48
Pod::Simple version: 3.28
t/pod.t ............... ok
Starting Build Preprocess Stage
get_maps Stage
Finished Build Preprocess Stage
Starting Build Parse Stage
Finished Build Parse Stage
Starting Build Glue 1 Stage
Finished Build Glue 1 Stage
Starting Build Glue 2 Stage
Finished Build Glue 2 Stage
t/t_autowrap_cpp.t .... ok
Starting Build Preprocess Stage
get_maps Stage
Finished Build Preprocess Stage
Starting Build Parse Stage
Finished Build Parse Stage
Starting Build Glue 1 Stage
Finished Build Glue 1 Stage
Starting Build Glue 2 Stage
Finished Build Glue 2 Stage
t/t_code.t ............ ok
Starting Build Preprocess Stage
get_maps Stage
Finished Build Preprocess Stage
Starting Build Parse Stage
Finished Build Parse Stage
Starting Build Glue 1 Stage
validate Stage
Finished Build Glue 1 Stage
Starting Build Glue 2 Stage
Finished Build Glue 2 Stage
t/t_cpp.t ............. ok
t/t_cpp2xs_utility.t .. ok
Starting Build Preprocess Stage
get_maps Stage
Finished Build Preprocess Stage
Starting Build Parse Stage
Finished Build Parse Stage
Starting Build Glue 1 Stage
Finished Build Glue 1 Stage
t/t_exports.t ......... ok
Starting Build Preprocess Stage
get_maps Stage
Finished Build Preprocess Stage
Starting Build Parse Stage
Finished Build Parse Stage
Starting Build Glue 1 Stage
Finished Build Glue 1 Stage
t/t_hello.t ........... ok
t/t_makefile_pl.t ..... ok
Starting Build Preprocess Stage
get_maps Stage
Finished Build Preprocess Stage
Starting Build Parse Stage
Finished Build Parse Stage
Starting Build Glue 1 Stage
validate Stage
Finished Build Glue 1 Stage
Starting Build Glue 3 Stage
Finished Build Glue 3 Stage
demos/cpp2xs_utility/FastSieve.pm syntax OK
demos/cpp2xs_utility/Makefile.PL syntax OK
Starting Build Preprocess Stage
get_maps Stage
Finished Build Preprocess Stage
Starting Build Parse Stage
Finished Build Parse Stage
Starting Build Glue 1 Stage
validate Stage
Finished Build Glue 1 Stage
Starting Build Glue 3 Stage
Finished Build Glue 3 Stage
demos/cpp2xs_utility/mybuild/FastSieve.pm syntax OK
demos/cpp2xs_utility/mybuild/Makefile.PL syntax OK
t/t_portability.t ..... ok
Starting Build Preprocess Stage
get_maps Stage
Finished Build Preprocess Stage
Starting Build Parse Stage
Finished Build Parse Stage
Starting Build Glue 1 Stage
Finished Build Glue 1 Stage
Starting Build Glue 2 Stage
Finished Build Glue 2 Stage
Starting Build Preprocess Stage
get_maps Stage
Finished Build Preprocess Stage
Starting Build Parse Stage
Finished Build Parse Stage
Starting Build Glue 1 Stage
Finished Build Glue 1 Stage
Starting Build Glue 2 Stage
Finished Build Glue 2 Stage
t/t_prehead.t ......... ok
Starting Build Preprocess Stage
get_maps Stage
Finished Build Preprocess Stage
Starting Build Parse Stage
Finished Build Parse Stage
Starting Build Glue 1 Stage
Finished Build Glue 1 Stage
Starting Build Glue 3 Stage
Finished Build Glue 3 Stage
t/t_prereq_pm.t ....... ok
Starting Build Preprocess Stage
get_maps Stage
Finished Build Preprocess Stage
Starting Build Parse Stage
Finished Build Parse Stage
Starting Build Glue 1 Stage
Finished Build Glue 1 Stage
Starting Build Glue 2 Stage
Finished Build Glue 2 Stage
t/t_src_location.t .... ok
All tests successful.
Files=12, Tests=101, 11 wallclock secs ( 0.07 usr + 0.04 sys = 0.11 CPU)
Result: PASS
dmake.exe: Warning: -- Target [blib\script\cpp2xs] was made but the time stamp has not been updated.
------------------------------
PREREQUISITES
------------------------------
Prerequisite modules loaded:
requires:
Module Need Have
------------------- ---- ----
Inline 0.5 0.80
Inline::CPP 0.39 0.74
Test::Warn 0.24 0.24
build_requires:
Module Need Have
------------------- ---- ----
ExtUtils::MakeMaker 0 6.66
configure_requires:
Module Need Have
------------------- ---- ----
ExtUtils::MakeMaker 0 6.66
------------------------------
ENVIRONMENT AND OTHER CONTEXT
------------------------------
Environment variables:
AUTOMATED_TESTING = 1
COMSPEC = C:\WINDOWS\system32\cmd.exe
NUMBER_OF_PROCESSORS = 1
PATH = C:\WINDOWS\system32;C:\WINDOWS;C:\WINDOWS\System32\Wbem;C:\strawberry180\c\bin;C:\strawberry180\perl\site\bin;C:\strawberry180\perl\bin
PERL5LIB = C:\strawberry180\cpan\build\Inline-CPP-0.74-lTn2S8/blib/arch;C:\strawberry180\cpan\build\Inline-CPP-0.74-lTn2S8/blib/lib;C:\strawberry180\cpan\build\Test-Simple-1.302062-PmLlBv/blib/arch;C:\strawberry180\cpan\build\Test-Simple-1.302062-PmLlBv/blib/lib;C:\strawberry180\cpan\build\Pegex-0.61-jmK6Wk/blib/arch;C:\strawberry180\cpan\build\Pegex-0.61-jmK6Wk/blib/lib;C:\strawberry180\cpan\build\File-ShareDir-Install-0.11-rulmeh/blib/arch;C:\strawberry180\cpan\build\File-ShareDir-Install-0.11-rulmeh/blib/lib;C:\strawberry180\cpan\build\Module-Build-Tiny-0.039-aB9vWn/blib/arch;C:\strawberry180\cpan\build\Module-Build-Tiny-0.039-aB9vWn/blib/lib;C:\strawberry180\cpan\build\Test-Harness-3.36-U5G7lZ/blib/arch;C:\strawberry180\cpan\build\Test-Harness-3.36-U5G7lZ/blib/lib;C:\strawberry180\cpan\build\Inline-0.80-NOnoI4/blib/arch;C:\strawberry180\cpan\build\Inline-0.80-NOnoI4/blib/lib;C:\strawberry180\cpan\build\ExtUtils-CppGuess-0.11-WjmNW8/blib/arch;C:\strawberry180\cpan\build\ExtUtils-CppGuess-0.11-WjmNW8/blib/lib
PERL5OPT =
PERL5_CPANPLUS_IS_RUNNING = 1824
PERL5_CPAN_IS_RUNNING = 1824
PERL5_CPAN_IS_RUNNING_IN_RECURSION = 1232,1824
PERL_CR_SMOKER_CURRENT = InlineX-CPP2XS-0.25
PERL_CR_SMOKER_RUNONCE = 1
PERL_EXTUTILS_AUTOINSTALL = --defaultdeps
PERL_MM_USE_DEFAULT = 1
PROCESSOR_IDENTIFIER = x86 Family 16 Model 5 Stepping 3, AuthenticAMD
TEMP = C:\DOCUME~1\c\LOCALS~1\Temp
TERM = dumb
Perl special variables (and OS-specific diagnostics, for MSWin32):
$^X = C:\strawberry180\perl\bin\perl.exe
$UID/$EUID = 0 / 0
$GID = 0
$EGID = 0
Win32::GetOSName = WinXP/.Net
Win32::GetOSVersion = Service Pack 3, 5, 1, 2600, 2, 3, 0, 256, 1
Win32::FsType = NTFS
Win32::IsAdminUser = 1
Perl module toolchain versions installed:
Module Have
------------------- --------
CPAN 2.00
CPAN::Meta 2.130880
Cwd 3.40
ExtUtils::CBuilder 0.280210
ExtUtils::Command 1.17
ExtUtils::Install 1.59
ExtUtils::MakeMaker 6.66
ExtUtils::Manifest 1.63
ExtUtils::ParseXS 3.18
File::Spec 3.40
JSON 2.57
JSON::PP 2.27202
Module::Build 0.4005
Module::Signature n/a
Parse::CPAN::Meta 1.4404
Test::Harness 3.36
Test::More 1.302062
YAML 0.84
YAML::Syck 1.27
version 0.9902
--
Summary of my perl5 (revision 5 version 18 subversion 0) configuration:
Platform:
osname=MSWin32, osvers=4.0, archname=MSWin32-x86-multi-thread-64int
uname='Win32 strawberry-perl 5.18.0.1 #1 Sat May 18 17:46:00 2013 i386'
config_args='undef'
hint=recommended, useposix=true, d_sigaction=undef
useithreads=define, usemultiplicity=define
useperlio=define, d_sfio=undef, uselargefiles=define, usesocks=undef
use64bitint=define, use64bitall=undef, uselongdouble=undef
usemymalloc=n, bincompat5005=undef
Compiler:
cc='gcc', ccflags =' -s -O2 -DWIN32 -DPERL_TEXTMODE_SCRIPTS -DPERL_IMPLICIT_CONTEXT -DPERL_IMPLICIT_SYS -DUSE_PERLIO -fno-strict-aliasing -mms-bitfields',
optimize='-s -O2',
cppflags='-DWIN32'
ccversion='', gccversion='4.6.3', gccosandvers=''
intsize=4, longsize=4, ptrsize=4, doublesize=8, byteorder=12345678
d_longlong=define, longlongsize=8, d_longdbl=define, longdblsize=12
ivtype='long long', ivsize=8, nvtype='double', nvsize=8, Off_t='long long', lseeksize=8
alignbytes=8, prototype=define
Linker and Libraries:
ld='g++', ldflags ='-s -L"C:\strawberry180\perl\lib\CORE" -L"C:\strawberry180\c\lib"'
libpth=C:\strawberry180\c\lib C:\strawberry180\c\i686-w64-mingw32\lib
libs=-lmoldname -lkernel32 -luser32 -lgdi32 -lwinspool -lcomdlg32 -ladvapi32 -lshell32 -lole32 -loleaut32 -lnetapi32 -luuid -lws2_32 -lmpr -lwinmm -lversion -lodbc32 -lodbccp32 -lcomctl32
perllibs=-lmoldname -lkernel32 -luser32 -lgdi32 -lwinspool -lcomdlg32 -ladvapi32 -lshell32 -lole32 -loleaut32 -lnetapi32 -luuid -lws2_32 -lmpr -lwinmm -lversion -lodbc32 -lodbccp32 -lcomctl32
libc=, so=dll, useshrplib=true, libperl=libperl518.a
gnulibc_version=''
Dynamic Linking:
dlsrc=dl_win32.xs, dlext=dll, d_dlsymun=undef, ccdlflags=' '
cccdlflags=' ', lddlflags='-mdll -s -L"C:\strawberry180\perl\lib\CORE" -L"C:\strawberry180\c\lib"'
Characteristics of this binary (from libperl):
Compile-time options: HAS_TIMES HAVE_INTERP_INTERN MULTIPLICITY
PERLIO_LAYERS PERL_DONT_CREATE_GVSV
PERL_HASH_FUNC_ONE_AT_A_TIME_HARD
PERL_IMPLICIT_CONTEXT PERL_IMPLICIT_SYS
PERL_MALLOC_WRAP PERL_PRESERVE_IVUV PERL_SAWAMPERSAND
USE_64_BIT_INT USE_ITHREADS USE_LARGE_FILES
USE_LOCALE USE_LOCALE_COLLATE USE_LOCALE_CTYPE
USE_LOCALE_NUMERIC USE_PERLIO USE_PERL_ATOF
Built under MSWin32
Compiled at May 18 2013 17:53:14
%ENV:
PERL5LIB="C:\strawberry180\cpan\build\Inline-CPP-0.74-lTn2S8/blib/arch;C:\strawberry180\cpan\build\Inline-CPP-0.74-lTn2S8/blib/lib;C:\strawberry180\cpan\build\Test-Simple-1.302062-PmLlBv/blib/arch;C:\strawberry180\cpan\build\Test-Simple-1.302062-PmLlBv/blib/lib;C:\strawberry180\cpan\build\Pegex-0.61-jmK6Wk/blib/arch;C:\strawberry180\cpan\build\Pegex-0.61-jmK6Wk/blib/lib;C:\strawberry180\cpan\build\File-ShareDir-Install-0.11-rulmeh/blib/arch;C:\strawberry180\cpan\build\File-ShareDir-Install-0.11-rulmeh/blib/lib;C:\strawberry180\cpan\build\Module-Build-Tiny-0.039-aB9vWn/blib/arch;C:\strawberry180\cpan\build\Module-Build-Tiny-0.039-aB9vWn/blib/lib;C:\strawberry180\cpan\build\Test-Harness-3.36-U5G7lZ/blib/arch;C:\strawberry180\cpan\build\Test-Harness-3.36-U5G7lZ/blib/lib;C:\strawberry180\cpan\build\Inline-0.80-NOnoI4/blib/arch;C:\strawberry180\cpan\build\Inline-0.80-NOnoI4/blib/lib;C:\strawberry180\cpan\build\ExtUtils-CppGuess-0.11-WjmNW8/blib/arch;C:\strawberry180\cpan\build\ExtUtils-CppGuess-0.11-WjmNW8/blib/lib"
PERL5_CPANPLUS_IS_RUNNING="1824"
PERL5_CPAN_IS_RUNNING="1824"
PERL5_CPAN_IS_RUNNING_IN_RECURSION="1232,1824"
PERL_CR_SMOKER_CURRENT="InlineX-CPP2XS-0.25"
PERL_CR_SMOKER_RUNONCE="1"
PERL_EXTUTILS_AUTOINSTALL="--defaultdeps"
PERL_MM_USE_DEFAULT="1"
@INC:
C:\strawberry180\cpan\build\Inline-CPP-0.74-lTn2S8/blib/arch
C:\strawberry180\cpan\build\Inline-CPP-0.74-lTn2S8/blib/lib
C:\strawberry180\cpan\build\Test-Simple-1.302062-PmLlBv/blib/arch
C:\strawberry180\cpan\build\Test-Simple-1.302062-PmLlBv/blib/lib
C:\strawberry180\cpan\build\Pegex-0.61-jmK6Wk/blib/arch
C:\strawberry180\cpan\build\Pegex-0.61-jmK6Wk/blib/lib
C:\strawberry180\cpan\build\File-ShareDir-Install-0.11-rulmeh/blib/arch
C:\strawberry180\cpan\build\File-ShareDir-Install-0.11-rulmeh/blib/lib
C:\strawberry180\cpan\build\Module-Build-Tiny-0.039-aB9vWn/blib/arch
C:\strawberry180\cpan\build\Module-Build-Tiny-0.039-aB9vWn/blib/lib
C:\strawberry180\cpan\build\Test-Harness-3.36-U5G7lZ/blib/arch
C:\strawberry180\cpan\build\Test-Harness-3.36-U5G7lZ/blib/lib
C:\strawberry180\cpan\build\Inline-0.80-NOnoI4/blib/arch
C:\strawberry180\cpan\build\Inline-0.80-NOnoI4/blib/lib
C:\strawberry180\cpan\build\ExtUtils-CppGuess-0.11-WjmNW8/blib/arch
C:\strawberry180\cpan\build\ExtUtils-CppGuess-0.11-WjmNW8/blib/lib
C:/strawberry180/perl/site/lib
C:/strawberry180/perl/vendor/lib
C:/strawberry180/perl/lib
.