MooseX-ClassAttribute v0.29 Perl 5 v5.35.10 amd64-freebsd-thread-multi

Status
Pass
From
James E Keenan
Dist
MooseX-ClassAttribute v0.29
Platform
Perl 5 v5.35.10 amd64-freebsd-thread-multi
Date
2022-03-01 22:03:52
ID
7b2835e4-99ab-11ec-acf7-d0f5c6e46b64
This distribution has been tested as part of the CPAN Testers
project, supporting the Perl programming language.  See
http://wiki.cpantesters.org/ for more information or email
questions to cpan-testers-discuss@perl.org


--
Dear Dave Rolsky,

This is a computer-generated report for MooseX-ClassAttribute-0.29
on perl 5.35.10, created by CPAN-Reporter-1.2018.

Thank you for uploading your work to CPAN.  Congratulations!
All tests were successful.

Sections of this report:

    * Tester comments
    * Program output
    * Prerequisites
    * Environment and other context

------------------------------
TESTER COMMENTS
------------------------------

Additional comments from tester:

none provided

------------------------------
PROGRAM OUTPUT
------------------------------

Output from '/usr/bin/make test':

PERL_DL_NONLAZY=1 "/usr/home/jkeenan/testing/blead/bin/perl" "-MExtUtils::Command::MM" "-MTest::Harness" "-e" "undef *Test::Harness::Switches; test_harness(0, 'blib/lib', 'blib/arch')" t/*.t
# 
# Versions for all modules listed in MYMETA.json (including optional ones):
# 
# === Configure Requires ===
# 
#     Module              Want Have
#     ------------------- ---- ----
#     ExtUtils::MakeMaker  any 7.64
# 
# === Build Requires ===
# 
#     Module              Want Have
#     ------------------- ---- ----
#     ExtUtils::MakeMaker  any 7.64
# 
# === Test Requires ===
# 
#     Module              Want     Have
#     ------------------- ---- --------
#     ExtUtils::MakeMaker  any     7.64
#     File::Spec           any     3.83
#     Test::Fatal          any    0.016
#     Test::More          0.96 1.302188
#     Test::Requires      0.05     0.11
#     lib                  any     0.65
#     vars                 any     1.05
# 
# === Test Recommends ===
# 
#     Module         Want     Have
#     ---------- -------- --------
#     CPAN::Meta 2.120900 2.150010
# 
# === Runtime Requires ===
# 
#     Module                       Want   Have
#     ---------------------------- ---- ------
#     List::Util                   1.45   1.61
#     Moose                        2.00 2.2201
#     Moose::Exporter               any 2.2201
#     Moose::Meta::Role::Attribute  any 2.2201
#     Moose::Role                   any 2.2201
#     Moose::Util                   any 2.2201
#     Moose::Util::MetaRole         any 2.2201
#     Scalar::Util                  any   1.61
#     namespace::autoclean         0.11   0.29
#     namespace::clean             0.20   0.27
#     strict                        any   1.12
#     warnings                      any   1.57
# 
t/00-report-prereqs.t ..................... ok
t/01-basic.t .............................. ok
t/02-immutable.t .......................... ok
t/03-introspection.t ...................... ok
t/04-with-native-traits.t ................. ok
t/05-with-attribute-helpers-backcompat.t .. skipped: Test requires module 'MooseX::AttributeHelpers' but it's not found
t/06-role.t ............................... ok
t/07-parameterized-role.t ................. skipped: This test will not pass without changes to MooseX::Role::Parmeterized
t/08-role-composition.t ................... ok
t/09-bare-native-traits.t ................. ok
t/10-strict-role-composition.t ............ skipped: Test requires module 'MooseX::Role::Strict' but it's not found
t/11-moose-exporter.t ..................... skipped: This test fails with a syntax error
t/12-with-initializer.t ................... ok
All tests successful.
Files=13, Tests=178,  4 wallclock secs ( 0.09 usr  0.00 sys +  3.78 cusr  0.52 csys =  4.38 CPU)
Result: PASS

------------------------------
PREREQUISITES
------------------------------

Prerequisite modules loaded:

requires:

    Module                       Need     Have    
    ---------------------------- -------- --------
    List::Util                   1.45     1.61    
    Moose                        2.00     2.2201  
    Moose::Exporter              0        2.2201  
    Moose::Meta::Role::Attribute 0        2.2201  
    Moose::Role                  0        2.2201  
    Moose::Util                  0        2.2201  
    Moose::Util::MetaRole        0        2.2201  
    namespace::autoclean         0.11     0.29    
    namespace::clean             0.20     0.27    
    Scalar::Util                 0        1.61    
    strict                       0        1.12    
    warnings                     0        1.57    

build_requires:

    Module                       Need     Have    
    ---------------------------- -------- --------
    ExtUtils::MakeMaker          0        7.64    
    File::Spec                   0        3.83    
    lib                          0        0.65    
    Test::Fatal                  0        0.016   
    Test::More                   0.96     1.302188
    Test::Requires               0.05     0.11    
    vars                         0        1.05    

configure_requires:

    Module                       Need     Have    
    ---------------------------- -------- --------
    ExtUtils::MakeMaker          0        7.64    

opt_build_requires:

    Module                       Need     Have    
    ---------------------------- -------- --------
    CPAN::Meta                   2.120900 2.150010


------------------------------
ENVIRONMENT AND OTHER CONTEXT
------------------------------

Environment variables:

    LANG = C.UTF-8
    NONINTERACTIVE_TESTING = 1
    PATH = /sbin:/bin:/usr/sbin:/usr/bin:/usr/local/sbin:/usr/local/bin:/home/jkeenan/bin:/home/jkeenan/bin/perl:/home/jkeenan/bin/shell
    PERL5LIB = 
    PERL5OPT = 
    PERL5_CPANPLUS_IS_RUNNING = 89879
    PERL5_CPAN_IS_RUNNING = 89879
    PERL_MM_USE_DEFAULT = 1
    PERL_USE_UNSAFE_INC = 1
    PERL_WORKDIR = /home/jkeenan/gitwork/perl
    SHELL = /bin/sh
    TERM = xterm-256color

Perl special variables (and OS-specific diagnostics, for MSWin32):

    $^X = /usr/home/jkeenan/testing/blead/bin/perl
    $UID/$EUID = 1002 / 1002
    $GID = 1002 1002 0 5
    $EGID = 1002 1002 0 5

Perl module toolchain versions installed:

    Module              Have    
    ------------------- --------
    CPAN                2.33    
    CPAN::Meta          2.150010
    Cwd                 3.83    
    ExtUtils::CBuilder  0.280236
    ExtUtils::Command   7.64    
    ExtUtils::Install   2.20    
    ExtUtils::MakeMaker 7.64    
    ExtUtils::Manifest  1.73    
    ExtUtils::ParseXS   3.44    
    File::Spec          3.83    
    JSON                4.05    
    JSON::PP            4.07    
    Module::Build       0.4231  
    Module::Signature   n/a     
    Parse::CPAN::Meta   2.150010
    Test::Harness       3.43    
    Test::More          1.302188
    YAML                1.30    
    YAML::Syck          1.34    
    version             0.9929  


--

Summary of my perl5 (revision 5 version 35 subversion 10) configuration:
  Commit id: f0ef35deb0072805b68cef82ebe28739f67ca79a
  Platform:
    osname=freebsd
    osvers=13.0-release
    archname=amd64-freebsd-thread-multi
    uname='freebsd perl-reporter-12 13.0-release freebsd 13.0-release #0 releng13.0-n244733-ea31abc261f: fri apr 9 04:24:09 utc 2021 root@releng1.nyi.freebsd.org:usrobjusrsrcamd64.amd64sysgeneric amd64 '
    config_args='-des -Dusedevel -Uversiononly -Dprefix=/home/jkeenan/testing/blead -Dman1dir=none -Dman3dir=none -Duseithreads -Doptimize=-O2 -pipe -fstack-protector -fno-strict-aliasing'
    hint=recommended
    useposix=true
    d_sigaction=define
    useithreads=define
    usemultiplicity=define
    use64bitint=define
    use64bitall=define
    uselongdouble=undef
    usemymalloc=n
    default_inc_excludes_dot=define
  Compiler:
    cc='cc'
    ccflags ='-DHAS_FPSETMASK -DHAS_FLOATINGPOINT_H -fno-strict-aliasing -pipe -fstack-protector-strong -I/usr/local/include'
    optimize='-O2 -pipe -fstack-protector -fno-strict-aliasing'
    cppflags='-DHAS_FPSETMASK -DHAS_FLOATINGPOINT_H -fno-strict-aliasing -pipe -fstack-protector-strong -I/usr/local/include'
    ccversion=''
    gccversion='FreeBSD Clang 11.0.1 (git@github.com:llvm/llvm-project.git llvmorg-11.0.1-0-g43ff75f2c3fe)'
    gccosandvers=''
    intsize=4
    longsize=8
    ptrsize=8
    doublesize=8
    byteorder=12345678
    doublekind=3
    d_longlong=define
    longlongsize=8
    d_longdbl=define
    longdblsize=16
    longdblkind=3
    ivtype='long'
    ivsize=8
    nvtype='double'
    nvsize=8
    Off_t='off_t'
    lseeksize=8
    alignbytes=8
    prototype=define
  Linker and Libraries:
    ld='cc'
    ldflags ='-pthread -Wl,-E  -fstack-protector-strong -L/usr/local/lib'
    libpth=/usr/lib /usr/local/lib /usr/lib/clang/11.0.1/lib
    libs=-lpthread -lgdbm -ldl -lm -lcrypt -lutil
    perllibs=-lpthread -ldl -lm -lcrypt -lutil
    libc=
    so=so
    useshrplib=false
    libperl=libperl.a
    gnulibc_version=''
  Dynamic Linking:
    dlsrc=dl_dlopen.xs
    dlext=so
    d_dlsymun=undef
    ccdlflags=' '
    cccdlflags='-DPIC -fPIC'
    lddlflags='-shared  -L/usr/local/lib -fstack-protector-strong'


Characteristics of this binary (from libperl): 
  Compile-time options:
    HAS_TIMES
    MULTIPLICITY
    PERLIO_LAYERS
    PERL_COPY_ON_WRITE
    PERL_DONT_CREATE_GVSV
    PERL_MALLOC_WRAP
    PERL_OP_PARENT
    PERL_PRESERVE_IVUV
    PERL_USE_DEVEL
    USE_64_BIT_ALL
    USE_64_BIT_INT
    USE_ITHREADS
    USE_LARGE_FILES
    USE_LOCALE
    USE_LOCALE_COLLATE
    USE_LOCALE_CTYPE
    USE_LOCALE_NUMERIC
    USE_LOCALE_TIME
    USE_PERLIO
    USE_PERL_ATOF
    USE_REENTRANT_API
    USE_THREAD_SAFE_LOCALE
  Built under freebsd
  Compiled at Mar  1 2022 13:09:38
  %ENV:
    PERL5LIB=""
    PERL5OPT=""
    PERL5_CPANPLUS_IS_RUNNING="89879"
    PERL5_CPAN_IS_RUNNING="89879"
    PERL_MM_USE_DEFAULT="1"
    PERL_USE_UNSAFE_INC="1"
    PERL_WORKDIR="/home/jkeenan/gitwork/perl"
  @INC:
    /home/jkeenan/testing/blead/lib/perl5/site_perl/5.35.10/amd64-freebsd-thread-multi
    /home/jkeenan/testing/blead/lib/perl5/site_perl/5.35.10
    /home/jkeenan/testing/blead/lib/perl5/5.35.10/amd64-freebsd-thread-multi
    /home/jkeenan/testing/blead/lib/perl5/5.35.10
    .