XML-Fast v0.17 Perl 5 v5.24.4 darwin-2level

Status
Pass
From
Nigel Horne
Dist
XML-Fast v0.17
Platform
Perl 5 v5.24.4 darwin-2level
Date
2018-12-19 22:43:19
ID
7b6533fa-03df-11e9-85db-ff28fe059962
This distribution has been tested as part of the CPAN Testers
project, supporting the Perl programming language.  See
http://wiki.cpantesters.org/ for more information or email
questions to cpan-testers-discuss@perl.org


--
Dear Mons Anderson,

This is a computer-generated report for XML-Fast-0.17
on perl 5.24.4, created by CPAN-Reporter-1.2018.

Thank you for uploading your work to CPAN.  Congratulations!
All tests were successful.

Sections of this report:

    * Tester comments
    * Program output
    * Prerequisites
    * Environment and other context

------------------------------
TESTER COMMENTS
------------------------------

Additional comments from tester:

this report is from an automated smoke testing program
and was not reviewed by a human for accuracy

------------------------------
PROGRAM OUTPUT
------------------------------

Output from '/sw/bin/make test':

"/Users/hornenj/perl5/perlbrew/perls/perl-5.24.4/bin/perl" -MExtUtils::Command::MM -e 'cp_nonempty' -- Fast.bs blib/arch/auto/XML/Fast/Fast.bs 644
PERL_DL_NONLAZY=1 "/Users/hornenj/perl5/perlbrew/perls/perl-5.24.4/bin/perl" "-MExtUtils::Command::MM" "-MTest::Harness" "-e" "undef *Test::Harness::Switches; test_harness(0, 'blib/lib', 'blib/arch')" t/*.t
t/00-load.t ..... ok
t/01-conv.t ..... ok
# testing file t/reports/01.xml
# testing file t/badxml/01.xml
# testing file t/badxml/02.xml
t/04-badxml.t ... ok
# testing file t/reports/02.xml
# testing file t/reports/03.xml
# testing file t/reports/04.xml
t/02-doctype.t .. ok
# testing file t/reports/05.xml
t/03-reports.t .. ok
t/05-wrongs.t ... ok
All tests successful.
Files=6, Tests=88,  0 wallclock secs ( 0.03 usr  0.02 sys +  0.37 cusr  0.38 csys =  0.80 CPU)
Result: PASS

------------------------------
PREREQUISITES
------------------------------

Prerequisite modules loaded:

requires:

    Module              Need Have
    ------------------- ---- ----
    Encode              0    2.98

build_requires:

    Module              Need Have
    ------------------- ---- ----
    ExtUtils::MakeMaker 0    7.34

configure_requires:

    Module              Need Have
    ------------------- ---- ----
    ExtUtils::MakeMaker 0    7.34


------------------------------
ENVIRONMENT AND OTHER CONTEXT
------------------------------

Environment variables:

    AUTOMATED_TESTING = 1
    HARNESS_OPTIONS = j4
    LANG = en_US.UTF-8
    LC_ALL = POSIX
    NONINTERACTIVE_TESTING = 1
    PATH = /Users/hornenj/perl5/perlbrew/bin:/Users/hornenj/perl5/perlbrew/perls/perl-5.24.4/bin:src/njh/smoker/bin:/Users/hornenj/homebrew/bin:/Users/hornenj/bin:/usr/bin:/bin:/usr/X11R6/bin:/sw/bin
    PERL5LIB = /Users/hornenj/.cpan/build/Test-Trap-v0.3.4-3/blib/arch:/Users/hornenj/.cpan/build/Test-Trap-v0.3.4-3/blib/lib:/Users/hornenj/.cpan/build/Data-Dump-1.23-2/blib/arch:/Users/hornenj/.cpan/build/Data-Dump-1.23-2/blib/lib:/Users/hornenj/.cpan/build/HTTP-Request-Generator-0.05-7/blib/arch:/Users/hornenj/.cpan/build/HTTP-Request-Generator-0.05-7/blib/lib:/Users/hornenj/.cpan/build/Filter-signatures-0.15-7/blib/arch:/Users/hornenj/.cpan/build/Filter-signatures-0.15-7/blib/lib:/Users/hornenj/.cpan/build/Algorithm-Loops-1.032-7/blib/arch:/Users/hornenj/.cpan/build/Algorithm-Loops-1.032-7/blib/lib:/Users/hornenj/.cpan/build/Statistics-Running-Tiny-0.02-7/blib/arch:/Users/hornenj/.cpan/build/Statistics-Running-Tiny-0.02-7/blib/lib:/Users/hornenj/.cpan/build/Statistics-Running-0.02-7/blib/arch:/Users/hornenj/.cpan/build/Statistics-Running-0.02-7/blib/lib:/Users/hornenj/.cpan/build/Statistics-Histogram-0.2-43/blib/arch:/Users/hornenj/.cpan/build/Statistics-Histogram-0.2-43/blib/lib:/Users/hornenj/.cpan/build/Statistics-Descriptive-3.0702-41/blib/arch:/Users/hornenj/.cpan/build/Statistics-Descriptive-3.0702-41/blib/lib
    PERL5OPT = 
    PERL5_CPANPLUS_IS_RUNNING = 4648
    PERL5_CPAN_IS_RUNNING = 4648
    PERLBREW_HOME = /Users/hornenj/.perlbrew
    PERLBREW_MANPATH = /Users/hornenj/perl5/perlbrew/perls/perl-5.24.4/man
    PERLBREW_PATH = /Users/hornenj/perl5/perlbrew/bin:/Users/hornenj/perl5/perlbrew/perls/perl-5.24.4/bin
    PERLBREW_PERL = perl-5.24.4
    PERLBREW_ROOT = /Users/hornenj/perl5/perlbrew
    PERLBREW_SHELLRC_VERSION = 0.84
    PERLBREW_VERSION = 0.84
    PERL_MM_USE_DEFAULT = 1
    SHELL = /bin/bash
    TERM = xterm-256color
    TMPDIR = /var/folders/pz/pd7y1qjs6s3cbk170cw50fjc000c61/T//testwrapper.4634
    VERSIONER_PERL_PREFER_32_BIT = no
    VERSIONER_PERL_VERSION = 5.18

Perl special variables (and OS-specific diagnostics, for MSWin32):

    $^X = /Users/hornenj/perl5/perlbrew/perls/perl-5.24.4/bin/perl
    $UID/$EUID = 12481 / 12481
    $GID = 14 14 206 5344 37191 527 12 62 98 204 399 37223 241 223 100
    $EGID = 14 14 206 5344 37191 527 12 62 98 204 399 37223 241 223 100

Perl module toolchain versions installed:

    Module              Have    
    ------------------- --------
    CPAN                2.16    
    CPAN::Meta          2.150010
    Cwd                 3.75    
    ExtUtils::CBuilder  0.280230
    ExtUtils::Command   7.34    
    ExtUtils::Install   2.14    
    ExtUtils::MakeMaker 7.34    
    ExtUtils::Manifest  1.71    
    ExtUtils::ParseXS   3.35    
    File::Spec          3.75    
    JSON                4.00    
    JSON::PP            2.97001 
    Module::Build       0.4224  
    Module::Signature   n/a     
    Parse::CPAN::Meta   2.150010
    Test::Harness       3.42    
    Test::More          1.302136
    YAML                1.27    
    YAML::Syck          1.31    
    version             0.9924  


--

Summary of my perl5 (revision 5 version 24 subversion 4) configuration:
   
  Platform:
    osname=darwin, osvers=17.5.0, archname=darwin-2level
    uname='darwin ncbimac2024 17.5.0 darwin kernel version 17.5.0: fri apr 13 19:32:32 pdt 2018; root:xnu-4570.51.2~1release_x86_64 x86_64 '
    config_args='-de -Dprefix=/Users/hornenj/perl5/perlbrew/perls/perl-5.24.4 -Aeval:scriptdir=/Users/hornenj/perl5/perlbrew/perls/perl-5.24.4/bin'
    hint=recommended, useposix=true, d_sigaction=define
    useithreads=undef, usemultiplicity=undef
    use64bitint=define, use64bitall=define, uselongdouble=undef
    usemymalloc=n, bincompat5005=undef
  Compiler:
    cc='cc', ccflags ='-fno-common -DPERL_DARWIN -fno-strict-aliasing -pipe -fstack-protector-strong',
    optimize='-O3',
    cppflags='-fno-common -DPERL_DARWIN -fno-strict-aliasing -pipe -fstack-protector-strong'
    ccversion='', gccversion='4.2.1 Compatible Apple LLVM 9.1.0 (clang-902.0.39.1)', gccosandvers=''
    intsize=4, longsize=8, ptrsize=8, doublesize=8, byteorder=12345678, doublekind=3
    d_longlong=define, longlongsize=8, d_longdbl=define, longdblsize=16, longdblkind=3
    ivtype='long', ivsize=8, nvtype='double', nvsize=8, Off_t='off_t', lseeksize=8
    alignbytes=8, prototype=define
  Linker and Libraries:
    ld='env MACOSX_DEPLOYMENT_TARGET=10.3 cc', ldflags =' -fstack-protector-strong -L/usr/local/lib'
    libpth=/Applications/Xcode.app/Contents/Developer/Toolchains/XcodeDefault.xctoolchain/usr/lib/clang/9.1.0/lib /Applications/Xcode.app/Contents/Developer/Toolchains/XcodeDefault.xctoolchain/usr/lib /usr/lib /usr/local/lib
    libs=-lpthread -ldbm -ldl -lm -lutil -lc
    perllibs=-lpthread -ldl -lm -lutil -lc
    libc=, so=dylib, useshrplib=false, libperl=libperl.a
    gnulibc_version=''
  Dynamic Linking:
    dlsrc=dl_dlopen.xs, dlext=bundle, d_dlsymun=undef, ccdlflags=' '
    cccdlflags=' ', lddlflags=' -bundle -undefined dynamic_lookup -L/usr/local/lib -fstack-protector-strong'


Characteristics of this binary (from libperl): 
  Compile-time options: HAS_TIMES PERLIO_LAYERS PERL_COPY_ON_WRITE
                        PERL_DONT_CREATE_GVSV
                        PERL_HASH_FUNC_ONE_AT_A_TIME_HARD PERL_MALLOC_WRAP
                        PERL_PRESERVE_IVUV USE_64_BIT_ALL USE_64_BIT_INT
                        USE_LARGE_FILES USE_LOCALE USE_LOCALE_COLLATE
                        USE_LOCALE_CTYPE USE_LOCALE_NUMERIC USE_LOCALE_TIME
                        USE_PERLIO USE_PERL_ATOF
  Locally applied patches:
	Devel::PatchPerl 1.30
  Built under darwin
  Compiled at Apr 30 2018 11:41:32
  %ENV:
    PERL5LIB="/Users/hornenj/.cpan/build/Test-Trap-v0.3.4-3/blib/arch:/Users/hornenj/.cpan/build/Test-Trap-v0.3.4-3/blib/lib:/Users/hornenj/.cpan/build/Data-Dump-1.23-2/blib/arch:/Users/hornenj/.cpan/build/Data-Dump-1.23-2/blib/lib:/Users/hornenj/.cpan/build/HTTP-Request-Generator-0.05-7/blib/arch:/Users/hornenj/.cpan/build/HTTP-Request-Generator-0.05-7/blib/lib:/Users/hornenj/.cpan/build/Filter-signatures-0.15-7/blib/arch:/Users/hornenj/.cpan/build/Filter-signatures-0.15-7/blib/lib:/Users/hornenj/.cpan/build/Algorithm-Loops-1.032-7/blib/arch:/Users/hornenj/.cpan/build/Algorithm-Loops-1.032-7/blib/lib:/Users/hornenj/.cpan/build/Statistics-Running-Tiny-0.02-7/blib/arch:/Users/hornenj/.cpan/build/Statistics-Running-Tiny-0.02-7/blib/lib:/Users/hornenj/.cpan/build/Statistics-Running-0.02-7/blib/arch:/Users/hornenj/.cpan/build/Statistics-Running-0.02-7/blib/lib:/Users/hornenj/.cpan/build/Statistics-Histogram-0.2-43/blib/arch:/Users/hornenj/.cpan/build/Statistics-Histogram-0.2-43/blib/lib:/Users/hornenj/.cpan/build/Statistics-Descriptive-3.0702-41/blib/arch:/Users/hornenj/.cpan/build/Statistics-Descriptive-3.0702-41/blib/lib"
    PERL5OPT=""
    PERL5_CPANPLUS_IS_RUNNING="4648"
    PERL5_CPAN_IS_RUNNING="4648"
    PERLBREW_HOME="/Users/hornenj/.perlbrew"
    PERLBREW_MANPATH="/Users/hornenj/perl5/perlbrew/perls/perl-5.24.4/man"
    PERLBREW_PATH="/Users/hornenj/perl5/perlbrew/bin:/Users/hornenj/perl5/perlbrew/perls/perl-5.24.4/bin"
    PERLBREW_PERL="perl-5.24.4"
    PERLBREW_ROOT="/Users/hornenj/perl5/perlbrew"
    PERLBREW_SHELLRC_VERSION="0.84"
    PERLBREW_VERSION="0.84"
    PERL_MM_USE_DEFAULT="1"
  @INC:
    /Users/hornenj/.cpan/build/Test-Trap-v0.3.4-3/blib/arch
    /Users/hornenj/.cpan/build/Test-Trap-v0.3.4-3/blib/lib
    /Users/hornenj/.cpan/build/Data-Dump-1.23-2/blib/arch
    /Users/hornenj/.cpan/build/Data-Dump-1.23-2/blib/lib
    /Users/hornenj/.cpan/build/HTTP-Request-Generator-0.05-7/blib/arch
    /Users/hornenj/.cpan/build/HTTP-Request-Generator-0.05-7/blib/lib
    /Users/hornenj/.cpan/build/Filter-signatures-0.15-7/blib/arch
    /Users/hornenj/.cpan/build/Filter-signatures-0.15-7/blib/lib
    /Users/hornenj/.cpan/build/Algorithm-Loops-1.032-7/blib/arch
    /Users/hornenj/.cpan/build/Algorithm-Loops-1.032-7/blib/lib
    /Users/hornenj/.cpan/build/Statistics-Running-Tiny-0.02-7/blib/arch
    /Users/hornenj/.cpan/build/Statistics-Running-Tiny-0.02-7/blib/lib
    /Users/hornenj/.cpan/build/Statistics-Running-0.02-7/blib/arch
    /Users/hornenj/.cpan/build/Statistics-Running-0.02-7/blib/lib
    /Users/hornenj/.cpan/build/Statistics-Histogram-0.2-43/blib/arch
    /Users/hornenj/.cpan/build/Statistics-Histogram-0.2-43/blib/lib
    /Users/hornenj/.cpan/build/Statistics-Descriptive-3.0702-41/blib/arch
    /Users/hornenj/.cpan/build/Statistics-Descriptive-3.0702-41/blib/lib
    /Users/hornenj/perl5/perlbrew/perls/perl-5.24.4/lib/site_perl/5.24.4/darwin-2level
    /Users/hornenj/perl5/perlbrew/perls/perl-5.24.4/lib/site_perl/5.24.4
    /Users/hornenj/perl5/perlbrew/perls/perl-5.24.4/lib/5.24.4/darwin-2level
    /Users/hornenj/perl5/perlbrew/perls/perl-5.24.4/lib/5.24.4
    .