Data-Session v1.18 Perl 5 v5.39.4 x86_64-linux-ld

Status
Pass
From
Andreas J. König (ANDK)
Dist
Data-Session v1.18
Platform
Perl 5 v5.39.4 x86_64-linux-ld
Date
2023-11-08 15:50:03
ID
7b79a4fe-7e4e-11ee-a6e3-c75b50cad472
This distribution has been tested as part of the CPAN Testers
project, supporting the Perl programming language.  See
http://wiki.cpantesters.org/ for more information or email
questions to cpan-testers-discuss@perl.org


--
Dear Ron Savage,

This is a computer-generated report for Data-Session-1.18
on perl 5.39.4, created by CPAN-Reporter-1.2019.

Thank you for uploading your work to CPAN.  Congratulations!
All tests were successful.

Sections of this report:

    * Tester comments
    * Program output
    * Prerequisites
    * Environment and other context

------------------------------
TESTER COMMENTS
------------------------------

Additional comments from tester:

this report is from an automated smoke testing program
and was not reviewed by a human for accuracy

------------------------------
PROGRAM OUTPUT
------------------------------

Output from '/usr/bin/make test':

PERL_DL_NONLAZY=1 "/tmp/basesmoker-reloperl-9Qut/bin/perl" "-MExtUtils::Command::MM" "-MTest::Harness" "-e" "undef *Test::Harness::Switches; test_harness(0, 'blib/lib', 'blib/arch')" t/*.t
# Testing Data::Session V 1.18
# Using autovivification V 0.18
# Using CGI V 4.60
# Using Class::Load V 0.25
# Using Config::Tiny V 2.30
# Using Data::Dumper V 2.189
# Using Data::UUID V 1.226
# Using DBD::SQLite V 1.74
# Using DBI V 1.643
# Using DBIx::Admin::CreateTable V 2.11
# Using Digest::MD5 V 2.58_01
# Using Digest::SHA V 6.04
# Using Fcntl V 1.15
# Using File::Basename V 2.86
# Using File::Path V 2.18
# Using File::Slurper V 0.014
# Using File::Spec V 3.90
# Using File::Temp V 0.2311
# Using FreezeThaw V 0.5001
# Using Hash::FieldHash V 0.15
# Using JSON V 4.10
# Using overload V 1.37
# Using parent V 0.241
# Using Safe V 2.45
# Using Scalar::Util V 1.63
# Using Storable V 3.32
# Using strict V 1.13
# Using Try::Tiny V 0.31
# Using vars V 1.05
# Using warnings V 1.67
# Using YAML::Tiny V 1.74
t/00.versions.t .. ok
# Test: File.1. DSN: dbi:File:. ID generator: AutoIncrement. Serializer: DataDumper
# id 1: 1002
# Test: File.1. DSN: dbi:File:. ID generator: AutoIncrement. Serializer: FreezeThaw
# id 1: 1008
# Test: File.1. DSN: dbi:File:. ID generator: AutoIncrement. Serializer: JSON
# id 1: 1014
# Test: File.1. DSN: dbi:File:. ID generator: AutoIncrement. Serializer: Storable
# id 1: 1020
# Test: File.1. DSN: dbi:File:. ID generator: AutoIncrement. Serializer: YAML
# id 1: 1026
# Test: File.1. DSN: dbi:File:. ID generator: MD5. Serializer: DataDumper
# id 1: f775660735a739c882d5b52a74c17198
# Test: File.1. DSN: dbi:File:. ID generator: MD5. Serializer: FreezeThaw
# id 1: cb39815b282849807a30ee041dfcd1c6
# Test: File.1. DSN: dbi:File:. ID generator: MD5. Serializer: JSON
# id 1: 36bcb3967bfc5eb029834682634243fe
# Test: File.1. DSN: dbi:File:. ID generator: MD5. Serializer: Storable
# id 1: 20c6cfb49683453988b2b2528e891963
# Test: File.1. DSN: dbi:File:. ID generator: MD5. Serializer: YAML
# id 1: 38fe13f0fabf20f28658bc5052539b41
# Test: File.1. DSN: dbi:File:. ID generator: SHA1. Serializer: DataDumper
# id 1: 8171859f2519558faf12e92f22d3963752bde0aa
# Test: File.1. DSN: dbi:File:. ID generator: SHA1. Serializer: FreezeThaw
# id 1: 66c792aaf2b6b63f1b234846f853ff6bedc7abfd
# Test: File.1. DSN: dbi:File:. ID generator: SHA1. Serializer: JSON
# id 1: 6d152fb19c57d749a7633820965f5c9953f850f2
# Test: File.1. DSN: dbi:File:. ID generator: SHA1. Serializer: Storable
# id 1: 3069fd168c08361e2f8b713c570473db127ecb98
# Test: File.1. DSN: dbi:File:. ID generator: SHA1. Serializer: YAML
# id 1: 5ea06f5b5303685454d64b0d6f6d43998dc6ff07
# Test: File.1. DSN: dbi:File:. ID generator: SHA256. Serializer: DataDumper
# id 1: 14ada024a7760d408ce62d665857c941a4e0e7a8bd329f3f1ee2f8c6e1631cd0
# Test: File.1. DSN: dbi:File:. ID generator: SHA256. Serializer: FreezeThaw
# id 1: 0a9fab67c5f6c705ed1ad4bcb9dc05caef096d25851a954f9d910c7c85732892
# Test: File.1. DSN: dbi:File:. ID generator: SHA256. Serializer: JSON
# id 1: 82aade4ceda04d315c99cd6b3e8f3a3fbb810819b644d0cd3d439396806ff82e
# Test: File.1. DSN: dbi:File:. ID generator: SHA256. Serializer: Storable
# id 1: bfa231ac796ef1d5b0f0b31eba60b15d946bf5d99a9613db14abd4b23367d2cf
# Test: File.1. DSN: dbi:File:. ID generator: SHA256. Serializer: YAML
# id 1: 6e8a36a6daf58be80d7749207b17d3f6a99dd6a6d90fb4e14719b8d4ec65d579
# Test: File.1. DSN: dbi:File:. ID generator: SHA512. Serializer: DataDumper
# id 1: 57abf0a9ac0a1c299e5237160e4d7803dd92ce592e43f9f9fdd342a068b31a7659c5bbd5ca632afbe4829c370c31212dc66d2cfc7e446d9e91c026eb1334de28
# Test: File.1. DSN: dbi:File:. ID generator: SHA512. Serializer: FreezeThaw
# id 1: 880aae4c31343c755a0c3b7d5648d6b6287c56a5e922a98509fd15c0a51c525b6d3cbf29c5df1d183c93d4105aa9935ffbe8b92a56fc6f227f75cb9a953d67e4
# Test: File.1. DSN: dbi:File:. ID generator: SHA512. Serializer: JSON
# id 1: 83b799f64a30f61fb7fc2d4d52202945d845e406ed785a7ea281eec8e1e12dc480b58d0855acdb91d47051d0c36c4b6a26cc5cd9d0d9f55c48c95861c3a4f767
# Test: File.1. DSN: dbi:File:. ID generator: SHA512. Serializer: Storable
# id 1: 2c31958726f19665de6eac2bb36f16c735705d4d96cc73e83ef0419f7c529768418a4bae11252eff7f84d9dd88a45aac17f939be282c74f3725613557f048076
# Test: File.1. DSN: dbi:File:. ID generator: SHA512. Serializer: YAML
# id 1: 855c47992449f39b735490352705fb543423b6b11bb6fbb00d51d155025c8d7192fb2b0101fc6bca72fa93d13f862385c2380aa67c62ae3d3969ce8da2ece85b
# Test: File.1. DSN: dbi:File:. ID generator: Static. Serializer: DataDumper
# id 1: 1234
# Test: File.1. DSN: dbi:File:. ID generator: Static. Serializer: FreezeThaw
# id 1: 1234
# Test: File.1. DSN: dbi:File:. ID generator: Static. Serializer: JSON
# id 1: 1234
# Test: File.1. DSN: dbi:File:. ID generator: Static. Serializer: Storable
# id 1: 1234
# Test: File.1. DSN: dbi:File:. ID generator: Static. Serializer: YAML
# id 1: 1234
# Test: File.1. DSN: dbi:File:. ID generator: UUID34. Serializer: DataDumper
# id 1: 0x67597FDA7E4E11EE83FF0CBA16E74E96
# Test: File.1. DSN: dbi:File:. ID generator: UUID34. Serializer: FreezeThaw
# id 1: 0x675B5D1E7E4E11EE83FF0CBA16E74E96
# Test: File.1. DSN: dbi:File:. ID generator: UUID34. Serializer: JSON
# id 1: 0x675CA0167E4E11EE83FF0CBA16E74E96
# Test: File.1. DSN: dbi:File:. ID generator: UUID34. Serializer: Storable
# id 1: 0x675DFF607E4E11EE83FF0CBA16E74E96
# Test: File.1. DSN: dbi:File:. ID generator: UUID34. Serializer: YAML
# id 1: 0x675F44887E4E11EE83FF0CBA16E74E96
# Test: File.1. DSN: dbi:File:. ID generator: UUID36. Serializer: DataDumper
# id 1: 67611664-7E4E-11EE-83FF-0CBA16E74E96
# Test: File.1. DSN: dbi:File:. ID generator: UUID36. Serializer: FreezeThaw
# id 1: 6762A6D2-7E4E-11EE-83FF-0CBA16E74E96
# Test: File.1. DSN: dbi:File:. ID generator: UUID36. Serializer: JSON
# id 1: 6763FE88-7E4E-11EE-83FF-0CBA16E74E96
# Test: File.1. DSN: dbi:File:. ID generator: UUID36. Serializer: Storable
# id 1: 6765DA8C-7E4E-11EE-83FF-0CBA16E74E96
# Test: File.1. DSN: dbi:File:. ID generator: UUID36. Serializer: YAML
# id 1: 67672FE0-7E4E-11EE-83FF-0CBA16E74E96
# Skipping dsn 'dbi:SQLite:dbname=/tmp/sessions.sqlite' because the SQLite directory does not exist
# 
# Testing HTTP header generation
# 
# Testing expire the session. Sleeping for 1 second ...
# Expiring id: 6768F816-7E4E-11EE-83FF-0CBA16E74E96
# 
# Testing expire a session parameter. Sleeping for 1 second ...
t/basic.t ........ ok
# DSN name: File.1. DSN: dbi:File:. ID generator: MD5. Serializer: DataDumper
# id1: 00d41cb9ef1f9581b5d5756ebb4333ed
# 1: Recovered known id c099b3bacad72c1452843d328bcac4e1 from traverse
# 2: Recovered known id 818040bd37306e1dd70f0298c0cf8a6c from traverse
# 3: Recovered known id a7d8f06503ab83b78eae3b601bdb73cd from traverse
# 4: Recovered known id d87890ee854c72ad1ad296dd26d1183a from traverse
# Skipping dsn 'dbi:SQLite:dbname=/tmp/sessions.sqlite' because the SQLite directory does not exist
t/traverse.t ..... ok
All tests successful.
Files=3, Tests=52,  7 wallclock secs ( 0.07 usr  0.02 sys +  0.91 cusr  0.22 csys =  1.22 CPU)
Result: PASS

------------------------------
PREREQUISITES
------------------------------

Prerequisite modules loaded:

requires:

    Module                   Need     Have    
    ------------------------ -------- --------
    autovivification         0        0.18    
    CGI                      3.63     4.60    
    Class::Load              0.19     0.25    
    Config::Tiny             2.14     2.30    
    Data::Dumper             2.145    2.189   
    Data::UUID               1.218    1.226   
    DBD::SQLite              1.39     1.74    
    DBI                      1.627    1.643   
    DBIx::Admin::CreateTable 2.07     2.11    
    Digest::MD5              2.52     2.58_01 
    Digest::SHA              5.84     6.04    
    Fcntl                    1.06     1.15    
    File::Basename           2.77     2.86    
    File::Path               2.07     2.18    
    File::Slurper            0.012    0.014   
    File::Spec               3.3      3.90    
    File::Temp               0.22     0.2311  
    FreezeThaw               0.5001   0.5001  
    Hash::FieldHash          0.14     0.15    
    JSON                     2.59     4.10    
    overload                 0        1.37    
    parent                   0        0.241   
    Safe                     2.35     2.45    
    Scalar::Util             1.27     1.63    
    Storable                 2.39     3.32    
    strict                   0        1.13    
    Try::Tiny                0.12     0.31    
    vars                     0        1.05    
    warnings                 0        1.67    
    YAML::Tiny               1.51     1.74    

build_requires:

    Module                   Need     Have    
    ------------------------ -------- --------
    ExtUtils::MakeMaker      0        7.70    
    Test::More               1.001014 1.302196
    Test::Pod                1.48     1.52    

configure_requires:

    Module                   Need     Have    
    ------------------------ -------- --------
    ExtUtils::MakeMaker      0        7.70    


------------------------------
ENVIRONMENT AND OTHER CONTEXT
------------------------------

Environment variables:

    AUTOMATED_TESTING = 1
    LANG = en_US.UTF-8
    LC_ADDRESS = de_DE.UTF-8
    LC_IDENTIFICATION = de_DE.UTF-8
    LC_MEASUREMENT = de_DE.UTF-8
    LC_MONETARY = de_DE.UTF-8
    LC_NAME = de_DE.UTF-8
    LC_NUMERIC = de_DE.UTF-8
    LC_PAPER = de_DE.UTF-8
    LC_TELEPHONE = de_DE.UTF-8
    LC_TIME = de_DE.UTF-8
    PATH = /home/sand/bin:/usr/local/bin:/usr/local/sbin:/usr/sbin:/usr/bin:/sbin:/bin:/usr/games:/usr/local/games:/snap/bin:/usr/local/perl/bin:/usr/X11/bin
    PERL = /tmp/basesmoker-reloperl-9Qut/bin/perl
    PERL5LIB = /tmp/loop_over_bdir-2500-TeSed0/Net-Async-WebService-lxd-0.03-0/blib/arch:/tmp/loop_over_bdir-2500-TeSed0/Net-Async-WebService-lxd-0.03-0/blib/lib:/tmp/loop_over_bdir-2500-TeSed0/Simulation-Automate-1.0.1-0/blib/arch:/tmp/loop_over_bdir-2500-TeSed0/Simulation-Automate-1.0.1-0/blib/lib:/tmp/loop_over_bdir-2500-TeSed0/Lemonldap-NG-Cli-0.2-0/blib/arch:/tmp/loop_over_bdir-2500-TeSed0/Lemonldap-NG-Cli-0.2-0/blib/lib:/tmp/loop_over_bdir-2500-TeSed0/perl-Hardware-UPS-Perl-0.43-0/blib/arch:/tmp/loop_over_bdir-2500-TeSed0/perl-Hardware-UPS-Perl-0.43-0/blib/lib:/tmp/loop_over_bdir-2500-TeSed0/Devel-Required-0.16-0/blib/arch:/tmp/loop_over_bdir-2500-TeSed0/Devel-Required-0.16-0/blib/lib:/tmp/loop_over_bdir-2500-TeSed0/AllKnowingDNS-1.7-0/blib/arch:/tmp/loop_over_bdir-2500-TeSed0/AllKnowingDNS-1.7-0/blib/lib:/tmp/loop_over_bdir-2500-TeSed0/CGI-Application-NetNewsIface-0.0204-0/blib/arch:/tmp/loop_over_bdir-2500-TeSed0/CGI-Application-NetNewsIface-0.0204-0/blib/lib:/tmp/loop_over_bdir-2500-TeSed0/Lingua-YaTeA-0.626-0/blib/arch:/tmp/loop_over_bdir-2500-TeSed0/Lingua-YaTeA-0.626-0/blib/lib:/tmp/loop_over_bdir-2500-TeSed0/Net-ISP-Balance-1.31-0/blib/arch:/tmp/loop_over_bdir-2500-TeSed0/Net-ISP-Balance-1.31-0/blib/lib:/tmp/loop_over_bdir-2500-TeSed0/dta-tokwrap-0.98-0/blib/arch:/tmp/loop_over_bdir-2500-TeSed0/dta-tokwrap-0.98-0/blib/lib:/tmp/loop_over_bdir-2500-TeSed0/LiquidWeb-Storm-CLI-1.03-0/blib/arch:/tmp/loop_over_bdir-2500-TeSed0/LiquidWeb-Storm-CLI-1.03-0/blib/lib:/tmp/loop_over_bdir-2500-TeSed0/DBIx-Migration-Directories-0.12-0/blib/arch:/tmp/loop_over_bdir-2500-TeSed0/DBIx-Migration-Directories-0.12-0/blib/lib:/tmp/loop_over_bdir-2500-TeSed0/Sysync-0.35-0/blib/arch:/tmp/loop_over_bdir-2500-TeSed0/Sysync-0.35-0/blib/lib:/tmp/loop_over_bdir-2500-TeSed0/CORBA-Python-2.66-0/blib/arch:/tmp/loop_over_bdir-2500-TeSed0/CORBA-Python-2.66-0/blib/lib:/tmp/loop_over_bdir-2500-TeSed0/makepp-1.19-0/blib/arch:/tmp/loop_over_bdir-2500-TeSed0/makepp-1.19-0/blib/lib
    PERL5OPT = 
    PERL5_CPANPLUS_IS_RUNNING = 2508
    PERL5_CPAN_IS_RUNNING = 2508
    PERL_CANARY_STABILITY_NOPROMPT = 1
    PERL_MM_USE_DEFAULT = 1
    PERL_USE_UNSAFE_INC = 1
    SHELL = /usr/bin/zsh
    TERM = screen

Perl special variables (and OS-specific diagnostics, for MSWin32):

    $^X = /tmp/basesmoker-reloperl-9Qut/bin/perl
    $UID/$EUID = 1005 / 1005
    $GID = 1005 1005
    $EGID = 1005 1005

Perl module toolchain versions installed:

    Module              Have    
    ------------------- --------
    CPAN                2.36    
    CPAN::Meta          2.150010
    Cwd                 3.90    
    ExtUtils::CBuilder  0.280240
    ExtUtils::Command   7.70    
    ExtUtils::Install   2.22    
    ExtUtils::MakeMaker 7.70    
    ExtUtils::Manifest  1.75    
    ExtUtils::ParseXS   3.51    
    File::Spec          3.90    
    JSON                4.10    
    JSON::PP            4.16    
    Module::Build       0.4234  
    Module::Signature   0.88    
    Parse::CPAN::Meta   2.150010
    Test2               1.302196
    Test::Harness       3.48    
    Test::More          1.302196
    YAML                1.30    
    YAML::Syck          1.34    
    version             0.9930  


--

Summary of my perl5 (revision 5 version 39 subversion 4) configuration:
  Commit id: 56211f03a701e3979a0d01069f8515db1c1fc2f0
  Platform:
    osname=linux
    osvers=6.2.0-34-generic
    archname=x86_64-linux-ld
    uname='linux k93jammy 6.2.0-34-generic #34~22.04.1-ubuntu smp preempt_dynamic thu sep 7 13:12:03 utc 2 x86_64 x86_64 x86_64 gnulinux '
    config_args='-Dprefix=/home/sand/src/perl/repoperls/installed-perls/host/k93jammy/v5.39.4/5674 -Dmyhostname=k93jammy -Dinstallusrbinperl=n -Uversiononly -Dusedevel -des -Ui_db -Dlibswanted=cl pthread socket inet nsl gdbm dbm malloc dl ld sun m crypt sec util c cposix posix ucb BSD gdbm_compat -Uuseithreads -Duselongdouble -DEBUGGING=-g'
    hint=recommended
    useposix=true
    d_sigaction=define
    useithreads=undef
    usemultiplicity=undef
    use64bitint=define
    use64bitall=define
    uselongdouble=define
    usemymalloc=n
    default_inc_excludes_dot=define
  Compiler:
    cc='cc'
    ccflags ='-fwrapv -fno-strict-aliasing -pipe -fstack-protector-strong -I/usr/local/include -D_LARGEFILE_SOURCE -D_FILE_OFFSET_BITS=64'
    optimize='-O2 -g'
    cppflags='-fwrapv -fno-strict-aliasing -pipe -fstack-protector-strong -I/usr/local/include'
    ccversion=''
    gccversion='11.4.0'
    gccosandvers=''
    intsize=4
    longsize=8
    ptrsize=8
    doublesize=8
    byteorder=12345678
    doublekind=3
    d_longlong=define
    longlongsize=8
    d_longdbl=define
    longdblsize=16
    longdblkind=3
    ivtype='long'
    ivsize=8
    nvtype='long double'
    nvsize=16
    Off_t='off_t'
    lseeksize=8
    alignbytes=16
    prototype=define
  Linker and Libraries:
    ld='cc'
    ldflags =' -fstack-protector-strong -L/usr/local/lib'
    libpth=/usr/local/lib /usr/lib/x86_64-linux-gnu /usr/lib /usr/lib64
    libs=-lpthread -lnsl -ldl -lm -lcrypt -lutil -lc
    perllibs=-lpthread -lnsl -ldl -lm -lcrypt -lutil -lc
    libc=/lib/x86_64-linux-gnu/libc.so.6
    so=so
    useshrplib=false
    libperl=libperl.a
    gnulibc_version='2.35'
  Dynamic Linking:
    dlsrc=dl_dlopen.xs
    dlext=so
    d_dlsymun=undef
    ccdlflags='-Wl,-E'
    cccdlflags='-fPIC'
    lddlflags='-shared -O2 -g -L/usr/local/lib -fstack-protector-strong'


Characteristics of this binary (from libperl): 
  Compile-time options:
    HAS_LONG_DOUBLE
    HAS_STRTOLD
    HAS_TIMES
    PERLIO_LAYERS
    PERL_COPY_ON_WRITE
    PERL_DONT_CREATE_GVSV
    PERL_HASH_FUNC_SIPHASH13
    PERL_HASH_USE_SBOX32
    PERL_MALLOC_WRAP
    PERL_OP_PARENT
    PERL_PRESERVE_IVUV
    PERL_USE_DEVEL
    PERL_USE_SAFE_PUTENV
    USE_64_BIT_ALL
    USE_64_BIT_INT
    USE_LARGE_FILES
    USE_LOCALE
    USE_LOCALE_COLLATE
    USE_LOCALE_CTYPE
    USE_LOCALE_NUMERIC
    USE_LOCALE_TIME
    USE_LONG_DOUBLE
    USE_PERLIO
    USE_PERL_ATOF
  Built under linux
  Compiled at Oct 25 2023 22:25:20
  %ENV:
    PERL="/tmp/basesmoker-reloperl-9Qut/bin/perl"
    PERL5LIB="/tmp/loop_over_bdir-2500-TeSed0/Net-Async-WebService-lxd-0.03-0/blib/arch:/tmp/loop_over_bdir-2500-TeSed0/Net-Async-WebService-lxd-0.03-0/blib/lib:/tmp/loop_over_bdir-2500-TeSed0/Simulation-Automate-1.0.1-0/blib/arch:/tmp/loop_over_bdir-2500-TeSed0/Simulation-Automate-1.0.1-0/blib/lib:/tmp/loop_over_bdir-2500-TeSed0/Lemonldap-NG-Cli-0.2-0/blib/arch:/tmp/loop_over_bdir-2500-TeSed0/Lemonldap-NG-Cli-0.2-0/blib/lib:/tmp/loop_over_bdir-2500-TeSed0/perl-Hardware-UPS-Perl-0.43-0/blib/arch:/tmp/loop_over_bdir-2500-TeSed0/perl-Hardware-UPS-Perl-0.43-0/blib/lib:/tmp/loop_over_bdir-2500-TeSed0/Devel-Required-0.16-0/blib/arch:/tmp/loop_over_bdir-2500-TeSed0/Devel-Required-0.16-0/blib/lib:/tmp/loop_over_bdir-2500-TeSed0/AllKnowingDNS-1.7-0/blib/arch:/tmp/loop_over_bdir-2500-TeSed0/AllKnowingDNS-1.7-0/blib/lib:/tmp/loop_over_bdir-2500-TeSed0/CGI-Application-NetNewsIface-0.0204-0/blib/arch:/tmp/loop_over_bdir-2500-TeSed0/CGI-Application-NetNewsIface-0.0204-0/blib/lib:/tmp/loop_over_bdir-2500-TeSed0/Lingua-YaTeA-0.626-0/blib/arch:/tmp/loop_over_bdir-2500-TeSed0/Lingua-YaTeA-0.626-0/blib/lib:/tmp/loop_over_bdir-2500-TeSed0/Net-ISP-Balance-1.31-0/blib/arch:/tmp/loop_over_bdir-2500-TeSed0/Net-ISP-Balance-1.31-0/blib/lib:/tmp/loop_over_bdir-2500-TeSed0/dta-tokwrap-0.98-0/blib/arch:/tmp/loop_over_bdir-2500-TeSed0/dta-tokwrap-0.98-0/blib/lib:/tmp/loop_over_bdir-2500-TeSed0/LiquidWeb-Storm-CLI-1.03-0/blib/arch:/tmp/loop_over_bdir-2500-TeSed0/LiquidWeb-Storm-CLI-1.03-0/blib/lib:/tmp/loop_over_bdir-2500-TeSed0/DBIx-Migration-Directories-0.12-0/blib/arch:/tmp/loop_over_bdir-2500-TeSed0/DBIx-Migration-Directories-0.12-0/blib/lib:/tmp/loop_over_bdir-2500-TeSed0/Sysync-0.35-0/blib/arch:/tmp/loop_over_bdir-2500-TeSed0/Sysync-0.35-0/blib/lib:/tmp/loop_over_bdir-2500-TeSed0/CORBA-Python-2.66-0/blib/arch:/tmp/loop_over_bdir-2500-TeSed0/CORBA-Python-2.66-0/blib/lib:/tmp/loop_over_bdir-2500-TeSed0/makepp-1.19-0/blib/arch:/tmp/loop_over_bdir-2500-TeSed0/makepp-1.19-0/blib/lib"
    PERL5OPT=""
    PERL5_CPANPLUS_IS_RUNNING="2508"
    PERL5_CPAN_IS_RUNNING="2508"
    PERL_CANARY_STABILITY_NOPROMPT="1"
    PERL_MM_USE_DEFAULT="1"
    PERL_USE_UNSAFE_INC="1"
  @INC:
    /tmp/loop_over_bdir-2500-TeSed0/Net-Async-WebService-lxd-0.03-0/blib/arch
    /tmp/loop_over_bdir-2500-TeSed0/Net-Async-WebService-lxd-0.03-0/blib/lib
    /tmp/loop_over_bdir-2500-TeSed0/Simulation-Automate-1.0.1-0/blib/arch
    /tmp/loop_over_bdir-2500-TeSed0/Simulation-Automate-1.0.1-0/blib/lib
    /tmp/loop_over_bdir-2500-TeSed0/Lemonldap-NG-Cli-0.2-0/blib/arch
    /tmp/loop_over_bdir-2500-TeSed0/Lemonldap-NG-Cli-0.2-0/blib/lib
    /tmp/loop_over_bdir-2500-TeSed0/perl-Hardware-UPS-Perl-0.43-0/blib/arch
    /tmp/loop_over_bdir-2500-TeSed0/perl-Hardware-UPS-Perl-0.43-0/blib/lib
    /tmp/loop_over_bdir-2500-TeSed0/Devel-Required-0.16-0/blib/arch
    /tmp/loop_over_bdir-2500-TeSed0/Devel-Required-0.16-0/blib/lib
    /tmp/loop_over_bdir-2500-TeSed0/AllKnowingDNS-1.7-0/blib/arch
    /tmp/loop_over_bdir-2500-TeSed0/AllKnowingDNS-1.7-0/blib/lib
    /tmp/loop_over_bdir-2500-TeSed0/CGI-Application-NetNewsIface-0.0204-0/blib/arch
    /tmp/loop_over_bdir-2500-TeSed0/CGI-Application-NetNewsIface-0.0204-0/blib/lib
    /tmp/loop_over_bdir-2500-TeSed0/Lingua-YaTeA-0.626-0/blib/arch
    /tmp/loop_over_bdir-2500-TeSed0/Lingua-YaTeA-0.626-0/blib/lib
    /tmp/loop_over_bdir-2500-TeSed0/Net-ISP-Balance-1.31-0/blib/arch
    /tmp/loop_over_bdir-2500-TeSed0/Net-ISP-Balance-1.31-0/blib/lib
    /tmp/loop_over_bdir-2500-TeSed0/dta-tokwrap-0.98-0/blib/arch
    /tmp/loop_over_bdir-2500-TeSed0/dta-tokwrap-0.98-0/blib/lib
    /tmp/loop_over_bdir-2500-TeSed0/LiquidWeb-Storm-CLI-1.03-0/blib/arch
    /tmp/loop_over_bdir-2500-TeSed0/LiquidWeb-Storm-CLI-1.03-0/blib/lib
    /tmp/loop_over_bdir-2500-TeSed0/DBIx-Migration-Directories-0.12-0/blib/arch
    /tmp/loop_over_bdir-2500-TeSed0/DBIx-Migration-Directories-0.12-0/blib/lib
    /tmp/loop_over_bdir-2500-TeSed0/Sysync-0.35-0/blib/arch
    /tmp/loop_over_bdir-2500-TeSed0/Sysync-0.35-0/blib/lib
    /tmp/loop_over_bdir-2500-TeSed0/CORBA-Python-2.66-0/blib/arch
    /tmp/loop_over_bdir-2500-TeSed0/CORBA-Python-2.66-0/blib/lib
    /tmp/loop_over_bdir-2500-TeSed0/makepp-1.19-0/blib/arch
    /tmp/loop_over_bdir-2500-TeSed0/makepp-1.19-0/blib/lib
    /home/sand/src/perl/repoperls/installed-perls/host/k93jammy/v5.39.4/5674/lib/site_perl/5.39.4/x86_64-linux-ld
    /home/sand/src/perl/repoperls/installed-perls/host/k93jammy/v5.39.4/5674/lib/site_perl/5.39.4
    /home/sand/src/perl/repoperls/installed-perls/host/k93jammy/v5.39.4/5674/lib/5.39.4/x86_64-linux-ld
    /home/sand/src/perl/repoperls/installed-perls/host/k93jammy/v5.39.4/5674/lib/5.39.4
    .