Report for Soar-WM-0.04

Back
From: metabase:user:320bfe00-2aae-11df-837a-5e0a49663a4f
Subject: PASS Soar-WM-0.04 v5.22.0 GNU/Linux
Date: 2016-01-27T10:34:02Z

This distribution has been tested as part of the CPAN Testers
project, supporting the Perl programming language.  See
http://wiki.cpantesters.org/ for more information or email
questions to cpan-testers-discuss@perl.org


--
Dear Nathan Gary Glenn,

This is a computer-generated report for Soar-WM-0.04
on perl 5.22.0, created by CPAN-Reporter-1.2015.

Thank you for uploading your work to CPAN.  Congratulations!
All tests were successful.

Sections of this report:

    * Tester comments
    * Program output
    * Prerequisites
    * Environment and other context

------------------------------
TESTER COMMENTS
------------------------------

Additional comments from tester:

this report is from an automated smoke testing program
and was not reviewed by a human for accuracy

------------------------------
PROGRAM OUTPUT
------------------------------

Output from './Build test':

t/00-compile.t ................ ok
# 
# 
# Generated by Dist::Zilla::Plugin::ReportVersions::Tiny v1.08
# perl: 5.022000 (wanted 5.010) on linux from /home/sand/src/perl/repoperls/installed-perls/perl/v5.22.0/109d/bin/perl
# 
# Carp                                          => 1.36       (want any version)
# Data::Dumper                                  => 2.158      (want any version)
# Data::Section::Simple                         => 0.07       (want any version)
# Exporter                                      => 5.72       (want any version)
# File::Find                                    => 1.29       (want any version)
# File::Spec                                    => 3.60       (want any version)
# File::Temp                                    => 0.2304     (want any version)
# FindBin                                       => 1.51       (want any version)
# Module::Build                                 => 0.4216     (want 0.3601) 
# Pod::Coverage::TrustPod                       => 0.100003   (want any version)
# Test::CPAN::Meta                              => 0.25       (want any version)
# Test::Deep                                    => 1.120      (want any version)
# Test::More                                    => 1.302013009 (want 0.88)   
# Test::NoWarnings                              => 1.04       (want any version)
# Test::Pod                                     => 1.51       (want 1.41)   
# Test::Pod::Coverage                           => 1.10       (want 1.08)   
# Test::Warn                                    => 0.30       (want any version)
# autodie                                       => 2.29       (want any version)
# base                                          => 2.22       (want any version)
# strict                                        => 1.09       (want any version)
# version                                       => 0.991203   (want 0.9901) 
# warnings                                      => 1.32       (want any version)
# 
# Thanks for using my code.  I hope it works for you.
# If not, please try and include this output in the bug report.
# That will help me reproduce the issue and solve your problem.
# 
t/000-report-versions-tiny.t .. ok
t/01-slurp.t .................. ok
t/02-wm.t ..................... ok
t/03-traversal.t .............. ok
t/04-errors.t ................. ok
All tests successful.
Files=6, Tests=34,  2 wallclock secs ( 0.04 usr  0.04 sys +  0.76 cusr  0.19 csys =  1.03 CPU)
Result: PASS

------------------------------
PREREQUISITES
------------------------------

Prerequisite modules loaded:

requires:

    Module                Need   Have        
    --------------------- ------ ------------
    autodie               0      2.29        
    base                  0      2.22        
    Carp                  0      1.36        
    Exporter              0      5.72        
    perl                  5.010  5.022000    
    strict                0      1.09        
    warnings              0      1.32        

build_requires:

    Module                Need   Have        
    --------------------- ------ ------------
    Data::Dumper          0      2.158       
    Data::Section::Simple 0      0.07        
    File::Find            0      1.29        
    File::Spec            0      3.60        
    File::Temp            0      0.2304      
    FindBin               0      1.51        
    Module::Build         0.3601 0.4216      
    Test::Deep            0      1.120       
    Test::More            0.88   1.302013_009
    Test::NoWarnings      0      1.04        
    Test::Warn            0      0.30        

configure_requires:

    Module                Need   Have        
    --------------------- ------ ------------
    Module::Build         0.3601 0.4216      


------------------------------
ENVIRONMENT AND OTHER CONTEXT
------------------------------

Environment variables:

    AUTOMATED_TESTING = 1
    LANG = en_US.UTF-8
    LANGUAGE = en_US:en
    PATH = /home/sand/bin:/usr/local/bin:/usr/bin:/bin:/usr/games:/usr/local/perl/bin:/usr/X11/bin:/sbin:/usr/sbin
    PERL5LIB = 
    PERL5OPT = 
    PERL5_CPANPLUS_IS_RUNNING = 8517
    PERL5_CPAN_IS_RUNNING = 8517
    PERL_MM_USE_DEFAULT = 1
    SHELL = /usr/bin/zsh
    TERM = screen

Perl special variables (and OS-specific diagnostics, for MSWin32):

    $^X = /home/sand/src/perl/repoperls/installed-perls/perl/v5.22.0/109d/bin/perl
    $UID/$EUID = 1005 / 1005
    $GID = 1005 1005
    $EGID = 1005 1005

Perl module toolchain versions installed:

    Module              Have        
    ------------------- ------------
    CPAN                2.11        
    CPAN::Meta          2.150005    
    Cwd                 3.60        
    ExtUtils::CBuilder  0.280224    
    ExtUtils::Command   7.10        
    ExtUtils::Install   2.04        
    ExtUtils::MakeMaker 7.10        
    ExtUtils::Manifest  1.70        
    ExtUtils::ParseXS   3.28        
    File::Spec          3.60        
    JSON                2.90        
    JSON::PP            2.27300     
    Module::Build       0.4216      
    Module::Signature   0.79        
    Parse::CPAN::Meta   1.4417      
    Test::Harness       3.36        
    Test::More          1.302013_009
    YAML                1.15        
    YAML::Syck          1.29        
    version             0.9912_03   


--

Summary of my perl5 (revision 5 version 22 subversion 0) configuration:
  Derived from: 70f63a4c7dba89e8e48b44de7978faae4319e693
  Platform:
    osname=linux, osvers=4.3.0-1-amd64, archname=x86_64-linux-thread-multi-ld
    uname='linux k83 4.3.0-1-amd64 #1 smp debian 4.3.3-2 (2015-12-17) x86_64 gnulinux '
    config_args='-Dprefix=/home/sand/src/perl/repoperls/installed-perls/perl/v5.22.0/109d -Dmyhostname=k83 -Dinstallusrbinperl=n -Uversiononly -Dusedevel -des -Ui_db -Dlibswanted=cl pthread socket inet nsl gdbm dbm malloc dl ld sun m crypt sec util c cposix posix ucb BSD gdbm_compat -Duseithreads -Duselongdouble -DDEBUGGING=-g'
    hint=recommended, useposix=true, d_sigaction=define
    useithreads=define, usemultiplicity=define
    use64bitint=define, use64bitall=define, uselongdouble=define
    usemymalloc=n, bincompat5005=undef
  Compiler:
    cc='cc', ccflags ='-D_REENTRANT -D_GNU_SOURCE -fwrapv -fno-strict-aliasing -pipe -fstack-protector-strong -I/usr/local/include -D_LARGEFILE_SOURCE -D_FILE_OFFSET_BITS=64',
    optimize='-O2 -g',
    cppflags='-D_REENTRANT -D_GNU_SOURCE -fwrapv -fno-strict-aliasing -pipe -fstack-protector-strong -I/usr/local/include'
    ccversion='', gccversion='5.3.1 20160101', gccosandvers=''
    intsize=4, longsize=8, ptrsize=8, doublesize=8, byteorder=12345678, doublekind=3
    d_longlong=define, longlongsize=8, d_longdbl=define, longdblsize=16, longdblkind=3
    ivtype='long', ivsize=8, nvtype='long double', nvsize=16, Off_t='off_t', lseeksize=8
    alignbytes=16, prototype=define
  Linker and Libraries:
    ld='cc', ldflags =' -fstack-protector-strong -L/usr/local/lib'
    libpth=/usr/local/lib /usr/lib/gcc/x86_64-linux-gnu/5/include-fixed /usr/include/x86_64-linux-gnu /usr/lib /lib/x86_64-linux-gnu /lib/../lib /usr/lib/x86_64-linux-gnu /usr/lib/../lib /lib
    libs=-lpthread -lnsl -lgdbm -ldl -lm -lcrypt -lutil -lc -lgdbm_compat
    perllibs=-lpthread -lnsl -ldl -lm -lcrypt -lutil -lc
    libc=libc-2.21.so, so=so, useshrplib=false, libperl=libperl.a
    gnulibc_version='2.21'
  Dynamic Linking:
    dlsrc=dl_dlopen.xs, dlext=so, d_dlsymun=undef, ccdlflags='-Wl,-E'
    cccdlflags='-fPIC', lddlflags='-shared -O2 -g -L/usr/local/lib -fstack-protector-strong'


Characteristics of this binary (from libperl): 
  Compile-time options: HAS_TIMES MULTIPLICITY PERLIO_LAYERS
                        PERL_DONT_CREATE_GVSV
                        PERL_HASH_FUNC_ONE_AT_A_TIME_HARD
                        PERL_IMPLICIT_CONTEXT PERL_MALLOC_WRAP
                        PERL_NEW_COPY_ON_WRITE PERL_PRESERVE_IVUV
                        PERL_USE_DEVEL USE_64_BIT_ALL USE_64_BIT_INT
                        USE_ITHREADS USE_LARGE_FILES USE_LOCALE
                        USE_LOCALE_COLLATE USE_LOCALE_CTYPE
                        USE_LOCALE_NUMERIC USE_LOCALE_TIME USE_LONG_DOUBLE
                        USE_PERLIO USE_PERL_ATOF USE_REENTRANT_API
  Locally applied patches:
	uncommitted-changes
	Devel::PatchPerl 1.38
  Built under linux
  Compiled at Jan  4 2016 09:50:08
  %ENV:
    PERL5LIB=""
    PERL5OPT=""
    PERL5_CPANPLUS_IS_RUNNING="8517"
    PERL5_CPAN_IS_RUNNING="8517"
    PERL_MM_USE_DEFAULT="1"
  @INC:
    /home/sand/src/perl/repoperls/installed-perls/perl/v5.22.0/109d/lib/site_perl/5.22.0/x86_64-linux-thread-multi-ld
    /home/sand/src/perl/repoperls/installed-perls/perl/v5.22.0/109d/lib/site_perl/5.22.0
    /home/sand/src/perl/repoperls/installed-perls/perl/v5.22.0/109d/lib/5.22.0/x86_64-linux-thread-multi-ld
    /home/sand/src/perl/repoperls/installed-perls/perl/v5.22.0/109d/lib/5.22.0
    .