Alien-raylib v0.025 Perl 5 v5.31.2 x86_64-linux

Status
Pass
From
Slaven Rezić (SREZIC)
Dist
Alien-raylib v0.025
Platform
Perl 5 v5.31.2 x86_64-linux
Date
2019-07-30 20:49:11
ID
7b9a45be-b30b-11e9-9252-463b1f24ea8f
This distribution has been tested as part of the CPAN Testers
project, supporting the Perl programming language.  See
http://wiki.cpantesters.org/ for more information or email
questions to cpan-testers-discuss@perl.org


--
Dear Ahmad Fatoum,

This is a computer-generated report for Alien-raylib-0.025
on perl 5.31.2, created by CPAN-Reporter-1.2018.

Thank you for uploading your work to CPAN.  Congratulations!
All tests were successful.

Sections of this report:

    * Tester comments
    * Program output
    * Prerequisites
    * Environment and other context

------------------------------
TESTER COMMENTS
------------------------------

Additional comments from tester:

none provided

------------------------------
PROGRAM OUTPUT
------------------------------

Output from '/usr/bin/make test':

"/opt/perl-5.31.2/bin/perl5.31.2" -MAlien::Build::MM=cmd -e test
Alien::Build::Plugin::PkgConfig::Negotiate> Using PkgConfig plugin: PkgConfig::CommandLine
PERL_DL_NONLAZY=1 "/opt/perl-5.31.2/bin/perl5.31.2" "-MExtUtils::Command::MM" "-MTest::Harness" "-e" "undef *Test::Harness::Switches; test_harness(0, 'blib/lib', 'blib/arch')" t/*.t
t/00-compile.t ......... ok
# 
# Versions for all modules listed in MYMETA.json (including optional ones):
# 
# === Configure Requires ===
# 
#     Module                             Want Have
#     ---------------------------------- ---- ----
#     Alien::Build                       0.32 1.79
#     Alien::Build::MM                   0.32 1.79
#     Alien::Build::Plugin::Build::CMake 0.99 1.79
#     ExtUtils::MakeMaker                6.52 7.36
# 
# === Build Requires ===
# 
#     Module                                        Want     Have
#     -------------------------------------------- ----- --------
#     Alien::Build                                  0.32     1.79
#     Alien::Build::MM                              0.32     1.79
#     Alien::Build::Plugin::Gather::IsolateDynamic  0.48     1.79
#     Alien::cmake3                                 0.02     0.04
#     Archive::Tar                                   any     2.32
#     Config                                         any 5.031002
#     ExtUtils::MakeMaker                           6.52     7.36
#     HTTP::Tiny                                   0.044    0.076
#     IO::Socket::SSL                               1.56    2.066
#     IO::Zlib                                       any     1.10
#     Net::SSLeay                                   1.49     1.88
#     URI                                            any     1.76
# 
# === Test Requires ===
# 
#     Module              Want     Have
#     ------------------- ---- --------
#     ExtUtils::MakeMaker 6.52     7.36
#     File::Spec           any     3.78
#     IO::Handle           any     1.41
#     IPC::Open3           any     1.20
#     Test::More           any 1.302164
# 
# === Test Recommends ===
# 
#     Module         Want     Have
#     ---------- -------- --------
#     CPAN::Meta 2.120900 2.150010
# 
# === Runtime Requires ===
# 
#     Module       Want Have
#     ------------ ---- ----
#     Alien::Build 0.25 1.79
# 
t/00-report-prereqs.t .. ok
# Trying out GetRandomValue via header
t/header.t ............. ok
# Trying out GetRandomValue via declaration
t/init.t ............... ok
# LIBS: -L/home/cpansand/.cpan/build/2019073022/Alien-raylib-0.025-0/blib/lib/auto/share/dist/Alien-raylib/lib -lraylib
t/libs.t ............... ok
All tests successful.
Files=5, Tests=10,  2 wallclock secs ( 0.04 usr  0.00 sys +  1.90 cusr  0.35 csys =  2.29 CPU)
Result: PASS

------------------------------
PREREQUISITES
------------------------------

Prerequisite modules loaded:

requires:

    Module                                       Need  Have    
    -------------------------------------------- ----- --------
    Alien::Build                                 0.25  1.79    
    perl                                         5.008 5.031002

build_requires:

    Module                                       Need  Have    
    -------------------------------------------- ----- --------
    Alien::Build                                 0.32  1.79    
    Alien::Build::MM                             0.32  1.79    
    Alien::Build::Plugin::Gather::IsolateDynamic 0.48  1.79    
    Alien::cmake3                                0.02  0.04    
    Archive::Tar                                 0     2.32    
    Config                                       0     5.031002
    ExtUtils::MakeMaker                          6.52  7.36    
    File::Spec                                   0     3.78    
    HTTP::Tiny                                   0.044 0.076   
    IO::Handle                                   0     1.41    
    IO::Socket::SSL                              1.56  2.066   
    IO::Zlib                                     0     1.10    
    IPC::Open3                                   0     1.20    
    Net::SSLeay                                  1.49  1.88    
    Test::More                                   0     1.302164
    URI                                          0     1.76    

configure_requires:

    Module                                       Need  Have    
    -------------------------------------------- ----- --------
    Alien::Build                                 0.32  1.79    
    Alien::Build::MM                             0.32  1.79    
    Alien::Build::Plugin::Build::CMake           0.99  1.79    
    ExtUtils::MakeMaker                          6.52  7.36    


------------------------------
ENVIRONMENT AND OTHER CONTEXT
------------------------------

Environment variables:

    LANG = en_US.UTF-8
    PATH = /usr/local/bin:/usr/bin:/bin:/usr/local/sbin:/usr/sbin:/sbin:/home/cpansand/bin/linux-gnu:/home/cpansand/bin/sh:/home/cpansand/bin:/usr/games:/home/cpansand/devel:/home/eserte/src/srezic-misc/scripts
    PERL5LIB = /home/cpansand/.cpan/build/2019073022/Alien-cmake3-0.04-0/blib/arch:/home/cpansand/.cpan/build/2019073022/Alien-cmake3-0.04-0/blib/lib
    PERL5OPT = 
    PERL5_CPANPLUS_IS_RUNNING = 21852
    PERL5_CPAN_IS_RUNNING = 21852
    PERL5_CPAN_IS_RUNNING_IN_RECURSION = 2024,21852
    PERLDOC = -MPod::Perldoc::ToTextOverstrike
    PERL_BATCH = yes
    PERL_CANARY_STABILITY_NOPROMPT = 1
    PERL_CPAN_REPORTER_CONFIG = /var/tmp/cpansmoker-1023/2019073021/cpanreporter_000_config.ini
    PERL_EXTUTILS_AUTOINSTALL = --defaultdeps
    PERL_USE_UNSAFE_INC = 1
    SHELL = /usr/bin/zsh
    TERM = screen
    TMPDIR = /var/tmp/cpansmoker-1023/2019073021

Perl special variables (and OS-specific diagnostics, for MSWin32):

    $^X = /opt/perl-5.31.2/bin/perl5.31.2
    $UID/$EUID = 1023 / 1023
    $GID = 1023 1023
    $EGID = 1023 1023

Perl module toolchain versions installed:

    Module              Have    
    ------------------- --------
    CPAN                2.27    
    CPAN::Meta          2.150010
    Cwd                 3.78    
    ExtUtils::CBuilder  0.280232
    ExtUtils::Command   7.36    
    ExtUtils::Install   2.14    
    ExtUtils::MakeMaker 7.36    
    ExtUtils::Manifest  1.72    
    ExtUtils::ParseXS   3.40    
    File::Spec          3.78    
    JSON                n/a     
    JSON::PP            4.04    
    Module::Build       0.4229  
    Module::Signature   n/a     
    Parse::CPAN::Meta   2.150010
    Test::Harness       3.42    
    Test::More          1.302164
    YAML                1.29    
    YAML::Syck          1.31    
    version             0.9924  


--

Summary of my perl5 (revision 5 version 31 subversion 2) configuration:
   
  Platform:
    osname=linux
    osvers=5.0.16-100.fc28.x86_64
    archname=x86_64-linux
    uname='linux fedora-4gb-hel1-1 5.0.16-100.fc28.x86_64 #1 smp tue may 14 18:22:28 utc 2019 x86_64 x86_64 x86_64 gnulinux '
    config_args='-ds -e -Dprefix=/opt/perl-5.31.2 -Dusedevel -Dusemallocwrap=no -Dcf_email=srezic@cpan.org'
    hint=recommended
    useposix=true
    d_sigaction=define
    useithreads=undef
    usemultiplicity=undef
    use64bitint=define
    use64bitall=define
    uselongdouble=undef
    usemymalloc=n
    default_inc_excludes_dot=define
    bincompat5005=undef
  Compiler:
    cc='cc'
    ccflags ='-fwrapv -fno-strict-aliasing -pipe -fstack-protector-strong -I/usr/local/include -D_LARGEFILE_SOURCE -D_FILE_OFFSET_BITS=64 -D_FORTIFY_SOURCE=2'
    optimize='-O2'
    cppflags='-fwrapv -fno-strict-aliasing -pipe -fstack-protector-strong -I/usr/local/include'
    ccversion=''
    gccversion='8.3.1 20190223 (Red Hat 8.3.1-2)'
    gccosandvers=''
    intsize=4
    longsize=8
    ptrsize=8
    doublesize=8
    byteorder=12345678
    doublekind=3
    d_longlong=define
    longlongsize=8
    d_longdbl=define
    longdblsize=16
    longdblkind=3
    ivtype='long'
    ivsize=8
    nvtype='double'
    nvsize=8
    Off_t='off_t'
    lseeksize=8
    alignbytes=8
    prototype=define
  Linker and Libraries:
    ld='cc'
    ldflags =' -fstack-protector-strong -L/usr/local/lib'
    libpth=/usr/local/lib /usr/lib /lib/../lib64 /usr/lib/../lib64 /lib /lib64 /usr/lib64 /usr/local/lib64
    libs=-lpthread -ldb -ldl -lm -lcrypt -lutil -lc
    perllibs=-lpthread -ldl -lm -lcrypt -lutil -lc
    libc=libc-2.27.so
    so=so
    useshrplib=false
    libperl=libperl.a
    gnulibc_version='2.27'
  Dynamic Linking:
    dlsrc=dl_dlopen.xs
    dlext=so
    d_dlsymun=undef
    ccdlflags='-Wl,-E'
    cccdlflags='-fPIC'
    lddlflags='-shared -O2 -L/usr/local/lib -fstack-protector-strong'


Characteristics of this binary (from libperl): 
  Compile-time options:
    HAS_TIMES
    PERLIO_LAYERS
    PERL_COPY_ON_WRITE
    PERL_DONT_CREATE_GVSV
    PERL_OP_PARENT
    PERL_PRESERVE_IVUV
    PERL_USE_DEVEL
    USE_64_BIT_ALL
    USE_64_BIT_INT
    USE_LARGE_FILES
    USE_LOCALE
    USE_LOCALE_COLLATE
    USE_LOCALE_CTYPE
    USE_LOCALE_NUMERIC
    USE_LOCALE_TIME
    USE_PERLIO
    USE_PERL_ATOF
  Built under linux
  Compiled at Jul 20 2019 21:16:35
  %ENV:
    PERL5LIB="/home/cpansand/.cpan/build/2019073022/Alien-cmake3-0.04-0/blib/arch:/home/cpansand/.cpan/build/2019073022/Alien-cmake3-0.04-0/blib/lib"
    PERL5OPT=""
    PERL5_CPANPLUS_IS_RUNNING="21852"
    PERL5_CPAN_IS_RUNNING="21852"
    PERL5_CPAN_IS_RUNNING_IN_RECURSION="2024,21852"
    PERLDOC="-MPod::Perldoc::ToTextOverstrike"
    PERL_BATCH="yes"
    PERL_CANARY_STABILITY_NOPROMPT="1"
    PERL_CPAN_REPORTER_CONFIG="/var/tmp/cpansmoker-1023/2019073021/cpanreporter_000_config.ini"
    PERL_EXTUTILS_AUTOINSTALL="--defaultdeps"
    PERL_USE_UNSAFE_INC="1"
  @INC:
    /home/cpansand/.cpan/build/2019073022/Alien-cmake3-0.04-0/blib/arch
    /home/cpansand/.cpan/build/2019073022/Alien-cmake3-0.04-0/blib/lib
    /opt/perl-5.31.2/lib/site_perl/5.31.2/x86_64-linux
    /opt/perl-5.31.2/lib/site_perl/5.31.2
    /opt/perl-5.31.2/lib/5.31.2/x86_64-linux
    /opt/perl-5.31.2/lib/5.31.2
    .