Geo-Coder-List v0.35 Perl 5 v5.41.12 OpenBSD.amd64-openbsd
- Status
- Pass
- From
- Nigel Horne
- Dist
-
Geo-Coder-List v0.35
- Platform
- Perl 5 v5.41.12 OpenBSD.amd64-openbsd
- Date
- 2025-05-21 17:17:33
- ID
- 7bcaefa8-3667-11f0-ac3b-bd72cdbfbde2
This distribution has been tested as part of the CPAN Testers
project, supporting the Perl programming language. See
http://wiki.cpantesters.org/ for more information or email
questions to cpan-testers-discuss@perl.org
--
Dear Nigel Horne,
This is a computer-generated report for Geo-Coder-List-0.35
on perl 5.41.12, created by CPAN-Reporter-1.2020.
Thank you for uploading your work to CPAN. Congratulations!
All tests were successful.
Sections of this report:
* Tester comments
* Program output
* Prerequisites
* Environment and other context
------------------------------
TESTER COMMENTS
------------------------------
Additional comments from tester:
none provided
------------------------------
PROGRAM OUTPUT
------------------------------
Output from '/usr/bin/make test':
PERL_DL_NONLAZY=1 "/home/njh/perl5/perlbrew/perls/perl-5.41.12/bin/perl5.41.12" "-MExtUtils::Command::MM" "-MTest::Harness" "-e" "undef *Test::Harness::Switches; test_harness(0, 'blib/lib', 'blib/arch')" t/*.t
# Testing Geo::Coder::List 0.35, Perl 5.041012, /home/njh/perl5/perlbrew/perls/perl-5.41.12/bin/perl5.41.12
t/00-load.t ........... ok
t/10-new.t ............ ok
t/bing.t .............. ok
t/boiler.t ............ ok
t/cache.t ............. skipped: Need Geo::Coder::Free
t/canada.t ............ ok
t/carp.t .............. ok
t/census.t ............ ok
t/changes.t ........... skipped: Not running author tests
t/comment-spelling.t .. skipped: Not running author tests
t/coverage.t .......... ok
t/critic.t ............ skipped: Not running author tests
t/cv.t ................ skipped: Not running author tests
t/dist.t .............. skipped: Not running author tests
t/eof.t ............... skipped: Not running author tests
t/eol.t ............... skipped: Not running author tests
# Geo::Coder::Free not installed - skipping tests
t/free.t .............. ok
t/geoapify.t .......... ok
# GeocodeFarm all fail, is the site down?
t/geofarm.t ........... ok
t/geonames.t .......... ok
t/google.t ............ ok
t/googleplaces.t ...... ok
t/gv.t ................ skipped: Not running author tests
t/kwalitee.t .......... skipped: Not running author tests
# Online tests disabled
t/list.t .............. ok
t/manifest.t .......... skipped: Not running author tests
t/mapbox.t ............ ok
t/no404s.t ............ skipped: Not running author tests
t/noplan.t ............ skipped: Not running author tests
t/opencage.t .......... ok
t/osm.t ............... ok
t/ovi.t ............... ok
t/pod-cm.t ............ skipped: Test::Pod::Spelling::CommonMistakes required for testing POD spelling
t/pod-links.t ......... skipped: Not running author tests
t/pod-snippets.t ...... skipped: Not running author tests
t/pod-spelling.t ...... skipped: Not running author tests
t/pod-synopsis.t ...... skipped: Not running author tests
t/pod.t ............... skipped: Not running author tests
t/postcodes.t ......... ok
t/rand.t .............. ok
t/ua.t ................ ok
t/unused.t ............ skipped: Not running author tests
t/us.t ................ ok
t/used.t .............. skipped: Not running author tests
t/vars.t .............. skipped: Not running author tests
t/xyz.t ............... ok
All tests successful.
Test Summary Report
-------------------
t/boiler.t (Wstat: 0 Tests: 3 Failed: 0)
TODO passed: 1-3
Files=46, Tests=423, 8 wallclock secs ( 0.19 usr 0.12 sys + 5.95 cusr 1.41 csys = 7.67 CPU)
Result: PASS
------------------------------
PREREQUISITES
------------------------------
Prerequisite modules loaded:
requires:
Module Need Have
-------------------- -------- --------
Carp 0 1.54
HTML::Entities 0 3.83
LWP::Protocol::https 0 6.14
perl 5.010001 5.041012
Scalar::Util 0 1.68_01
Time::HiRes 0 1.9778
build_requires:
Module Need Have
-------------------- -------- --------
ExtUtils::MakeMaker 0 7.74
Test::Deep 0 1.205
Test::DescribeMe 0 0.004
Test::MockModule 0 0.179.0
Test::Most 0 0.38
Test::Needs 0 0.002010
Test::NoWarnings 0 1.06
Test::Number::Delta 0 1.06
configure_requires:
Module Need Have
-------------------- -------- --------
ExtUtils::MakeMaker 0 7.74
------------------------------
ENVIRONMENT AND OTHER CONTEXT
------------------------------
Environment variables:
LD_LIBRARY_PATH = /usr/local/lib
NONINTERACTIVE_TESTING = 1
PATH = /home/njh/perl5/perlbrew/bin:/home/njh/perl5/perlbrew/perls/perl-5.41.12/bin:/home/njh/perl5/perlbrew/bin:/home/njh/bin:/bin:/usr/bin:/usr/local/bin
PERL5LIB =
PERL5OPT =
PERL5_CPANPLUS_IS_RUNNING = 57778
PERL5_CPAN_IS_RUNNING = 57778
PERLBREW_HOME = /home/njh/.perlbrew
PERLBREW_LIB =
PERLBREW_MANPATH = /home/njh/perl5/perlbrew/perls/perl-5.41.12/man
PERLBREW_PATH = /home/njh/perl5/perlbrew/bin:/home/njh/perl5/perlbrew/perls/perl-5.41.12/bin
PERLBREW_PERL = perl-5.41.12
PERLBREW_ROOT = /home/njh/perl5/perlbrew
PERLBREW_SHELLRC_VERSION = 1.01
PERLBREW_VERSION = 1.01
PERL_LOCAL_LIB_ROOT =
PERL_MM_USE_DEFAULT = 1
PERL_USE_UNSAFE_INC = 1
SHELL = /bin/bash
TERM = xterm-256color
TMPDIR = /tmp
Perl special variables (and OS-specific diagnostics, for MSWin32):
$^X = /home/njh/perl5/perlbrew/perls/perl-5.41.12/bin/perl5.41.12
$UID/$EUID = 1000 / 1000
$GID = 1000 1000 0
$EGID = 1000 1000 0
Perl module toolchain versions installed:
Module Have
------------------- --------
CPAN 2.38
CPAN::Meta 2.150010
Cwd 3.94
ExtUtils::CBuilder 0.280240
ExtUtils::Command 7.74
ExtUtils::Install 2.22
ExtUtils::MakeMaker 7.74
ExtUtils::Manifest 1.75
ExtUtils::ParseXS 3.57
File::Spec 3.94
JSON 4.10
JSON::PP 4.16
Module::Build 0.4234
Module::Signature n/a
Parse::CPAN::Meta 2.150010
Test2 1.302213
Test::Harness 3.52
Test::More 1.302213
YAML 1.31
YAML::Syck 1.34
version 0.9933
--
Summary of my perl5 (revision 5 version 41 subversion 12) configuration:
Platform:
osname=openbsd
osvers=7.6
archname=OpenBSD.amd64-openbsd
uname='openbsd vultr2.bandsman.co.uk 7.6 generic#1 amd64 '
config_args='-de -Dprefix=/home/njh/perl5/perlbrew/perls/perl-5.41.12 -Dusedevel -Aeval:scriptdir=/home/njh/perl5/perlbrew/perls/perl-5.41.12/bin'
hint=recommended
useposix=true
d_sigaction=define
useithreads=undef
usemultiplicity=undef
use64bitint=define
use64bitall=define
uselongdouble=undef
usemymalloc=n
default_inc_excludes_dot=define
Compiler:
cc='cc'
ccflags ='-DNO_LOCALE_NUMERIC -DNO_LOCALE_COLLATE -DNO_LOCALE_MONETARY -DNO_LOCALE_TIME -DNO_LOCALE_MESSAGES -DLIBC_HANDLES_MISMATCHED_CTYPE -fno-strict-aliasing -pipe -fstack-protector-strong -I/usr/local/include'
optimize='-O2'
cppflags='-DNO_LOCALE_NUMERIC -DNO_LOCALE_COLLATE -DNO_LOCALE_MONETARY -DNO_LOCALE_TIME -DNO_LOCALE_MESSAGES -DLIBC_HANDLES_MISMATCHED_CTYPE -fno-strict-aliasing -pipe -fstack-protector-strong -I/usr/local/include'
ccversion=''
gccversion='OpenBSD Clang 16.0.6'
gccosandvers=''
intsize=4
longsize=8
ptrsize=8
doublesize=8
byteorder=12345678
doublekind=3
d_longlong=define
longlongsize=8
d_longdbl=define
longdblsize=16
longdblkind=3
ivtype='long'
ivsize=8
nvtype='double'
nvsize=8
Off_t='off_t'
lseeksize=8
alignbytes=8
prototype=define
Linker and Libraries:
ld='cc'
ldflags ='-Wl,-E -fstack-protector-strong -L/usr/local/lib'
libpth=/usr/lib/clang/16/lib /usr/lib /usr/local/lib
libs=-lpthread -lm -lutil -lc
perllibs=-lpthread -lm -lutil -lc
libc=/usr/lib/libc.so.100.3
so=so
useshrplib=false
libperl=libperl.a
gnulibc_version=''
Dynamic Linking:
dlsrc=dl_dlopen.xs
dlext=so
d_dlsymun=undef
ccdlflags=' '
cccdlflags='-DPIC -fPIC '
lddlflags='-shared -fPIC -L/usr/local/lib -fstack-protector-strong'
Characteristics of this binary (from libperl):
Compile-time options:
HAS_LONG_DOUBLE
HAS_STRTOLD
HAS_TIMES
PERLIO_LAYERS
PERL_COPY_ON_WRITE
PERL_DONT_CREATE_GVSV
PERL_HASH_FUNC_SIPHASH13
PERL_HASH_USE_SBOX32
PERL_MALLOC_WRAP
PERL_OP_PARENT
PERL_PRESERVE_IVUV
PERL_USE_DEVEL
PERL_USE_SAFE_PUTENV
USE_64_BIT_ALL
USE_64_BIT_INT
USE_LARGE_FILES
USE_LOCALE
USE_LOCALE_CTYPE
USE_PERLIO
USE_PERL_ATOF
Built under openbsd
Compiled at Apr 25 2025 00:37:11
%ENV:
PERL5LIB=""
PERL5OPT=""
PERL5_CPANPLUS_IS_RUNNING="57778"
PERL5_CPAN_IS_RUNNING="57778"
PERLBREW_HOME="/home/njh/.perlbrew"
PERLBREW_LIB=""
PERLBREW_MANPATH="/home/njh/perl5/perlbrew/perls/perl-5.41.12/man"
PERLBREW_PATH="/home/njh/perl5/perlbrew/bin:/home/njh/perl5/perlbrew/perls/perl-5.41.12/bin"
PERLBREW_PERL="perl-5.41.12"
PERLBREW_ROOT="/home/njh/perl5/perlbrew"
PERLBREW_SHELLRC_VERSION="1.01"
PERLBREW_VERSION="1.01"
PERL_LOCAL_LIB_ROOT=""
PERL_MM_USE_DEFAULT="1"
PERL_USE_UNSAFE_INC="1"
@INC:
/home/njh/perl5/perlbrew/perls/perl-5.41.12/lib/site_perl/5.41.12/OpenBSD.amd64-openbsd
/home/njh/perl5/perlbrew/perls/perl-5.41.12/lib/site_perl/5.41.12
/home/njh/perl5/perlbrew/perls/perl-5.41.12/lib/5.41.12/OpenBSD.amd64-openbsd
/home/njh/perl5/perlbrew/perls/perl-5.41.12/lib/5.41.12
.