ODF-MailMerge v1.010 Perl 5 v5.32.1 x86_64-linux

Status
Pass
From
Slaven Rezić
Dist
ODF-MailMerge v1.010
Platform
Perl 5 v5.32.1 x86_64-linux
Date
2024-08-26 06:21:52
ID
7bdbd4fc-6373-11ef-b7c5-c6256e8775ea
This distribution has been tested as part of the CPAN Testers
project, supporting the Perl programming language.  See
http://wiki.cpantesters.org/ for more information or email
questions to cpan-testers-discuss@perl.org


--
Dear Jim Avera,

This is a computer-generated report for ODF-MailMerge-1.010
on perl 5.32.1, created by CPAN-Reporter-1.2019.

Thank you for uploading your work to CPAN.  Congratulations!
All tests were successful.

Sections of this report:

    * Tester comments
    * Program output
    * Prerequisites
    * Environment and other context

------------------------------
TESTER COMMENTS
------------------------------

Additional comments from tester:

none provided

------------------------------
PROGRAM OUTPUT
------------------------------

Output from '/usr/bin/make test':

Skip blib/lib/auto/share/dist/ODF-MailMerge/examples/Ex_Famnames.pl (unchanged)
Skip blib/lib/auto/share/dist/ODF-MailMerge/examples/Ex_Famnames_output.odt (unchanged)
Skip blib/lib/auto/share/dist/ODF-MailMerge/examples/family_names.csv (unchanged)
Skip blib/lib/auto/share/dist/ODF-MailMerge/cover.pdf (unchanged)
Skip blib/lib/auto/share/dist/ODF-MailMerge/examples/Ex_Famnames_Skeleton.odt (unchanged)
PERL_DL_NONLAZY=1 "/opt/perl-5.32.1/bin/perl" "-MExtUtils::Command::MM" "-MTest::Harness" "-e" "undef *Test::Harness::Switches; test_harness(0, 'blib/lib', 'blib/arch')" t/*.t
t/10_basic.t ............. ok
t/20_mailmerge.t ......... ok
t/90_Ex_Famnames.t ....... skipped: LibreOffice is not avaialble
t/95_odfedit.t ........... ok
t/author-pod-coverage.t .. skipped: these tests are for testing by the author
t/author-pod-syntax.t .... skipped: these tests are for testing by the author
All tests successful.
Files=6, Tests=51, 12 wallclock secs ( 0.05 usr  0.01 sys +  9.65 cusr  1.52 csys = 11.23 CPU)
Result: PASS

------------------------------
PREREQUISITES
------------------------------

Prerequisite modules loaded:

requires:

    Module                     Need     Have    
    -------------------------- -------- --------
    Carp                       0        1.50    
    Clone                      0        0.46    
    constant                   0        1.33    
    Data::Dumper::Interp       6.009    7.007   
    DateTime                   0        1.65    
    Encode                     0        3.21    
    Encode::Locale             0        1.05    
    Exporter                   0        5.78    
    feature                    0        1.58    
    File::ShareDir             0        1.118   
    File::Spec::Functions      0        3.78    
    FindBin                    0        1.54    
    Getopt::Long               2.37     2.57    
    Guard                      0        1.023   
    List::MoreUtils            0        0.430   
    List::Util                 0        1.63    
    ODF::lpOD                  2.001    2.001   
    ODF::lpOD_Helper           6.006    6.013   
    open                       0        1.12    
    Path::Tiny                 0.144    0.146   
    perl                       5.022000 5.032001
    Pod::Usage                 0        2.03    
    Scalar::Util               0        1.63    
    Spreadsheet::Edit          1000.011 1000.015
    Spreadsheet::Edit::IO      1000.006 1000.015
    Spreadsheet::Edit::Log     1000.005 1000.015
    strict                     0        1.11    
    Text::ParseWords           3.31     3.31    
    utf8                       0        1.22    
    warnings                   0        1.47    

build_requires:

    Module                     Need     Have    
    -------------------------- -------- --------
    autovivification           0        0.18    
    Capture::Tiny              0        0.48    
    Carp::Always               0.16     0.16    
    Cwd                        0        3.78    
    Data::Dumper               0        2.183   
    DateTime::Format::Strptime 0        1.79    
    English                    0        1.11    
    Env                        0        1.04    
    ExtUtils::MakeMaker        0        7.70    
    File::Basename             0        2.85    
    File::Path                 0        2.18    
    File::Spec                 0        3.78    
    File::Temp                 0.23     0.2311  
    Import::Into               0        1.002005
    indirect                   0        0.39    
    IO::Uncompress::Gunzip     0        2.211   
    JSON                       0        4.10    
    lib                        0        0.65    
    multidimensional           0        0.014   
    parent                     0        0.238   
    POSIX                      0        1.94    
    Spreadsheet::Edit          1000.011 1000.015
    Spreadsheet::Edit::IO      1000.006 1000.015
    Test2::Plugin::BailOnFail  0        0.000162
    Test2::V0                  0        0.000162
    Time::HiRes                0        1.9764  

configure_requires:

    Module                     Need     Have    
    -------------------------- -------- --------
    ExtUtils::MakeMaker        0        7.70    
    File::ShareDir::Install    0.06     0.14    


------------------------------
ENVIRONMENT AND OTHER CONTEXT
------------------------------

Environment variables:

    LANG = C
    PATH = /usr/local/bin:/usr/bin:/bin:/usr/local/sbin:/usr/sbin:/sbin:/home/cpansand/bin/linux-gnu:/home/cpansand/bin/sh:/home/cpansand/bin:/usr/games:/home/cpansand/devel:/home/eserte/src/srezic-misc/scripts
    PERL5LIB = 
    PERL5OPT = 
    PERL5_CPANPLUS_IS_RUNNING = 9866
    PERL5_CPAN_IS_RUNNING = 9866
    PERL5_CPAN_IS_RUNNING_IN_RECURSION = 8632,9866
    PERLDOC = -MPod::Perldoc::ToTextOverstrike
    PERL_BATCH = yes
    PERL_CANARY_STABILITY_NOPROMPT = 1
    PERL_CPAN_REPORTER_CONFIG = /var/tmp/cpansmoker-1023/2024082605/cpanreporter_000_config.ini
    PERL_EXTUTILS_AUTOINSTALL = --defaultdeps
    PERL_USE_UNSAFE_INC = 1
    SHELL = /usr/bin/zsh
    TERM = screen
    TMPDIR = /var/tmp/cpansmoker-1023/2024082605

Perl special variables (and OS-specific diagnostics, for MSWin32):

    $^X = /opt/perl-5.32.1/bin/perl
    $UID/$EUID = 1023 / 1023
    $GID = 1023 1023
    $EGID = 1023 1023

Perl module toolchain versions installed:

    Module              Have    
    ------------------- --------
    CPAN                2.27    
    CPAN::Meta          2.150010
    Cwd                 3.78    
    ExtUtils::CBuilder  0.280236
    ExtUtils::Command   7.70    
    ExtUtils::Install   2.22    
    ExtUtils::MakeMaker 7.70    
    ExtUtils::Manifest  1.75    
    ExtUtils::ParseXS   3.51    
    File::Spec          3.78    
    JSON                4.10    
    JSON::PP            4.16    
    Module::Build       0.4234  
    Module::Signature   n/a     
    Parse::CPAN::Meta   2.150010
    Test2               1.302198
    Test::Harness       3.42    
    Test::More          1.302198
    YAML                1.31    
    YAML::Syck          1.34    
    version             0.9932  


--

Summary of my perl5 (revision 5 version 32 subversion 1) configuration:
   
  Platform:
    osname=linux
    osvers=4.19.0-25-amd64
    archname=x86_64-linux
    uname='linux cloud12.bbbike.org 4.19.0-25-amd64 #1 smp debian 4.19.289-2 (2023-08-08) x86_64 gnulinux '
    config_args='-ds -e -Dprefix=/opt/perl-5.32.1 -Dcf_email=srezic@cpan.org'
    hint=recommended
    useposix=true
    d_sigaction=define
    useithreads=undef
    usemultiplicity=undef
    use64bitint=define
    use64bitall=define
    uselongdouble=undef
    usemymalloc=n
    default_inc_excludes_dot=define
    bincompat5005=undef
  Compiler:
    cc='cc'
    ccflags ='-fwrapv -fno-strict-aliasing -pipe -fstack-protector-strong -I/usr/local/include -D_LARGEFILE_SOURCE -D_FILE_OFFSET_BITS=64 -D_FORTIFY_SOURCE=2'
    optimize='-O2'
    cppflags='-fwrapv -fno-strict-aliasing -pipe -fstack-protector-strong -I/usr/local/include'
    ccversion=''
    gccversion='8.3.0'
    gccosandvers=''
    intsize=4
    longsize=8
    ptrsize=8
    doublesize=8
    byteorder=12345678
    doublekind=3
    d_longlong=define
    longlongsize=8
    d_longdbl=define
    longdblsize=16
    longdblkind=3
    ivtype='long'
    ivsize=8
    nvtype='double'
    nvsize=8
    Off_t='off_t'
    lseeksize=8
    alignbytes=8
    prototype=define
  Linker and Libraries:
    ld='cc'
    ldflags =' -fstack-protector-strong -L/usr/local/lib'
    libpth=/usr/local/lib /usr/lib/gcc/x86_64-linux-gnu/8/include-fixed /usr/include/x86_64-linux-gnu /usr/lib /lib/x86_64-linux-gnu /lib/../lib /usr/lib/x86_64-linux-gnu /usr/lib/../lib /lib /lib64 /usr/lib64
    libs=-lpthread -lnsl -lgdbm -ldb -ldl -lm -lcrypt -lutil -lc
    perllibs=-lpthread -lnsl -ldl -lm -lcrypt -lutil -lc
    libc=libc-2.28.so
    so=so
    useshrplib=false
    libperl=libperl.a
    gnulibc_version='2.28'
  Dynamic Linking:
    dlsrc=dl_dlopen.xs
    dlext=so
    d_dlsymun=undef
    ccdlflags='-Wl,-E'
    cccdlflags='-fPIC'
    lddlflags='-shared -O2 -L/usr/local/lib -fstack-protector-strong'


Characteristics of this binary (from libperl): 
  Compile-time options:
    HAS_TIMES
    PERLIO_LAYERS
    PERL_COPY_ON_WRITE
    PERL_DONT_CREATE_GVSV
    PERL_MALLOC_WRAP
    PERL_OP_PARENT
    PERL_PRESERVE_IVUV
    USE_64_BIT_ALL
    USE_64_BIT_INT
    USE_LARGE_FILES
    USE_LOCALE
    USE_LOCALE_COLLATE
    USE_LOCALE_CTYPE
    USE_LOCALE_NUMERIC
    USE_LOCALE_TIME
    USE_PERLIO
    USE_PERL_ATOF
  Built under linux
  Compiled at Dec 27 2023 08:34:55
  %ENV:
    PERL5LIB=""
    PERL5OPT=""
    PERL5_CPANPLUS_IS_RUNNING="9866"
    PERL5_CPAN_IS_RUNNING="9866"
    PERL5_CPAN_IS_RUNNING_IN_RECURSION="8632,9866"
    PERLDOC="-MPod::Perldoc::ToTextOverstrike"
    PERL_BATCH="yes"
    PERL_CANARY_STABILITY_NOPROMPT="1"
    PERL_CPAN_REPORTER_CONFIG="/var/tmp/cpansmoker-1023/2024082605/cpanreporter_000_config.ini"
    PERL_EXTUTILS_AUTOINSTALL="--defaultdeps"
    PERL_USE_UNSAFE_INC="1"
  @INC:
    /opt/perl-5.32.1/lib/site_perl/5.32.1/x86_64-linux
    /opt/perl-5.32.1/lib/site_perl/5.32.1
    /opt/perl-5.32.1/lib/5.32.1/x86_64-linux
    /opt/perl-5.32.1/lib/5.32.1
    .