CPAN-SQLite v0.215 Perl 5 v5.18.2 darwin-thread-multi-2level

Status
Pass
From
Gintautas Grigelionis
Dist
CPAN-SQLite v0.215
Platform
Perl 5 v5.18.2 darwin-thread-multi-2level
Date
2019-01-24 21:46:19
ID
7be6477a-2021-11e9-9fd9-d5701108147a
This distribution has been tested as part of the CPAN Testers
project, supporting the Perl programming language.  See
http://wiki.cpantesters.org/ for more information or email
questions to cpan-testers-discuss@perl.org


--
Dear Serguei Trouchelle,

This is a computer-generated report for CPAN-SQLite-0.215
on perl 5.18.2, created by CPAN-Reporter-1.2018.

Thank you for uploading your work to CPAN.  Congratulations!
All tests were successful.

Sections of this report:

    * Tester comments
    * Program output
    * Prerequisites
    * Environment and other context

------------------------------
TESTER COMMENTS
------------------------------

Additional comments from tester:

none provided

------------------------------
PROGRAM OUTPUT
------------------------------

Output from '/usr/bin/make test':

PERL_DL_NONLAZY=1 "/usr/bin/perl" "-MExtUtils::Command::MM" "-MTest::Harness" "-e" "undef *Test::Harness::Switches; test_harness(0, 'blib/lib', 'blib/arch')" t/*.t
t/00-all_prereqs.t ............... ok
t/00-compile.t ................... ok
# 
# Versions for all modules listed in MYMETA.json (including optional ones):
# 
# === Configure Requires ===
# 
#     Module              Want Have
#     ------------------- ---- ----
#     ExtUtils::MakeMaker  any 7.34
# 
# === Build Requires ===
# 
#     Module              Want Have
#     ------------------- ---- ----
#     ExtUtils::MakeMaker  any 7.34
# 
# === Test Requires ===
# 
#     Module              Want     Have
#     ------------------- ---- --------
#     CPAN::HandleConfig   any   5.5006
#     CPAN::Version        any   5.5003
#     Carp                 any     1.50
#     DBD::SQLite          any     1.62
#     ExtUtils::MakeMaker  any     7.34
#     File::Copy           any     2.26
#     File::Spec           any     3.75
#     FindBin              any     1.51
#     IO::Handle           any     1.39
#     IPC::Open3           any     1.13
#     Test::Memory::Cycle  any     1.06
#     Test::More          0.94 1.302160
#     base                 any     2.23
#     lib                  any     0.63
# 
# === Test Recommends ===
# 
#     Module         Want     Have
#     ---------- -------- --------
#     CPAN::Meta 2.120900 2.150010
# 
# === Runtime Requires ===
# 
#     Module                Want    Have
#     --------------------- ---- -------
#     Archive::Tar          1.54    2.32
#     CPAN                   any    2.10
#     CPAN::DistnameInfo    0.09    0.12
#     CPAN::Index           1.93  1.9601
#     Compress::Zlib         any   2.084
#     Cwd                    any    3.75
#     DBD::SQLite           1.27    1.62
#     DBI                    any   1.642
#     English                any 1.06_01
#     Exporter               any    5.73
#     File::Basename         any    2.84
#     File::Find             any    1.23
#     File::HomeDir          any   1.004
#     File::Path             any    2.16
#     File::Spec             any    3.75
#     File::Spec::Functions  any    3.75
#     Getopt::Long           any     2.5
#     HTTP::Tiny             any   0.076
#     IO::Zlib               any    1.10
#     Safe                   any    2.35
#     Scalar::Util           any    1.50
#     constant               any    1.33
#     parent                 any   0.237
#     strict                 any    1.07
#     utf8                   any    1.10
#     warnings               any    1.18
# 
t/00-report-prereqs.t ............ ok
# Testing with Perl 5.018002, /usr/bin/perl
#     CPAN version is 2.10
#     CPAN::DistnameInfo version is 0.12
#     CPAN::HandleConfig version is 5.5006
#     CPAN::Version version is 5.5003
#     Carp version is 1.5
#     Compress::Zlib version is 2.084
#     Cwd version is 3.75
#     DBD::SQLite version is 1.62
#     DBI version is 1.642
#     English version is 1.06_01
#     Exporter version is 5.73
#     ExtUtils::MakeMaker version is 7.34
#     File::Basename version is 2.84
#     File::Copy version is 2.26
#     File::Find version is 1.23
#     File::HomeDir version is 1.004
#     File::Path version is 2.16
#     File::Spec version is 3.75
#     File::Spec::Functions version is 3.75
#     FindBin version is 1.51
#     Getopt::Long version is 2.5
#     HTTP::Tiny version is 0.076
#     IO::Handle version is 1.39
#     IPC::Open3 version is 1.13
#     Safe version is 2.35
#     Scalar::Util version is 1.5
#     Test::Memory::Cycle version is 1.06
#     Test::More version is 1.302160
#     base version is 2.23
#     constant version is 1.33
#     lib version is 0.63
#     parent version is 0.237
#     strict version is 1.07
#     utf8 version is 1.10
#     warnings version is 1.18
t/000-report-versions.t .......... ok
t/01basic.t ...................... ok
t/02drop.t ....................... ok
t/03info.t ....................... ok
t/04search.t ..................... ok
t/04search_everything.t .......... ok
t/05meta_new.t ................... ok
t/05meta_update.t ................ ok
t/06retrieve.t ................... ok
t/07download.t ................... ok
t/08circular_references.t ........ ok
t/author-critic.t ................ skipped: these tests are for testing by the author
t/author-eol.t ................... skipped: these tests are for testing by the author
t/author-minimum-version.t ....... skipped: these tests are for testing by the author
t/author-no-tabs.t ............... skipped: these tests are for testing by the author
t/author-pod-syntax.t ............ skipped: these tests are for testing by the author
t/release-changes_has_content.t .. skipped: these tests are for release candidate testing
t/release-distmeta.t ............. skipped: these tests are for release candidate testing
t/release-fixme.t ................ skipped: these tests are for release candidate testing
t/release-has-version.t .......... skipped: these tests are for release candidate testing
t/release-kwalitee.t ............. skipped: these tests are for release candidate testing
t/release-meta-json.t ............ skipped: these tests are for release candidate testing
t/release-pause-permissions.t .... skipped: these tests are for release candidate testing
All tests successful.
Files=26, Tests=11316, 34 wallclock secs ( 0.95 usr  0.18 sys +  7.29 cusr  1.28 csys =  9.70 CPU)
Result: PASS

------------------------------
PREREQUISITES
------------------------------

Prerequisite modules loaded:

requires:

    Module              Need     Have    
    ------------------- -------- --------
    Archive::Tar        1.54     2.32    
    Compress::Zlib      0        2.084   
    CPAN::DistnameInfo  0.09     0.12    
    CPAN::Index         1.93     1.9601  
    DBD::SQLite         1.27     1.62    
    File::HomeDir       0        1.004   
    File::Spec          0        3.75    
    HTTP::Tiny          0        0.076   
    IO::Zlib            0        1.10    
    parent              0        0.237   

build_requires:

    Module              Need     Have    
    ------------------- -------- --------
    ExtUtils::MakeMaker 0        7.34    
    Test::Memory::Cycle 0        1.06    

configure_requires:

    Module              Need     Have    
    ------------------- -------- --------
    ExtUtils::MakeMaker 0        7.34    

opt_build_requires:

    Module              Need     Have    
    ------------------- -------- --------
    CPAN::Meta          2.120900 2.150010


------------------------------
ENVIRONMENT AND OTHER CONTEXT
------------------------------

Environment variables:

    LC_CTYPE = UTF-8
    PATH = /usr/local/bin:/usr/bin:/bin:/usr/sbin:/sbin:/usr/local/MacGPG2/bin:/opt/X11/bin
    PERL5LIB = 
    PERL5OPT = 
    PERL5_CPANPLUS_IS_RUNNING = 59406
    PERL5_CPAN_IS_RUNNING = 59406
    SHELL = /bin/bash
    TERM = xterm-256color
    TMPDIR = /var/folders/7j/gsygg6dj3yg5vj5ph2nk1x880000gn/T/
    VERSIONER_PERL_PREFER_32_BIT = no
    VERSIONER_PERL_VERSION = 5.18

Perl special variables (and OS-specific diagnostics, for MSWin32):

    $^X = /usr/bin/perl
    $UID/$EUID = 501 / 501
    $GID = 20 20 701 12 61 79 80 81 98 703 702 33 100 204 250 395 398 399
    $EGID = 20 20 701 12 61 79 80 81 98 703 702 33 100 204 250 395 398 399

Perl module toolchain versions installed:

    Module              Have    
    ------------------- --------
    CPAN                2.10    
    CPAN::Meta          2.150010
    Cwd                 3.75    
    ExtUtils::CBuilder  0.280230
    ExtUtils::Command   7.34    
    ExtUtils::Install   2.14    
    ExtUtils::MakeMaker 7.34    
    ExtUtils::Manifest  1.71    
    ExtUtils::ParseXS   3.35    
    File::Spec          3.75    
    JSON                4.01    
    JSON::PP            4.00    
    Module::Build       0.4224  
    Module::Signature   0.83    
    Parse::CPAN::Meta   2.150010
    Test::Harness       3.42    
    Test::More          1.302160
    YAML                1.27    
    YAML::Syck          1.31    
    version             0.9924  


--

Summary of my perl5 (revision 5 version 18 subversion 2) configuration:
   
  Platform:
    osname=darwin, osvers=18.0, archname=darwin-thread-multi-2level
    uname='darwin osx337.sd.apple.com 18.0 darwin kernel version 17.0.0: fri may 4 10:33:38 pdt 2018; root:xnu-4570.1.46.100.2~1development_x86_64 x86_64 '
    config_args='-ds -e -Dprefix=/usr -Dccflags=-g  -pipe  -Dldflags= -Dman3ext=3pm -Duseithreads -Duseshrplib -Dinc_version_list=none -Dcc=cc'
    hint=recommended, useposix=true, d_sigaction=define
    useithreads=define, usemultiplicity=define
    useperlio=define, d_sfio=undef, uselargefiles=define, usesocks=undef
    use64bitint=define, use64bitall=define, uselongdouble=undef
    usemymalloc=n, bincompat5005=undef
  Compiler:
    cc='cc', ccflags =' -g -pipe -fno-common -DPERL_DARWIN -fno-strict-aliasing -fstack-protector',
    optimize='-Os',
    cppflags='-g -pipe -fno-common -DPERL_DARWIN -fno-strict-aliasing -fstack-protector'
    ccversion='', gccversion='4.2.1 Compatible Apple LLVM 10.0.0 (clang-1000.0.42)', gccosandvers=''
    intsize=4, longsize=8, ptrsize=8, doublesize=8, byteorder=12345678
    d_longlong=define, longlongsize=8, d_longdbl=define, longdblsize=16
    ivtype='long', ivsize=8, nvtype='double', nvsize=8, Off_t='off_t', lseeksize=8
    alignbytes=8, prototype=define
  Linker and Libraries:
    ld='cc', ldflags =' -fstack-protector'
    libpth=/usr/lib /usr/local/lib
    libs= 
    perllibs=
    libc=, so=dylib, useshrplib=true, libperl=libperl.dylib
    gnulibc_version=''
  Dynamic Linking:
    dlsrc=dl_dlopen.xs, dlext=bundle, d_dlsymun=undef, ccdlflags=' '
    cccdlflags=' ', lddlflags=' -bundle -undefined dynamic_lookup -fstack-protector'


Characteristics of this binary (from libperl): 
  Compile-time options: HAS_TIMES MULTIPLICITY PERLIO_LAYERS
                        PERL_DONT_CREATE_GVSV
                        PERL_HASH_FUNC_ONE_AT_A_TIME_HARD
                        PERL_IMPLICIT_CONTEXT PERL_MALLOC_WRAP
                        PERL_PRESERVE_IVUV PERL_SAWAMPERSAND USE_64_BIT_ALL
                        USE_64_BIT_INT USE_ITHREADS USE_LARGE_FILES
                        USE_LOCALE USE_LOCALE_COLLATE USE_LOCALE_CTYPE
                        USE_LOCALE_NUMERIC USE_PERLIO USE_PERL_ATOF
                        USE_REENTRANT_API
  Locally applied patches:
	/Library/Perl/Updates/<version> comes before system perl directories
	installprivlib and installarchlib points to the Updates directory
  Built under darwin
  Compiled at Aug 17 2018 17:29:08
  %ENV:
    PERL5LIB=""
    PERL5OPT=""
    PERL5_CPANPLUS_IS_RUNNING="59406"
    PERL5_CPAN_IS_RUNNING="59406"
  @INC:
    /Library/Perl/5.18/darwin-thread-multi-2level
    /Library/Perl/5.18
    /Network/Library/Perl/5.18/darwin-thread-multi-2level
    /Network/Library/Perl/5.18
    /Library/Perl/Updates/5.18.2/darwin-thread-multi-2level
    /Library/Perl/Updates/5.18.2
    /System/Library/Perl/5.18/darwin-thread-multi-2level
    /System/Library/Perl/5.18
    /System/Library/Perl/Extras/5.18/darwin-thread-multi-2level
    /System/Library/Perl/Extras/5.18
    .