WWW-FetchStory v0.2501 Perl 5 v5.18.4 amd64-freebsd
- Status
- Pass
- From
- Slaven Rezić
- Dist
-
WWW-FetchStory v0.2501
- Platform
- Perl 5 v5.18.4 amd64-freebsd
- Date
- 2025-02-06 05:16:13
- ID
- 7c18a600-e449-11ef-a06c-c7426e8775ea
This distribution has been tested as part of the CPAN Testers
project, supporting the Perl programming language. See
http://wiki.cpantesters.org/ for more information or email
questions to cpan-testers-discuss@perl.org
--
Dear Kathryn Andersen,
This is a computer-generated report for WWW-FetchStory-0.2501
on perl 5.18.4, created by CPAN-Reporter-1.2019.
Thank you for uploading your work to CPAN. Congratulations!
All tests were successful.
Sections of this report:
* Tester comments
* Program output
* Prerequisites
* Environment and other context
------------------------------
TESTER COMMENTS
------------------------------
Additional comments from tester:
none provided
------------------------------
PROGRAM OUTPUT
------------------------------
Output from './Build test':
t/00-compile.t ........... ok
#
# Versions for all modules listed in MYMETA.json (including optional ones):
#
# === Configure Requires ===
#
# Module Want Have
# ------------- ---- ------
# Module::Build 0.28 0.4234
#
# === Build Requires ===
#
# Module Want Have
# ------------- ---- ------
# Module::Build 0.28 0.4234
#
# === Test Requires ===
#
# Module Want Have
# ------------------- ----- --------
# ExtUtils::MakeMaker any 7.70
# File::Spec any 3.75
# IO::Handle any 1.55
# IPC::Open3 any 1.13
# Test::More any 1.302209
# perl 5.006 5.018004
#
# === Test Recommends ===
#
# Module Want Have
# ---------- -------- --------
# CPAN::Meta 2.120900 2.150010
#
# === Runtime Requires ===
#
# Module Want Have
# ---------------------- ---- ------
# Archive::Zip any 1.67
# Date::Format any 2.24
# EBook::EPUB any 0.6
# Encode any 3.21
# Encode::ZapCP1252 any 0.40
# File::Basename any 2.84
# File::Temp any 0.2311
# Getopt::Long 2.34 2.58
# HTML::Entities any 3.81
# HTML::Strip any 2.12
# HTML::Tidy::libXML any 0.02
# HTTP::Cookies any 6.11
# HTTP::Cookies::Mozilla any 2.034
# Module::Pluggable any 5.2
# Pod::Usage any 2.03
# WWW::Mechanize::Sleepy any 0.7
# XML::LibXML any 2.0210
# YAML::Any any 1.30
# common::sense any 3.75
# parent any 0.244
# strict any 1.07
# warnings any 1.18
#
t/00-report-prereqs.t .... ok
t/author-distmeta.t ...... skipped: these tests are for testing by the author
t/author-pod-coverage.t .. skipped: these tests are for testing by the author
t/author-pod-syntax.t .... skipped: these tests are for testing by the author
t/author-portability.t ... skipped: these tests are for testing by the author
t/release-has-version.t .. skipped: these tests are for release candidate testing
All tests successful.
Files=7, Tests=27, 9 wallclock secs ( 0.02 usr 0.02 sys + 4.65 cusr 4.45 csys = 9.13 CPU)
Result: PASS
------------------------------
PREREQUISITES
------------------------------
Prerequisite modules loaded:
requires:
Module Need Have
---------------------- ----- --------
Archive::Zip 0 1.67
common::sense 0 3.75
Date::Format 0 2.24
EBook::EPUB 0 0.6
Encode 0 3.21
Encode::ZapCP1252 0 0.40
File::Basename 0 2.84
File::Temp 0 0.2311
Getopt::Long 2.34 2.58
HTML::Entities 0 3.81
HTML::Strip 0 2.12
HTML::Tidy::libXML 0 0.02
HTTP::Cookies 0 6.11
HTTP::Cookies::Mozilla 0 2.034
Module::Pluggable 0 5.2
parent 0 0.244
Pod::Usage 0 2.03
strict 0 1.07
warnings 0 1.18
WWW::Mechanize::Sleepy 0 0.7
XML::LibXML 0 2.0210
YAML::Any 0 1.30
build_requires:
Module Need Have
---------------------- ----- --------
ExtUtils::MakeMaker 0 7.70
File::Spec 0 3.75
IO::Handle 0 1.55
IPC::Open3 0 1.13
Module::Build 0.28 0.4234
perl 5.006 5.018004
Test::More 0 1.302209
configure_requires:
Module Need Have
---------------------- ----- --------
Module::Build 0.28 0.4234
------------------------------
ENVIRONMENT AND OTHER CONTEXT
------------------------------
Environment variables:
LC_ALL = de_DE.ISO8859-1
PATH = /usr/local/bin:/usr/bin:/bin:/usr/local/sbin:/usr/sbin:/sbin:/home/cpansand/bin/freebsd10.3:/home/cpansand/bin/sh:/home/cpansand/bin:/usr/games:/home/cpansand/devel:/home/eserte/src/srezic-misc/scripts
PERL5LIB =
PERL5OPT =
PERL5_CPANPLUS_IS_RUNNING = 18643
PERL5_CPAN_IS_RUNNING = 18643
PERL5_CPAN_IS_RUNNING_IN_RECURSION = 18460,18643
PERLDOC = -MPod::Perldoc::ToTextOverstrike
PERL_BATCH = yes
PERL_CANARY_STABILITY_NOPROMPT = 1
PERL_CPAN_REPORTER_CONFIG = /var/tmp/cpansmoker-1023/2025020606/cpanreporter_000_config.ini
PERL_EXTUTILS_AUTOINSTALL = --defaultdeps
PERL_USE_UNSAFE_INC = 1
SHELL = /usr/local/bin/zsh
TERM = screen
TMPDIR = /var/tmp/cpansmoker-1023/2025020606
Perl special variables (and OS-specific diagnostics, for MSWin32):
$^X = /usr/perl5.18.4p/bin/perl
$UID/$EUID = 1023 / 1023
$GID = 1023 1023
$EGID = 1023 1023
Perl module toolchain versions installed:
Module Have
------------------- --------
CPAN 2.37
CPAN::Meta 2.150010
Cwd 3.75
ExtUtils::CBuilder 0.280236
ExtUtils::Command 7.70
ExtUtils::Install 2.22
ExtUtils::MakeMaker 7.70
ExtUtils::Manifest 1.75
ExtUtils::ParseXS 3.51
File::Spec 3.75
JSON 4.10
JSON::PP 4.16
Module::Build 0.4234
Module::Signature 0.89
Parse::CPAN::Meta 2.150010
Test2 1.302209
Test::Harness 3.50
Test::More 1.302209
YAML 1.30
YAML::Syck 1.34
version 0.9933
--
Summary of my perl5 (revision 5 version 18 subversion 4) configuration:
Platform:
osname=freebsd, osvers=10.1-release, archname=amd64-freebsd
uname='freebsd cvrsnica-freebsd-101.herceg.de 10.1-release freebsd 10.1-release #0 r274401: tue nov 11 21:02:49 utc 2014 root@releng1.nyi.freebsd.org:usrobjusrsrcsysgeneric amd64 '
config_args='-ds -e -Dprefix=/usr/perl5.18.4p'
hint=recommended, useposix=true, d_sigaction=define
useithreads=undef, usemultiplicity=undef
useperlio=define, d_sfio=undef, uselargefiles=define, usesocks=undef
use64bitint=define, use64bitall=define, uselongdouble=undef
usemymalloc=n, bincompat5005=undef
Compiler:
cc='cc', ccflags ='-DHAS_FPSETMASK -DHAS_FLOATINGPOINT_H -fno-strict-aliasing -pipe -fstack-protector -I/usr/local/include',
optimize='-O',
cppflags='-DHAS_FPSETMASK -DHAS_FLOATINGPOINT_H -fno-strict-aliasing -pipe -fstack-protector -I/usr/local/include'
ccversion='', gccversion='4.2.1 Compatible FreeBSD Clang 3.4.1 (tags/RELEASE_34/dot1-final 208032)', gccosandvers=''
intsize=4, longsize=8, ptrsize=8, doublesize=8, byteorder=12345678
d_longlong=define, longlongsize=8, d_longdbl=define, longdblsize=16
ivtype='long', ivsize=8, nvtype='double', nvsize=8, Off_t='off_t', lseeksize=8
alignbytes=8, prototype=define
Linker and Libraries:
ld='cc', ldflags ='-pthread -Wl,-E -fstack-protector -L/usr/local/lib'
libpth=/usr/lib /usr/local/lib
libs=-lgdbm -lm -lcrypt -lutil -lc
perllibs=-lm -lcrypt -lutil -lc
libc=, so=so, useshrplib=false, libperl=libperl.a
gnulibc_version=''
Dynamic Linking:
dlsrc=dl_dlopen.xs, dlext=so, d_dlsymun=undef, ccdlflags=' '
cccdlflags='-DPIC -fPIC', lddlflags='-shared -L/usr/local/lib -fstack-protector'
Characteristics of this binary (from libperl):
Compile-time options: HAS_TIMES PERLIO_LAYERS PERL_DONT_CREATE_GVSV
PERL_HASH_FUNC_ONE_AT_A_TIME_HARD PERL_MALLOC_WRAP
PERL_PRESERVE_IVUV PERL_SAWAMPERSAND USE_64_BIT_ALL
USE_64_BIT_INT USE_LARGE_FILES USE_LOCALE
USE_LOCALE_COLLATE USE_LOCALE_CTYPE
USE_LOCALE_NUMERIC USE_PERLIO USE_PERL_ATOF
Built under freebsd
Compiled at Apr 4 2015 13:03:15
%ENV:
PERL5LIB=""
PERL5OPT=""
PERL5_CPANPLUS_IS_RUNNING="18643"
PERL5_CPAN_IS_RUNNING="18643"
PERL5_CPAN_IS_RUNNING_IN_RECURSION="18460,18643"
PERLDOC="-MPod::Perldoc::ToTextOverstrike"
PERL_BATCH="yes"
PERL_CANARY_STABILITY_NOPROMPT="1"
PERL_CPAN_REPORTER_CONFIG="/var/tmp/cpansmoker-1023/2025020606/cpanreporter_000_config.ini"
PERL_EXTUTILS_AUTOINSTALL="--defaultdeps"
PERL_USE_UNSAFE_INC="1"
@INC:
/usr/perl5.18.4p/lib/site_perl/5.18.4/amd64-freebsd
/usr/perl5.18.4p/lib/site_perl/5.18.4
/usr/perl5.18.4p/lib/5.18.4/amd64-freebsd
/usr/perl5.18.4p/lib/5.18.4
.