DBIx-Class-Schema-Loader v0.07052 Perl 5 v5.34.1 darwin-2level

Status
Pass
From
Stanislaw Pusep
Dist
DBIx-Class-Schema-Loader v0.07052
Platform
Perl 5 v5.34.1 darwin-2level
Date
2024-01-23 10:52:21
ID
7c1b3d4e-b9dd-11ee-b3a5-cf8e270bf635
This distribution has been tested as part of the CPAN Testers
project, supporting the Perl programming language.  See
http://wiki.cpantesters.org/ for more information or email
questions to cpan-testers-discuss@perl.org


--
Dear VEESH,

This is a computer-generated report for DBIx-Class-Schema-Loader-0.07052
on perl 5.34.1, created by App::cpanminus::reporter 0.21 (1.7044).

Thank you for uploading your work to CPAN.  Congratulations!
All tests were successful.

Sections of this report:

    * Tester comments
    * Program output
    * Prerequisites
    * Environment and other context

------------------------------
TESTER COMMENTS
------------------------------

Additional comments from tester:

none provided

------------------------------
PROGRAM OUTPUT
------------------------------

Output from '':

Building and testing DBIx-Class-Schema-Loader-0.07052
cp lib/DBIx/Class/Schema/Loader/DBI/ADO/MS_Jet.pm blib/lib/DBIx/Class/Schema/Loader/DBI/ADO/MS_Jet.pm
cp lib/DBIx/Class/Schema/Loader/DBI/ODBC/ACCESS.pm blib/lib/DBIx/Class/Schema/Loader/DBI/ODBC/ACCESS.pm
cp lib/DBIx/Class/Schema/Loader/DBObject.pm blib/lib/DBIx/Class/Schema/Loader/DBObject.pm
cp lib/DBIx/Class/Schema/Loader/DBI/SQLite.pm blib/lib/DBIx/Class/Schema/Loader/DBI/SQLite.pm
cp lib/DBIx/Class/Schema/Loader/DBI/Oracle.pm blib/lib/DBIx/Class/Schema/Loader/DBI/Oracle.pm
cp lib/DBIx/Class/Schema/Loader/DBI/ODBC/Firebird.pm blib/lib/DBIx/Class/Schema/Loader/DBI/ODBC/Firebird.pm
cp lib/DBIx/Class/Schema/Loader/DBI/Informix.pm blib/lib/DBIx/Class/Schema/Loader/DBI/Informix.pm
cp lib/DBIx/Class/Schema/Loader/DBI/ODBC/SQL_Anywhere.pm blib/lib/DBIx/Class/Schema/Loader/DBI/ODBC/SQL_Anywhere.pm
cp lib/DBIx/Class/Schema/Loader/Table.pm blib/lib/DBIx/Class/Schema/Loader/Table.pm
cp lib/DBIx/Class/Schema/Loader/DBObject/Sybase.pm blib/lib/DBIx/Class/Schema/Loader/DBObject/Sybase.pm
cp lib/DBIx/Class/Schema/Loader/Optional/Dependencies.pm blib/lib/DBIx/Class/Schema/Loader/Optional/Dependencies.pm
cp lib/DBIx/Class/Schema/Loader/Table/Informix.pm blib/lib/DBIx/Class/Schema/Loader/Table/Informix.pm
cp lib/DBIx/Class/Schema/Loader/DBI/Sybase/Common.pm blib/lib/DBIx/Class/Schema/Loader/DBI/Sybase/Common.pm
cp lib/DBIx/Class/Schema/Loader.pm blib/lib/DBIx/Class/Schema/Loader.pm
cp lib/DBIx/Class/Schema/Loader/Utils.pm blib/lib/DBIx/Class/Schema/Loader/Utils.pm
cp lib/DBIx/Class/Schema/Loader/Optional/Dependencies.pod blib/lib/DBIx/Class/Schema/Loader/Optional/Dependencies.pod
cp lib/DBIx/Class/Schema/Loader/DBI/Component/QuotedDefault.pm blib/lib/DBIx/Class/Schema/Loader/DBI/Component/QuotedDefault.pm
cp lib/DBIx/Class/Schema/Loader/DBI/SQLAnywhere.pm blib/lib/DBIx/Class/Schema/Loader/DBI/SQLAnywhere.pm
cp lib/DBIx/Class/Schema/Loader/Table/Sybase.pm blib/lib/DBIx/Class/Schema/Loader/Table/Sybase.pm
cp lib/DBIx/Class/Schema/Loader/DBI/DB2.pm blib/lib/DBIx/Class/Schema/Loader/DBI/DB2.pm
cp lib/DBIx/Class/Schema/Loader/Column.pm blib/lib/DBIx/Class/Schema/Loader/Column.pm
cp lib/DBIx/Class/Schema/Loader/Base.pm blib/lib/DBIx/Class/Schema/Loader/Base.pm
cp lib/DBIx/Class/Schema/Loader/DBI/Writing.pm blib/lib/DBIx/Class/Schema/Loader/DBI/Writing.pm
cp lib/DBIx/Class/Schema/Loader/DBI/Sybase/Microsoft_SQL_Server.pm blib/lib/DBIx/Class/Schema/Loader/DBI/Sybase/Microsoft_SQL_Server.pm
cp lib/DBIx/Class/Schema/Loader/DBI/InterBase.pm blib/lib/DBIx/Class/Schema/Loader/DBI/InterBase.pm
cp lib/DBIx/Class/Schema/Loader/DBI/mysql.pm blib/lib/DBIx/Class/Schema/Loader/DBI/mysql.pm
cp lib/DBIx/Class/Schema/Loader/DBI/ODBC/Microsoft_SQL_Server.pm blib/lib/DBIx/Class/Schema/Loader/DBI/ODBC/Microsoft_SQL_Server.pm
cp lib/DBIx/Class/Schema/Loader/RelBuilder.pm blib/lib/DBIx/Class/Schema/Loader/RelBuilder.pm
cp lib/DBIx/Class/Schema/Loader/RelBuilder/Compat/v0_040.pm blib/lib/DBIx/Class/Schema/Loader/RelBuilder/Compat/v0_040.pm
cp lib/DBIx/Class/Schema/Loader/DBI/Pg.pm blib/lib/DBIx/Class/Schema/Loader/DBI/Pg.pm
cp lib/DBIx/Class/Schema/Loader/DBI/ODBC.pm blib/lib/DBIx/Class/Schema/Loader/DBI/ODBC.pm
cp lib/DBIx/Class/Schema/Loader/DBI.pm blib/lib/DBIx/Class/Schema/Loader/DBI.pm
cp lib/DBIx/Class/Schema/Loader/DBObject/Informix.pm blib/lib/DBIx/Class/Schema/Loader/DBObject/Informix.pm
cp lib/DBIx/Class/Schema/Loader/RelBuilder/Compat/v0_06.pm blib/lib/DBIx/Class/Schema/Loader/RelBuilder/Compat/v0_06.pm
cp lib/DBIx/Class/Schema/Loader/DBI/Firebird.pm blib/lib/DBIx/Class/Schema/Loader/DBI/Firebird.pm
cp lib/DBIx/Class/Schema/Loader/DBI/ADO/Microsoft_SQL_Server.pm blib/lib/DBIx/Class/Schema/Loader/DBI/ADO/Microsoft_SQL_Server.pm
cp lib/DBIx/Class/Schema/Loader/DBI/ADO.pm blib/lib/DBIx/Class/Schema/Loader/DBI/ADO.pm
cp lib/DBIx/Class/Schema/Loader/DBI/MSSQL.pm blib/lib/DBIx/Class/Schema/Loader/DBI/MSSQL.pm
cp lib/DBIx/Class/Schema/Loader/RelBuilder/Compat/v0_05.pm blib/lib/DBIx/Class/Schema/Loader/RelBuilder/Compat/v0_05.pm
cp lib/DBIx/Class/Schema/Loader/Manual/UpgradingFromV4.pod blib/lib/DBIx/Class/Schema/Loader/Manual/UpgradingFromV4.pod
cp lib/DBIx/Class/Schema/Loader/DBI/Sybase.pm blib/lib/DBIx/Class/Schema/Loader/DBI/Sybase.pm
cp lib/DBIx/Class/Schema/Loader/RelBuilder/Compat/v0_07.pm blib/lib/DBIx/Class/Schema/Loader/RelBuilder/Compat/v0_07.pm
cp script/dbicdump blib/script/dbicdump
"/Users/stan/perl5/perlbrew/perls/perl-5.34.1/bin/perl" -MExtUtils::MY -e 'MY->fixin(shift)' -- blib/script/dbicdump
Manifying 1 pod document
Manifying 41 pod documents
PERL_DL_NONLAZY=1 "/Users/stan/perl5/perlbrew/perls/perl-5.34.1/bin/perl" "-MExtUtils::Command::MM" "-MTest::Harness" "-e" "undef *Test::Harness::Switches; test_harness(0, 'blib/lib', 'blib/arch')" t/*.t t/*/*.t t/*/*/*.t
t/01use.t ............................... ok
t/10_01sqlite_common.t .................. ok
t/10_02mysql_common.t ................... skipped: requirements not satisfied: DBD::mysql as well as the following group(s) of environment variables: DBICTEST_MYSQL_DSN/..._USER/..._PASS
t/10_03pg_common.t ...................... skipped: requirements not satisfied: DBD::Pg~2.009002 as well as the following group(s) of environment variables: DBICTEST_PG_DSN/..._USER/..._PASS
t/10_04db2_common.t ..................... skipped: requirements not satisfied: DBD::DB2 as well as the following group(s) of environment variables: DBICTEST_DB2_DSN/..._USER/..._PASS
t/10_05ora_common.t ..................... skipped: requirements not satisfied: DBD::Oracle~1.24 Math::Base36~0.07 as well as the following group(s) of environment variables: DBICTEST_ORA_DSN/..._USER/..._PASS
t/10_06sybase_common.t .................. skipped: requirements not satisfied: DBD::Sybase as well as the following group(s) of environment variables: DBICTEST_SYBASE_DSN/..._USER/..._PASS
t/10_07mssql_common.t ................... skipped: You need to set the DBICTEST_MSSQL_DSN, _USER and _PASS and/or the DBICTEST_MSSQL_ODBC_DSN, _USER and _PASS environment variables
t/10_08sqlanywhere_common.t ............. skipped: You need to set the DBICTEST_SQLANYWHERE_DSN, _USER and _PASS and/or the DBICTEST_SQLANYWHERE_ODBC_DSN, _USER and _PASS environment variables
t/10_09firebird_common.t ................ skipped: You need to set the DBICTEST_FIREBIRD_DSN, _USER and _PASS and/or the DBICTEST_FIREBIRD_ODBC_DSN, _USER and _PASS and/or the DBICTEST_FIREBIRD_INTERBASE_DSN, _USER and _PASS environment variables
t/10_10informix_common.t ................ skipped: requirements not satisfied: DBD::Informix as well as the following group(s) of environment variables: DBICTEST_INFORMIX_DSN/..._USER/..._PASS
t/10_11msaccess_common.t ................ skipped: You need to set the DBICTEST_MSACCESS_ODBC_DSN, _USER and _PASS and/or the DBICTEST_MSACCESS_ADO_DSN, _USER and _PASS  environment variables
t/20invocations.t ....................... ok
t/21misc_fatal.t ........................ ok
t/22dump.t .............................. ok
t/23dumpmore.t .......................... ok
t/24loader_subclass.t ................... ok
t/25backcompat.t ........................ ok
t/26dump_use_moose.t .................... skipped: requirements not satisfied: MooseX::MarkAsMethods~0.13 (see DBIx::Class::Schema::Loader::Optional::Dependencies documentation for details)
t/27filter_generated.t .................. ok
t/30_01comments.t ....................... ok
t/30_02bad_comment_table.t .............. ok
t/30_03no_comment_table.t ............... ok
t/40overwrite_modifications.t ........... ok
t/45relationships.t ..................... ok
t/46relationships_multi_m2m.t ........... ok
t/50rt59849.t ........................... ok
t/60dbicdump_config.t ................... ok
t/65dbicdump_invocations.t .............. ok
t/70schema_base_dispatched.t ............ ok
t/80split_name.t ........................ ok
t/90bug_58_mro.t ........................ skipped: perl 5.8 required for this test
t/backcompat/0.04006/10sqlite_common.t .. skipped: requirements not satisfied: the following group(s) of environment variables: SCHEMA_LOADER_TESTS_BACKCOMPAT
t/backcompat/0.04006/11mysql_common.t ... skipped: requirements not satisfied: DBD::mysql as well as the following group(s) of environment variables: DBICTEST_MYSQL_DSN/..._USER/..._PASS and SCHEMA_LOADER_TESTS_BACKCOMPAT
t/backcompat/0.04006/12pg_common.t ...... skipped: requirements not satisfied: DBD::Pg~2.009002 as well as the following group(s) of environment variables: DBICTEST_PG_DSN/..._USER/..._PASS and SCHEMA_LOADER_TESTS_BACKCOMPAT
t/backcompat/0.04006/13db2_common.t ..... skipped: requirements not satisfied: DBD::DB2 as well as the following group(s) of environment variables: DBICTEST_DB2_DSN/..._USER/..._PASS and SCHEMA_LOADER_TESTS_BACKCOMPAT
t/backcompat/0.04006/14ora_common.t ..... skipped: requirements not satisfied: DBD::Oracle~1.24 Math::Base36~0.07 as well as the following group(s) of environment variables: DBICTEST_ORA_DSN/..._USER/..._PASS and SCHEMA_LOADER_TESTS_BACKCOMPAT
t/backcompat/0.04006/20invocations.t .... skipped: requirements not satisfied: the following group(s) of environment variables: SCHEMA_LOADER_TESTS_BACKCOMPAT
t/backcompat/0.04006/21misc_fatal.t ..... skipped: requirements not satisfied: the following group(s) of environment variables: SCHEMA_LOADER_TESTS_BACKCOMPAT
t/backcompat/0.04006/22dump.t ........... skipped: requirements not satisfied: the following group(s) of environment variables: SCHEMA_LOADER_TESTS_BACKCOMPAT
t/backcompat/0.04006/23dumpmore.t ....... skipped: requirements not satisfied: the following group(s) of environment variables: SCHEMA_LOADER_TESTS_BACKCOMPAT
All tests successful.

Test Summary Report
-------------------
t/10_01sqlite_common.t                (Wstat: 0 Tests: 283 Failed: 0)
  TODO passed:   283
Files=41, Tests=1339, 31 wallclock secs ( 0.18 usr  0.06 sys + 24.74 cusr  4.09 csys = 29.07 CPU)
Result: PASS

------------------------------
PREREQUISITES
------------------------------

Prerequisite modules loaded:

runtime:

    Module                      Need     Have    
    --------------------------- -------- --------
    Carp::Clan                  0        6.08    
    Class::Accessor::Grouped    0.10008  0.10014 
    Class::C3::Componentised    1.0008   1.001002
    Class::Inspector            1.27     1.36    
    Class::Unload               0.07     0.11    
    curry                       1.000000 2.000001
    Data::Dump                  1.06     1.25    
    DBIx::Class                 0.08127  0.082843
    Digest::MD5                 2.36     2.59    
    Exporter                    5.63     5.78    
    Hash::Merge                 0.12     0.302   
    Lingua::EN::Inflect::Number 1.1      1.12    
    Lingua::EN::Inflect::Phrase 0.15     0.20    
    Lingua::EN::Tagger          0.23     0.31    
    List::Util                  1.33     1.63    
    MRO::Compat                 0.09     0.15    
    namespace::clean            0.23     0.27    
    perl                        5.008001 5.034001
    Scope::Guard                0.20     0.21    
    String::CamelCase           0.04     0.04    
    String::ToIdentifier::EN    0.05     0.12    
    Sub::Util                   1.40     1.63    
    Try::Tiny                   0        0.31    

build:

    Module                      Need     Have    
    --------------------------- -------- --------
    ExtUtils::MakeMaker         0        7.70    

configure:

    Module                      Need     Have    
    --------------------------- -------- --------
    ExtUtils::MakeMaker         0        7.70    


------------------------------
ENVIRONMENT AND OTHER CONTEXT
------------------------------

Environment variables:

    LANG = en_US.UTF-8
    LC_ALL = en_US.UTF-8
    LDFLAGS = -L/usr/local/opt/curl/lib
    PATH = /Users/stan/perl5/perlbrew/bin:/Users/stan/perl5/perlbrew/perls/perl-5.34.1/bin:/Users/stan/perl5/perlbrew/bin:/Users/stan/perl5/perlbrew/perls/perl-5.38.2/bin:/usr/local/opt/mysql-client/bin:/usr/local/opt/curl/bin:/usr/local/bin:/usr/local/sbin:/usr/local/bin:/System/Cryptexes/App/usr/bin:/usr/bin:/bin:/usr/sbin:/sbin:/Applications/Little Snitch.app/Contents/Components:/opt/X11/bin:/var/run/com.apple.security.cryptexd/codex.system/bootstrap/usr/local/bin:/var/run/com.apple.security.cryptexd/codex.system/bootstrap/usr/bin:/var/run/com.apple.security.cryptexd/codex.system/bootstrap/usr/appleinternal/bin:/Users/stan/.vim/bin:/Users/stan/bin:/Users/stan/node_modules/.bin:/usr/local/sbin:/usr/local/opt/mysql-client/bin:/usr/local/opt/curl/bin:/Applications/kitty.app/Contents/MacOS
    PERL5LIB = 
    PERLBREW_HOME = /Users/stan/.perlbrew
    PERLBREW_LIB = 
    PERLBREW_MANPATH = /Users/stan/perl5/perlbrew/perls/perl-5.34.1/man
    PERLBREW_PATH = /Users/stan/perl5/perlbrew/bin:/Users/stan/perl5/perlbrew/perls/perl-5.34.1/bin
    PERLBREW_PERL = perl-5.34.1
    PERLBREW_ROOT = /Users/stan/perl5/perlbrew
    PERLBREW_SHELLRC_VERSION = 0.92
    PERLBREW_VERSION = 0.92
    PERL_LOCAL_LIB_ROOT = 
    PERL_MM_USE_DEFAULT = 1
    SHELL = /usr/local/bin/zsh
    TERM = screen-256color
    TMPDIR = /var/folders/tk/hx6fvpsj3yzbyd1k1br945mc0000gn/T/

Perl special variables (and OS-specific diagnostics, for MSWin32):

    EGID = 20 20 12 61 79 80 81 98 701 33 100 204 250 395 398 101 400
    EUID = 501
    EXECUTABLE_NAME = /Users/stan/perl5/perlbrew/perls/perl-5.34.1/bin/perl
    GID = 20 20 12 61 79 80 81 98 701 33 100 204 250 395 398 101 400
    UID = 501

Perl module toolchain versions installed:

    Module              Have    
    ------------------- --------
    CPAN                2.36    
    CPAN::Meta          2.150010
    Cwd                 3.80    
    ExtUtils::CBuilder  0.280236
    ExtUtils::Command   7.70    
    ExtUtils::Install   2.22    
    ExtUtils::MakeMaker 7.70    
    ExtUtils::Manifest  1.75    
    ExtUtils::ParseXS   3.51    
    File::Spec          3.80    
    JSON                4.10    
    JSON::PP            4.16    
    Module::Build       0.4234  
    Module::Signature   0.88    
    Parse::CPAN::Meta   2.150010
    Test::Harness       3.48    
    Test::More          1.302198
    YAML                1.31    
    YAML::Syck          n/a     
    version             0.9930  


--

Summary of my perl5 (revision 5 version 34 subversion 1) configuration:
   
  Platform:
    osname=darwin
    osvers=21.4.0
    archname=darwin-2level
    uname='darwin imac.fritz.box 21.4.0 darwin kernel version 21.4.0: fri mar 18 00:45:05 pdt 2022; root:xnu-8020.101.4~15release_x86_64 x86_64 '
    config_args='-de -Dprefix=/Users/stan/perl5/perlbrew/perls/perl-5.34.1 -Aeval:scriptdir=/Users/stan/perl5/perlbrew/perls/perl-5.34.1/bin'
    hint=recommended
    useposix=true
    d_sigaction=define
    useithreads=undef
    usemultiplicity=undef
    use64bitint=define
    use64bitall=define
    uselongdouble=undef
    usemymalloc=n
    default_inc_excludes_dot=define
  Compiler:
    cc='cc'
    ccflags ='-fno-common -DPERL_DARWIN -mmacosx-version-min=12.3 -fno-strict-aliasing -pipe -fstack-protector-strong -I/usr/local/include -DPERL_USE_SAFE_PUTENV'
    optimize='-O3'
    cppflags='-fno-common -DPERL_DARWIN -mmacosx-version-min=12.3 -fno-strict-aliasing -pipe -fstack-protector-strong -I/usr/local/include'
    ccversion=''
    gccversion='Apple LLVM 13.1.6 (clang-1316.0.21.2.3)'
    gccosandvers=''
    intsize=4
    longsize=8
    ptrsize=8
    doublesize=8
    byteorder=12345678
    doublekind=3
    d_longlong=define
    longlongsize=8
    d_longdbl=define
    longdblsize=16
    longdblkind=3
    ivtype='long'
    ivsize=8
    nvtype='double'
    nvsize=8
    Off_t='off_t'
    lseeksize=8
    alignbytes=8
    prototype=define
  Linker and Libraries:
    ld='cc'
    ldflags =' -mmacosx-version-min=12.3 -fstack-protector-strong -L/usr/local/lib'
    libpth=/usr/local/lib /Library/Developer/CommandLineTools/usr/lib/clang/13.1.6/lib /Library/Developer/CommandLineTools/SDKs/MacOSX12.3.sdk/usr/lib /Library/Developer/CommandLineTools/usr/lib /usr/lib
    libs=-lgdbm -ldb
    perllibs=
    libc=
    so=dylib
    useshrplib=false
    libperl=libperl.a
    gnulibc_version=''
  Dynamic Linking:
    dlsrc=dl_dlopen.xs
    dlext=bundle
    d_dlsymun=undef
    ccdlflags=' '
    cccdlflags=' '
    lddlflags=' -mmacosx-version-min=12.3 -bundle -undefined dynamic_lookup -L/usr/local/lib -fstack-protector-strong'


Characteristics of this binary (from libperl): 
  Compile-time options:
    HAS_TIMES
    PERLIO_LAYERS
    PERL_COPY_ON_WRITE
    PERL_DONT_CREATE_GVSV
    PERL_MALLOC_WRAP
    PERL_OP_PARENT
    PERL_PRESERVE_IVUV
    PERL_USE_SAFE_PUTENV
    USE_64_BIT_ALL
    USE_64_BIT_INT
    USE_LARGE_FILES
    USE_LOCALE
    USE_LOCALE_COLLATE
    USE_LOCALE_CTYPE
    USE_LOCALE_NUMERIC
    USE_LOCALE_TIME
    USE_PERLIO
    USE_PERL_ATOF
  Built under darwin
  Compiled at Apr 13 2022 19:32:10
  %ENV:
    PERL5LIB=""
    PERLBREW_HOME="/Users/stan/.perlbrew"
    PERLBREW_LIB=""
    PERLBREW_MANPATH="/Users/stan/perl5/perlbrew/perls/perl-5.34.1/man"
    PERLBREW_PATH="/Users/stan/perl5/perlbrew/bin:/Users/stan/perl5/perlbrew/perls/perl-5.34.1/bin"
    PERLBREW_PERL="perl-5.34.1"
    PERLBREW_ROOT="/Users/stan/perl5/perlbrew"
    PERLBREW_SHELLRC_VERSION="0.92"
    PERLBREW_VERSION="0.92"
    PERL_LOCAL_LIB_ROOT=""
    PERL_MM_USE_DEFAULT="1"
  @INC:
    /Users/stan/perl5/perlbrew/perls/perl-5.34.1/lib/site_perl/5.34.1/darwin-2level
    /Users/stan/perl5/perlbrew/perls/perl-5.34.1/lib/site_perl/5.34.1
    /Users/stan/perl5/perlbrew/perls/perl-5.34.1/lib/5.34.1/darwin-2level
    /Users/stan/perl5/perlbrew/perls/perl-5.34.1/lib/5.34.1