Report for HTML-Fraction-0.50

Back
From: metabase:user:30f4dfbe-2aae-11df-837a-5e0a49663a4f
Subject: PASS HTML-Fraction-0.50 v5.8.5 GNU/Linux
Date: 2012-01-20T21:12:39Z

This distribution has been tested as part of the CPAN Testers
project, supporting the Perl programming language.  See
http://wiki.cpantesters.org/ for more information or email
questions to cpan-testers-discuss@perl.org


--
Dear Mark Fowler,

This is a computer-generated report for HTML-Fraction-0.50
on perl 5.8.5, created by CPAN-Reporter-1.2003.

Thank you for uploading your work to CPAN.  Congratulations!
All tests were successful.

Sections of this report:

    * Tester comments
    * Program output
    * Prerequisites
    * Environment and other context

------------------------------
TESTER COMMENTS
------------------------------

Additional comments from tester:

this report is from an automated smoke testing program
and was not reviewed by a human for accuracy

------------------------------
PROGRAM OUTPUT
------------------------------

Output from './Build test':

t/pod.t ........... skipped: Test::Pod 1.14 required for testing POD: Can't locate Test/Pod.pm in @INC (@INC contains: /home/njh/.cpan/build/HTML-Fraction-0.50-dDyBSI/blib/lib /home/njh/.cpan/build/HTML-Fraction-0.50-dDyBSI/blib/arch /home/njh/perl5/perlbrew/perls/perl-5.8.5/lib/5.8.5/x86_64-linux /home/njh/perl5/perlbrew/perls/perl-5.8.5/lib/5.8.5 /home/njh/perl5/perlbrew/perls/perl-5.8.5/lib/site_perl/5.8.5/x86_64-linux /home/njh/perl5/perlbrew/perls/perl-5.8.5/lib/site_perl/5.8.5 /home/njh/perl5/perlbrew/perls/perl-5.8.5/lib/site_perl) at (eval 4) line 2.
t/pod_coverage.t .. skipped: Test::Pod::Coverage 1.04 required for testing POD coverage
t/simple.t ........ ok
All tests successful.
Files=3, Tests=133,  0 wallclock secs ( 0.02 usr  0.00 sys +  0.03 cusr  0.00 csys =  0.05 CPU)
Result: PASS

------------------------------
PREREQUISITES
------------------------------

Prerequisite modules loaded:

requires:

    Module              Need Have
    ------------------- ---- ----
    Test::More          0    0.98

configure_requires:

    Module              Need Have
    ------------------- ---- ----
    ExtUtils::MakeMaker 0    6.62


------------------------------
ENVIRONMENT AND OTHER CONTEXT
------------------------------

Environment variables:

    AUTOMATED_TESTING = 1
    LANG = en_GB.UTF-8
    LANGUAGE = en_GB:en
    PATH = /usr/bin:/bin
    PERL5LIB = 
    PERL5OPT = 
    PERL5_CPANPLUS_IS_RUNNING = 28126
    PERL5_CPAN_IS_RUNNING = 28126
    PERL5_MINISMOKEBOX = 0.54
    PERL_EXTUTILS_AUTOINSTALL = --defaultdeps
    PERL_MM_USE_DEFAULT = 1
    SHELL = /bin/sh

Perl special variables (and OS-specific diagnostics, for MSWin32):

    $^X = /home/njh/perl5/perlbrew/perls/perl-5.8.5/bin/perl
    $UID/$EUID = 1000 / 1000
    $GID = 1000 1000 112 108 46 44 30 29 25 24
    $EGID = 1000 1000 112 108 46 44 30 29 25 24

Perl module toolchain versions installed:

    Module              Have    
    ------------------- --------
    CPAN                1.9800  
    CPAN::Meta          2.113640
    Cwd                 3.33    
    ExtUtils::CBuilder  0.280202
    ExtUtils::Command   1.17    
    ExtUtils::Install   1.54    
    ExtUtils::MakeMaker 6.62    
    ExtUtils::Manifest  1.60    
    ExtUtils::ParseXS   3.11    
    File::Spec          3.33    
    JSON                n/a     
    JSON::PP            2.27200 
    Module::Build       0.3800  
    Module::Signature   n/a     
    Parse::CPAN::Meta   1.4401  
    Test::Harness       3.23    
    Test::More          0.98    
    YAML                n/a     
    YAML::Syck          n/a     
    version             0.95    


--

Summary of my perl5 (revision 5 version 8 subversion 5) configuration:
  Platform:
    osname=linux, osvers=3.1.0-1-amd64, archname=x86_64-linux
    uname='linux gateway 3.1.0-1-amd64 #1 smp tue jan 10 05:01:58 utc 2012 x86_64 gnulinux '
    config_args='-de -Dprefix=/home/njh/perl5/perlbrew/perls/perl-5.8.5 -D_FORTIFY_SOURCE=2 -Accflags=-O2'
    hint=recommended, useposix=true, d_sigaction=define
    usethreads=undef use5005threads=undef useithreads=undef usemultiplicity=undef
    useperlio=define d_sfio=undef uselargefiles=define usesocks=undef
    use64bitint=define use64bitall=define uselongdouble=undef
    usemymalloc=n, bincompat5005=undef
  Compiler:
    cc='cc', ccflags ='-O2 -fno-strict-aliasing -pipe -I/usr/local/include -D_LARGEFILE_SOURCE -D_FILE_OFFSET_BITS=64',
    optimize='-O2',
    cppflags='-O2 -fno-strict-aliasing -pipe -I/usr/local/include'
    ccversion='', gccversion='4.6.2', gccosandvers=''
    intsize=4, longsize=8, ptrsize=8, doublesize=8, byteorder=12345678
    d_longlong=define, longlongsize=8, d_longdbl=define, longdblsize=16
    ivtype='long', ivsize=8, nvtype='double', nvsize=8, Off_t='off_t', lseeksize=8
    alignbytes=8, prototype=define
  Linker and Libraries:
    ld='cc', ldflags =' -L/usr/local/lib'
    libpth=/usr/local/lib /lib/x86_64-linux-gnu /lib/../lib /usr/lib/x86_64-linux-gnu /usr/lib/../lib /lib /usr/lib
    libs=-lnsl -ldb -ldl -lm -lcrypt -lutil -lc
    perllibs=-lnsl -ldl -lm -lcrypt -lutil -lc
    libc=, so=so, useshrplib=false, libperl=libperl.a
    gnulibc_version='2.13'
  Dynamic Linking:
    dlsrc=dl_dlopen.xs, dlext=so, d_dlsymun=undef, ccdlflags='-Wl,-E'
    cccdlflags='-fpic', lddlflags='-shared -L/usr/local/lib'


Characteristics of this binary (from libperl): 
  Compile-time options: USE_64_BIT_INT USE_64_BIT_ALL USE_LARGE_FILES
  Built under linux
  Compiled at Jan 17 2012 07:47:03
  %ENV:
    PERL5LIB=""
    PERL5OPT=""
    PERL5_CPANPLUS_IS_RUNNING="28126"
    PERL5_CPAN_IS_RUNNING="28126"
    PERL5_MINISMOKEBOX="0.54"
    PERL_EXTUTILS_AUTOINSTALL="--defaultdeps"
    PERL_MM_USE_DEFAULT="1"
  @INC:
    /home/njh/perl5/perlbrew/perls/perl-5.8.5/lib/5.8.5/x86_64-linux
    /home/njh/perl5/perlbrew/perls/perl-5.8.5/lib/5.8.5
    /home/njh/perl5/perlbrew/perls/perl-5.8.5/lib/site_perl/5.8.5/x86_64-linux
    /home/njh/perl5/perlbrew/perls/perl-5.8.5/lib/site_perl/5.8.5
    /home/njh/perl5/perlbrew/perls/perl-5.8.5/lib/site_perl
    .