POE-Loop-Glib v0.038 Perl 5 v5.37.3 x86_64-linux-thread-multi-ld
- Status
- Pass
- From
- Andreas J. König (ANDK)
- Dist
-
POE-Loop-Glib v0.038
- Platform
- Perl 5 v5.37.3 x86_64-linux-thread-multi-ld
- Date
- 2022-09-10 07:02:08
- ID
- 7c3d29cc-30d6-11ed-a6aa-7a7be64e53e9
This distribution has been tested as part of the CPAN Testers
project, supporting the Perl programming language. See
http://wiki.cpantesters.org/ for more information or email
questions to cpan-testers-discuss@perl.org
--
Dear Apocalypse,
This is a computer-generated report for POE-Loop-Glib-0.038
on perl 5.37.3, created by CPAN-Reporter-1.2018.
Thank you for uploading your work to CPAN. Congratulations!
All tests were successful.
Sections of this report:
* Tester comments
* Program output
* Prerequisites
* Environment and other context
------------------------------
TESTER COMMENTS
------------------------------
Additional comments from tester:
this report is from an automated smoke testing program
and was not reviewed by a human for accuracy
------------------------------
PROGRAM OUTPUT
------------------------------
Output from '/usr/bin/make test':
/tmp/basesmoker-reloperl-KkV_/bin/perl Build --makefile_env_macros 1 test
t/1_load.t ............................. ok
t/apocalypse.t ......................... skipped: Test::Apocalypse required for validating the distribution
# Testing POE 1.370, POE::Test::Loops 1.360, Using Loop(POE::Loop::Glib), Perl 5.037003, /tmp/basesmoker-reloperl-KkV_/bin/perl on linux
t/glib/00_info.t ....................... ok
t/glib/all_errors.t .................... skipped: most of these should move into other test files
GLib-CRITICAL **: Source ID 4 was not found when attempting to remove it at /tmp/loop_over_bdir-74323-vwBm6n/POE-Loop-Glib-0.038-0/blib/lib/POE/Loop/Glib.pm line 53.
GLib-CRITICAL **: Source ID 10 was not found when attempting to remove it at /tmp/loop_over_bdir-74323-vwBm6n/POE-Loop-Glib-0.038-0/blib/lib/POE/Loop/Glib.pm line 53.
t/glib/comp_tcp.t ...................... ok
# You might see a 'disconnect' error during this test.
# It may be ignored.
GLib-CRITICAL **: Source ID 4 was not found when attempting to remove it at /tmp/loop_over_bdir-74323-vwBm6n/POE-Loop-Glib-0.038-0/blib/lib/POE/Loop/Glib.pm line 53.
GLib-CRITICAL **: Source ID 26 was not found when attempting to remove it at /tmp/loop_over_bdir-74323-vwBm6n/POE-Loop-Glib-0.038-0/blib/lib/POE/Loop/Glib.pm line 53.
GLib-CRITICAL **: Source ID 87 was not found when attempting to remove it at /tmp/loop_over_bdir-74323-vwBm6n/POE-Loop-Glib-0.038-0/blib/lib/POE/Loop/Glib.pm line 53.
GLib-CRITICAL **: Source ID 94 was not found when attempting to remove it at /tmp/loop_over_bdir-74323-vwBm6n/POE-Loop-Glib-0.038-0/blib/lib/POE/Loop/Glib.pm line 53.
GLib-CRITICAL **: Source ID 96 was not found when attempting to remove it at /tmp/loop_over_bdir-74323-vwBm6n/POE-Loop-Glib-0.038-0/blib/lib/POE/Loop/Glib.pm line 53.
GLib-CRITICAL **: Source ID 99 was not found when attempting to remove it at /tmp/loop_over_bdir-74323-vwBm6n/POE-Loop-Glib-0.038-0/blib/lib/POE/Loop/Glib.pm line 53.
GLib-CRITICAL **: Source ID 110 was not found when attempting to remove it at /tmp/loop_over_bdir-74323-vwBm6n/POE-Loop-Glib-0.038-0/blib/lib/POE/Loop/Glib.pm line 53.
GLib-CRITICAL **: Source ID 115 was not found when attempting to remove it at /tmp/loop_over_bdir-74323-vwBm6n/POE-Loop-Glib-0.038-0/blib/lib/POE/Loop/Glib.pm line 53.
GLib-CRITICAL **: Source ID 119 was not found when attempting to remove it at /tmp/loop_over_bdir-74323-vwBm6n/POE-Loop-Glib-0.038-0/blib/lib/POE/Loop/Glib.pm line 53.
GLib-CRITICAL **: Source ID 127 was not found when attempting to remove it at /tmp/loop_over_bdir-74323-vwBm6n/POE-Loop-Glib-0.038-0/blib/lib/POE/Loop/Glib.pm line 53.
GLib-CRITICAL **: Source ID 129 was not found when attempting to remove it at /tmp/loop_over_bdir-74323-vwBm6n/POE-Loop-Glib-0.038-0/blib/lib/POE/Loop/Glib.pm line 53.
GLib-CRITICAL **: Source ID 131 was not found when attempting to remove it at /tmp/loop_over_bdir-74323-vwBm6n/POE-Loop-Glib-0.038-0/blib/lib/POE/Loop/Glib.pm line 53.
GLib-CRITICAL **: Source ID 135 was not found when attempting to remove it at /tmp/loop_over_bdir-74323-vwBm6n/POE-Loop-Glib-0.038-0/blib/lib/POE/Loop/Glib.pm line 53.
GLib-CRITICAL **: Source ID 136 was not found when attempting to remove it at /tmp/loop_over_bdir-74323-vwBm6n/POE-Loop-Glib-0.038-0/blib/lib/POE/Loop/Glib.pm line 53.
GLib-CRITICAL **: Source ID 140 was not found when attempting to remove it at /tmp/loop_over_bdir-74323-vwBm6n/POE-Loop-Glib-0.038-0/blib/lib/POE/Loop/Glib.pm line 53.
GLib-CRITICAL **: Source ID 142 was not found when attempting to remove it at /tmp/loop_over_bdir-74323-vwBm6n/POE-Loop-Glib-0.038-0/blib/lib/POE/Loop/Glib.pm line 53.
GLib-CRITICAL **: Source ID 143 was not found when attempting to remove it at /tmp/loop_over_bdir-74323-vwBm6n/POE-Loop-Glib-0.038-0/blib/lib/POE/Loop/Glib.pm line 53.
GLib-CRITICAL **: Source ID 147 was not found when attempting to remove it at /tmp/loop_over_bdir-74323-vwBm6n/POE-Loop-Glib-0.038-0/blib/lib/POE/Loop/Glib.pm line 53.
GLib-CRITICAL **: Source ID 149 was not found when attempting to remove it at /tmp/loop_over_bdir-74323-vwBm6n/POE-Loop-Glib-0.038-0/blib/lib/POE/Loop/Glib.pm line 53.
GLib-CRITICAL **: Source ID 150 was not found when attempting to remove it at /tmp/loop_over_bdir-74323-vwBm6n/POE-Loop-Glib-0.038-0/blib/lib/POE/Loop/Glib.pm line 53.
GLib-CRITICAL **: Source ID 154 was not found when attempting to remove it at /tmp/loop_over_bdir-74323-vwBm6n/POE-Loop-Glib-0.038-0/blib/lib/POE/Loop/Glib.pm line 53.
GLib-CRITICAL **: Source ID 156 was not found when attempting to remove it at /tmp/loop_over_bdir-74323-vwBm6n/POE-Loop-Glib-0.038-0/blib/lib/POE/Loop/Glib.pm line 53.
GLib-CRITICAL **: Source ID 157 was not found when attempting to remove it at /tmp/loop_over_bdir-74323-vwBm6n/POE-Loop-Glib-0.038-0/blib/lib/POE/Loop/Glib.pm line 53.
GLib-CRITICAL **: Source ID 161 was not found when attempting to remove it at /tmp/loop_over_bdir-74323-vwBm6n/POE-Loop-Glib-0.038-0/blib/lib/POE/Loop/Glib.pm line 53.
GLib-CRITICAL **: Source ID 163 was not found when attempting to remove it at /tmp/loop_over_bdir-74323-vwBm6n/POE-Loop-Glib-0.038-0/blib/lib/POE/Loop/Glib.pm line 53.
GLib-CRITICAL **: Source ID 164 was not found when attempting to remove it at /tmp/loop_over_bdir-74323-vwBm6n/POE-Loop-Glib-0.038-0/blib/lib/POE/Loop/Glib.pm line 53.
GLib-CRITICAL **: Source ID 168 was not found when attempting to remove it at /tmp/loop_over_bdir-74323-vwBm6n/POE-Loop-Glib-0.038-0/blib/lib/POE/Loop/Glib.pm line 53.
GLib-CRITICAL **: Source ID 171 was not found when attempting to remove it at /tmp/loop_over_bdir-74323-vwBm6n/POE-Loop-Glib-0.038-0/blib/lib/POE/Loop/Glib.pm line 53.
t/glib/comp_tcp_concurrent.t ........... ok
t/glib/connect_errors.t ................ ok
t/glib/k_alarms.t ...................... ok
t/glib/k_aliases.t ..................... ok
t/glib/k_detach.t ...................... ok
t/glib/k_run_returns.t ................. ok
GLib-CRITICAL **: Source ID 6 was not found when attempting to remove it at /tmp/loop_over_bdir-74323-vwBm6n/POE-Loop-Glib-0.038-0/blib/lib/POE/Loop/Glib.pm line 53.
GLib-CRITICAL **: Source ID 33 was not found when attempting to remove it at /tmp/loop_over_bdir-74323-vwBm6n/POE-Loop-Glib-0.038-0/blib/lib/POE/Loop/Glib.pm line 53.
GLib-CRITICAL **: Source ID 49 was not found when attempting to remove it at /tmp/loop_over_bdir-74323-vwBm6n/POE-Loop-Glib-0.038-0/blib/lib/POE/Loop/Glib.pm line 53.
GLib-CRITICAL **: Source ID 65 was not found when attempting to remove it at /tmp/loop_over_bdir-74323-vwBm6n/POE-Loop-Glib-0.038-0/blib/lib/POE/Loop/Glib.pm line 53.
GLib-CRITICAL **: Source ID 81 was not found when attempting to remove it at /tmp/loop_over_bdir-74323-vwBm6n/POE-Loop-Glib-0.038-0/blib/lib/POE/Loop/Glib.pm line 53.
t/glib/k_selects.t ..................... ok
t/glib/k_sig_child.t ................... ok
t/glib/k_signals.t ..................... ok
GLib-CRITICAL **: Source ID 12 was not found when attempting to remove it at /tmp/loop_over_bdir-74323-vwBm6n/POE-Loop-Glib-0.038-0/blib/lib/POE/Loop/Glib.pm line 53.
GLib-CRITICAL **: Source ID 23 was not found when attempting to remove it at /tmp/loop_over_bdir-74323-vwBm6n/POE-Loop-Glib-0.038-0/blib/lib/POE/Loop/Glib.pm line 53.
GLib-CRITICAL **: Source ID 34 was not found when attempting to remove it at /tmp/loop_over_bdir-74323-vwBm6n/POE-Loop-Glib-0.038-0/blib/lib/POE/Loop/Glib.pm line 53.
GLib-CRITICAL **: Source ID 45 was not found when attempting to remove it at /tmp/loop_over_bdir-74323-vwBm6n/POE-Loop-Glib-0.038-0/blib/lib/POE/Loop/Glib.pm line 53.
GLib-CRITICAL **: Source ID 56 was not found when attempting to remove it at /tmp/loop_over_bdir-74323-vwBm6n/POE-Loop-Glib-0.038-0/blib/lib/POE/Loop/Glib.pm line 53.
GLib-CRITICAL **: Source ID 67 was not found when attempting to remove it at /tmp/loop_over_bdir-74323-vwBm6n/POE-Loop-Glib-0.038-0/blib/lib/POE/Loop/Glib.pm line 53.
GLib-CRITICAL **: Source ID 78 was not found when attempting to remove it at /tmp/loop_over_bdir-74323-vwBm6n/POE-Loop-Glib-0.038-0/blib/lib/POE/Loop/Glib.pm line 53.
t/glib/k_signals_rerun.t ............... ok
t/glib/sbk_signal_init.t ............... ok
t/glib/ses_nfa.t ....................... ok
# This test generates some STDERR during trace testing.
=== 1422555 === 23 -> _start (from /home/sand/src/perl/repoperls/installed-perls/host/k93focal/v5.37.2-224-g29b290ccaa/e463/lib/site_perl/5.37.3/POE/Kernel.pm at 1498)
=== 1422555 === 23 -> woot (from /home/sand/src/perl/repoperls/installed-perls/host/k93focal/v5.37.2-224-g29b290ccaa/e463/lib/site_perl/5.37.3/POE/Test/Loops/ses_session.pm at 691)
=== 1422555 === 23 -> narf (from /home/sand/src/perl/repoperls/installed-perls/host/k93focal/v5.37.2-224-g29b290ccaa/e463/lib/site_perl/5.37.3/POE/Test/Loops/ses_session.pm at 692)
=== 1422555 === 23 -> _stop (from /home/sand/src/perl/repoperls/installed-perls/host/k93focal/v5.37.2-224-g29b290ccaa/e463/lib/site_perl/5.37.3/POE/Resource/Sessions.pm at 571)
t/glib/ses_session.t ................... ok
t/glib/wheel_accept.t .................. ok
t/glib/wheel_curses.t .................. skipped: Need help with Curses functions blocking under ptys
t/glib/wheel_readline.t ................ ok
GLib-CRITICAL **: Source ID 17 was not found when attempting to remove it at /tmp/loop_over_bdir-74323-vwBm6n/POE-Loop-Glib-0.038-0/blib/lib/POE/Loop/Glib.pm line 53.
t/glib/wheel_readwrite.t ............... ok
t/glib/wheel_run.t ..................... ok
GLib-CRITICAL **: Source ID 3 was not found when attempting to remove it at /tmp/loop_over_bdir-74323-vwBm6n/POE-Loop-Glib-0.038-0/blib/lib/POE/Loop/Glib.pm line 53.
t/glib/wheel_run_size.t ................ ok
t/glib/wheel_sf_ipv6.t ................. skipped: Socket::GetAddrInfo is needed for IPv6 tests
GLib-CRITICAL **: Source ID 4 was not found when attempting to remove it at /tmp/loop_over_bdir-74323-vwBm6n/POE-Loop-Glib-0.038-0/blib/lib/POE/Loop/Glib.pm line 53.
t/glib/wheel_sf_tcp.t .................. ok
t/glib/wheel_sf_udp.t .................. ok
GLib-CRITICAL **: Source ID 4 was not found when attempting to remove it at /tmp/loop_over_bdir-74323-vwBm6n/POE-Loop-Glib-0.038-0/blib/lib/POE/Loop/Glib.pm line 53.
t/glib/wheel_sf_unix.t ................. ok
t/glib/wheel_tail.t .................... ok
t/glib/z_kogman_sig_order.t ............ ok
t/glib/z_leolo_wheel_run.t ............. ok
# Using '/bin/true' as our thing to run under system()
t/glib/z_merijn_sigchld_system.t ....... ok
GLib-CRITICAL **: Source ID 6 was not found when attempting to remove it at /tmp/loop_over_bdir-74323-vwBm6n/POE-Loop-Glib-0.038-0/blib/lib/POE/Loop/Glib.pm line 53.
GLib-CRITICAL **: Source ID 17 was not found when attempting to remove it at /tmp/loop_over_bdir-74323-vwBm6n/POE-Loop-Glib-0.038-0/blib/lib/POE/Loop/Glib.pm line 53.
t/glib/z_rt39872_sigchld.t ............. ok
# Parent 1422595 waiting 3sec for slow systems to settle.
# sending sigusr1
# sent sigusr1
1422596: GLib-CRITICAL **: Source ID 5 was not found when attempting to remove it at /tmp/loop_over_bdir-74323-vwBm6n/POE-Loop-Glib-0.038-0/blib/lib/POE/Loop/Glib.pm line 53.
1422595: GLib-CRITICAL **: Source ID 8 was not found when attempting to remove it at /tmp/loop_over_bdir-74323-vwBm6n/POE-Loop-Glib-0.038-0/blib/lib/POE/Loop/Glib.pm line 53.
1422597: GLib-CRITICAL **: Source ID 5 was not found when attempting to remove it at /tmp/loop_over_bdir-74323-vwBm6n/POE-Loop-Glib-0.038-0/blib/lib/POE/Loop/Glib.pm line 53.
1422595: GLib-CRITICAL **: Source ID 13 was not found when attempting to remove it at /tmp/loop_over_bdir-74323-vwBm6n/POE-Loop-Glib-0.038-0/blib/lib/POE/Loop/Glib.pm line 53.
t/glib/z_rt39872_sigchld_stop.t ........ ok
GLib-CRITICAL **: Source ID 14 was not found when attempting to remove it at /tmp/loop_over_bdir-74323-vwBm6n/POE-Loop-Glib-0.038-0/blib/lib/POE/Loop/Glib.pm line 53.
GLib-CRITICAL **: Source ID 34 was not found when attempting to remove it at /tmp/loop_over_bdir-74323-vwBm6n/POE-Loop-Glib-0.038-0/blib/lib/POE/Loop/Glib.pm line 53.
t/glib/z_rt53302_fh_watchers.t ......... ok
t/glib/z_rt54319_bazerka_followtail.t .. ok
t/glib/z_steinert_signal_integrity.t ... ok
All tests successful.
Files=37, Tests=491, 32 wallclock secs ( 0.17 usr 0.37 sys + 6.44 cusr 1.39 csys = 8.37 CPU)
Result: PASS
------------------------------
PREREQUISITES
------------------------------
Prerequisite modules loaded:
requires:
Module Need Have
---------------- ----- --------
Glib 1.222 1.3293
perl 5.006 5.037003
POE 1.288 1.370
configure_requires:
Module Need Have
---------------- ----- --------
Module::Build 0.36 0.4231
POE::Test::Loops 1.034 1.360
opt_requires:
Module Need Have
---------------- ----- --------
IO::Pty 0 1.16
Socket6 0 0.29
! Term::Readkey 0 n/a
! Win32::Console 0 n/a
------------------------------
ENVIRONMENT AND OTHER CONTEXT
------------------------------
Environment variables:
AUTOMATED_TESTING = 1
LANG = en_US.UTF-8
PATH = /home/sand/bin:/usr/local/bin:/usr/local/sbin:/usr/sbin:/usr/bin:/sbin:/bin:/usr/games:/usr/local/games:/snap/bin:/usr/local/perl/bin:/usr/X11/bin
PERL = /tmp/basesmoker-reloperl-KkV_/bin/perl
PERL5LIB = /tmp/loop_over_bdir-74323-vwBm6n/triceps-2.1.0-0/blib/arch:/tmp/loop_over_bdir-74323-vwBm6n/triceps-2.1.0-0/blib/lib:/tmp/loop_over_bdir-74323-vwBm6n/Lingua-BioYaTeA-0.11-0/blib/arch:/tmp/loop_over_bdir-74323-vwBm6n/Lingua-BioYaTeA-0.11-0/blib/lib:/tmp/loop_over_bdir-74323-vwBm6n/Lingua-YaTeA-0.626-0/blib/arch:/tmp/loop_over_bdir-74323-vwBm6n/Lingua-YaTeA-0.626-0/blib/lib:/tmp/loop_over_bdir-74323-vwBm6n/Alien-SNMP-MIBDEV-2.020000-0/blib/arch:/tmp/loop_over_bdir-74323-vwBm6n/Alien-SNMP-MIBDEV-2.020000-0/blib/lib:/tmp/loop_over_bdir-74323-vwBm6n/downsexta-0/blib/arch:/tmp/loop_over_bdir-74323-vwBm6n/downsexta-0/blib/lib:/tmp/loop_over_bdir-74323-vwBm6n/Devel-Required-0.16-0/blib/arch:/tmp/loop_over_bdir-74323-vwBm6n/Devel-Required-0.16-0/blib/lib
PERL5OPT =
PERL5_CPANPLUS_IS_RUNNING = 74331
PERL5_CPAN_IS_RUNNING = 74331
PERL_CANARY_STABILITY_NOPROMPT = 1
PERL_MM_USE_DEFAULT = 1
PERL_USE_UNSAFE_INC = 1
SHELL = /usr/bin/zsh
TERM = screen
Perl special variables (and OS-specific diagnostics, for MSWin32):
$^X = /tmp/basesmoker-reloperl-KkV_/bin/perl
$UID/$EUID = 1005 / 1005
$GID = 1005 1005
$EGID = 1005 1005
Perl module toolchain versions installed:
Module Have
------------------- --------
CPAN 2.34
CPAN::Meta 2.150010
Cwd 3.86
ExtUtils::CBuilder 0.280237
ExtUtils::Command 7.64
ExtUtils::Install 2.20
ExtUtils::MakeMaker 7.64
ExtUtils::Manifest 1.73
ExtUtils::ParseXS 3.45
File::Spec 3.86
JSON 4.09
JSON::PP 4.11
Module::Build 0.4231
Module::Signature 0.88
Parse::CPAN::Meta 2.150010
Test::Harness 3.44
Test::More 1.302191
YAML 1.30
YAML::Syck 1.34
version 0.9929
--
Summary of my perl5 (revision 5 version 37 subversion 3) configuration:
Commit id: 29b290ccaa79f40de7d941c9a79810119f5c6363
Platform:
osname=linux
osvers=5.4.0-125-generic
archname=x86_64-linux-thread-multi-ld
uname='linux k93focal 5.4.0-125-generic #141-ubuntu smp wed aug 10 13:42:03 utc 2022 x86_64 x86_64 x86_64 gnulinux '
config_args='-Dprefix=/home/sand/src/perl/repoperls/installed-perls/host/k93focal/v5.37.2-224-g29b290ccaa/e463 -Dmyhostname=k93focal -Dinstallusrbinperl=n -Uversiononly -Dusedevel -des -Ui_db -Dlibswanted=cl pthread socket inet nsl gdbm dbm malloc dl ld sun m crypt sec util c cposix posix ucb BSD gdbm_compat -Duseithreads -Duselongdouble -DEBUGGING=both'
hint=recommended
useposix=true
d_sigaction=define
useithreads=define
usemultiplicity=define
use64bitint=define
use64bitall=define
uselongdouble=define
usemymalloc=n
default_inc_excludes_dot=define
Compiler:
cc='cc'
ccflags ='-D_REENTRANT -D_GNU_SOURCE -fwrapv -DDEBUGGING -fno-strict-aliasing -pipe -fstack-protector-strong -I/usr/local/include -D_LARGEFILE_SOURCE -D_FILE_OFFSET_BITS=64'
optimize='-O2 -g'
cppflags='-D_REENTRANT -D_GNU_SOURCE -fwrapv -DDEBUGGING -fno-strict-aliasing -pipe -fstack-protector-strong -I/usr/local/include'
ccversion=''
gccversion='9.4.0'
gccosandvers=''
intsize=4
longsize=8
ptrsize=8
doublesize=8
byteorder=12345678
doublekind=3
d_longlong=define
longlongsize=8
d_longdbl=define
longdblsize=16
longdblkind=3
ivtype='long'
ivsize=8
nvtype='long double'
nvsize=16
Off_t='off_t'
lseeksize=8
alignbytes=16
prototype=define
Linker and Libraries:
ld='cc'
ldflags =' -fstack-protector-strong -L/usr/local/lib'
libpth=/usr/local/lib /usr/lib/x86_64-linux-gnu /usr/lib /usr/lib64
libs=-lpthread -lnsl -ldl -lm -lcrypt -lutil -lc
perllibs=-lpthread -lnsl -ldl -lm -lcrypt -lutil -lc
libc=libc-2.31.so
so=so
useshrplib=false
libperl=libperl.a
gnulibc_version='2.31'
Dynamic Linking:
dlsrc=dl_dlopen.xs
dlext=so
d_dlsymun=undef
ccdlflags='-Wl,-E'
cccdlflags='-fPIC'
lddlflags='-shared -O2 -g -L/usr/local/lib -fstack-protector-strong'
Characteristics of this binary (from libperl):
Compile-time options:
DEBUGGING
HAS_TIMES
MULTIPLICITY
PERLIO_LAYERS
PERL_COPY_ON_WRITE
PERL_DONT_CREATE_GVSV
PERL_HASH_FUNC_SIPHASH13
PERL_HASH_USE_SBOX32
PERL_MALLOC_WRAP
PERL_OP_PARENT
PERL_PRESERVE_IVUV
PERL_TRACK_MEMPOOL
PERL_USE_DEVEL
PERL_USE_SAFE_PUTENV
USE_64_BIT_ALL
USE_64_BIT_INT
USE_ITHREADS
USE_LARGE_FILES
USE_LOCALE
USE_LOCALE_COLLATE
USE_LOCALE_CTYPE
USE_LOCALE_NUMERIC
USE_LOCALE_TIME
USE_LONG_DOUBLE
USE_PERLIO
USE_PERL_ATOF
USE_REENTRANT_API
USE_THREAD_SAFE_LOCALE
Built under linux
Compiled at Sep 6 2022 10:14:49
%ENV:
PERL="/tmp/basesmoker-reloperl-KkV_/bin/perl"
PERL5LIB="/tmp/loop_over_bdir-74323-vwBm6n/triceps-2.1.0-0/blib/arch:/tmp/loop_over_bdir-74323-vwBm6n/triceps-2.1.0-0/blib/lib:/tmp/loop_over_bdir-74323-vwBm6n/Lingua-BioYaTeA-0.11-0/blib/arch:/tmp/loop_over_bdir-74323-vwBm6n/Lingua-BioYaTeA-0.11-0/blib/lib:/tmp/loop_over_bdir-74323-vwBm6n/Lingua-YaTeA-0.626-0/blib/arch:/tmp/loop_over_bdir-74323-vwBm6n/Lingua-YaTeA-0.626-0/blib/lib:/tmp/loop_over_bdir-74323-vwBm6n/Alien-SNMP-MIBDEV-2.020000-0/blib/arch:/tmp/loop_over_bdir-74323-vwBm6n/Alien-SNMP-MIBDEV-2.020000-0/blib/lib:/tmp/loop_over_bdir-74323-vwBm6n/downsexta-0/blib/arch:/tmp/loop_over_bdir-74323-vwBm6n/downsexta-0/blib/lib:/tmp/loop_over_bdir-74323-vwBm6n/Devel-Required-0.16-0/blib/arch:/tmp/loop_over_bdir-74323-vwBm6n/Devel-Required-0.16-0/blib/lib"
PERL5OPT=""
PERL5_CPANPLUS_IS_RUNNING="74331"
PERL5_CPAN_IS_RUNNING="74331"
PERL_CANARY_STABILITY_NOPROMPT="1"
PERL_MM_USE_DEFAULT="1"
PERL_USE_UNSAFE_INC="1"
@INC:
/tmp/loop_over_bdir-74323-vwBm6n/triceps-2.1.0-0/blib/arch
/tmp/loop_over_bdir-74323-vwBm6n/triceps-2.1.0-0/blib/lib
/tmp/loop_over_bdir-74323-vwBm6n/Lingua-BioYaTeA-0.11-0/blib/arch
/tmp/loop_over_bdir-74323-vwBm6n/Lingua-BioYaTeA-0.11-0/blib/lib
/tmp/loop_over_bdir-74323-vwBm6n/Lingua-YaTeA-0.626-0/blib/arch
/tmp/loop_over_bdir-74323-vwBm6n/Lingua-YaTeA-0.626-0/blib/lib
/tmp/loop_over_bdir-74323-vwBm6n/Alien-SNMP-MIBDEV-2.020000-0/blib/arch
/tmp/loop_over_bdir-74323-vwBm6n/Alien-SNMP-MIBDEV-2.020000-0/blib/lib
/tmp/loop_over_bdir-74323-vwBm6n/downsexta-0/blib/arch
/tmp/loop_over_bdir-74323-vwBm6n/downsexta-0/blib/lib
/tmp/loop_over_bdir-74323-vwBm6n/Devel-Required-0.16-0/blib/arch
/tmp/loop_over_bdir-74323-vwBm6n/Devel-Required-0.16-0/blib/lib
/home/sand/src/perl/repoperls/installed-perls/host/k93focal/v5.37.2-224-g29b290ccaa/e463/lib/site_perl/5.37.3/x86_64-linux-thread-multi-ld
/home/sand/src/perl/repoperls/installed-perls/host/k93focal/v5.37.2-224-g29b290ccaa/e463/lib/site_perl/5.37.3
/home/sand/src/perl/repoperls/installed-perls/host/k93focal/v5.37.2-224-g29b290ccaa/e463/lib/5.37.3/x86_64-linux-thread-multi-ld
/home/sand/src/perl/repoperls/installed-perls/host/k93focal/v5.37.2-224-g29b290ccaa/e463/lib/5.37.3
.