Report for Net-SSH-Perl-2.09.01

Back
From: metabase:user:31d414ea-2aae-11df-837a-5e0a49663a4f
Subject: PASS Net-SSH-Perl-2.09.01 v5.12.5 GNU/Linux
Date: 2017-03-16T14:33:13Z

This distribution has been tested as part of the CPAN Testers
project, supporting the Perl programming language.  See
http://wiki.cpantesters.org/ for more information or email
questions to cpan-testers-discuss@perl.org


--
Dear Steffen Schwigon,

This is a computer-generated report for Net-SSH-Perl-2.09.01
on perl 5.12.5, created by CPAN-Reporter-1.2018.

Thank you for uploading your work to CPAN.  Congratulations!
All tests were successful.

Sections of this report:

    * Tester comments
    * Program output
    * Prerequisites
    * Environment and other context

------------------------------
TESTER COMMENTS
------------------------------

Additional comments from tester:

this report is from an automated smoke testing program
and was not reviewed by a human for accuracy

------------------------------
PROGRAM OUTPUT
------------------------------

Output from '/usr/bin/make test':

"/home/david/cpantesting/perl-5.12.5/bin/perl" -MExtUtils::Command::MM -e 'cp_nonempty' -- Perl.bs blib/arch/auto/Net/SSH/Perl/Perl.bs 644
PERL_DL_NONLAZY=1 "/home/david/cpantesting/perl-5.12.5/bin/perl" "-MExtUtils::Command::MM" "-MTest::Harness" "-e" "undef *Test::Harness::Switches; test_harness(0, 'blib/lib', 'blib/arch')" t/*.t
t/00-signature.t ... skipped: Set the environment variable TEST_SIGNATURE to enable this test
t/01-compile.t ..... ok
t/02-buffer.t ...... ok
t/03-packet.t ...... skipped: Cannot test protocol 1 packets without Math::GMP
t/04-config.t ...... ok
t/05-cipher.t ...... ok
t/06-auth.t ........ skipped: Test not enabled yet
t/06-circular.t .... ok
t/07-ed25519.t ..... ok
t/99-perlcritic.t .. skipped: Set the environment variable TEST_CRITIC to enable this test
t/99-pod.t ......... skipped: Test not ready yet.
t/99-spellcheck.t .. skipped: Set the environment variable TEST_SPELL to enable this test
t/99-yaml.t ........ skipped: Set the environment variable TEST_AUTHOR to enable this test
All tests successful.
Files=13, Tests=147,  2 wallclock secs ( 0.05 usr  0.02 sys +  0.57 cusr  0.09 csys =  0.73 CPU)
Result: PASS

------------------------------
PREREQUISITES
------------------------------

Prerequisite modules loaded:

requires:

    Module               Need  Have   
    -------------------- ----- -------
    Crypt::Curve25519    0.05  0.05   
    Crypt::IDEA          0     1.10   
    CryptX               0.032 0.044  
    Digest::BubbleBabble 0.01  0.02   
    Digest::MD5          0     2.39   
    File::HomeDir        0     1.00   
    File::Spec           0     3.31_01
    IO::Socket           0     1.31   
  ! Math::GMP            1.04  n/a    
    Scalar::Util         0     1.47   
    String::CRC32        1.2   1.5    

build_requires:

    Module               Need  Have   
    -------------------- ----- -------
    ExtUtils::MakeMaker  0     7.24   


------------------------------
ENVIRONMENT AND OTHER CONTEXT
------------------------------

Environment variables:

    AUTOMATED_TESTING = 1
    NONINTERACTIVE_TESTING = 1
    PATH = /usr/local/bin:/usr/bin:/bin:/usr/local/games:/usr/games
    PERL = 5.12.5
    PERL5LIB = 
    PERL5OPT = 
    PERL5_CPANPLUS_IS_RUNNING = 25021
    PERL5_CPAN_IS_RUNNING = 25021
    PERLVER = 5.12.5
    PERL_INLINE_DIRECTORY = /home/david/.Inline-5.12.5
    PERL_MM_USE_DEFAULT = 1
    SHELL = /bin/bash
    TERM = screen

Perl special variables (and OS-specific diagnostics, for MSWin32):

    $^X = /home/david/cpantesting/perl-5.12.5/bin/perl
    $UID/$EUID = 1000 / 1000
    $GID = 1000 1000
    $EGID = 1000 1000

Perl module toolchain versions installed:

    Module              Have    
    ------------------- --------
    CPAN                1.94_56 
    CPAN::Meta          2.150010
    Cwd                 3.31    
    ExtUtils::CBuilder  0.27    
    ExtUtils::Command   7.24    
    ExtUtils::Install   1.55    
    ExtUtils::MakeMaker 7.24    
    ExtUtils::Manifest  1.70    
    ExtUtils::ParseXS   3.30    
    File::Spec          3.31_01 
    JSON                2.90    
    JSON::PP            2.27400 
    Module::Build       0.4220  
    Module::Signature   n/a     
    Parse::CPAN::Meta   2.150010
    Test::Harness       3.38    
    Test::More          1.302078
    YAML                1.18    
    YAML::Syck          n/a     
    version             0.9917  


--

Summary of my perl5 (revision 5 version 12 subversion 5) configuration:
   
  Platform:
    osname=linux, osvers=3.16.0-4-amd64, archname=x86_64-linux-thread-multi
    uname='linux pigsty.barnyard.co.uk 3.16.0-4-amd64 #1 smp debian 3.16.36-1+deb8u1 (2016-09-03) x86_64 gnulinux '
    config_args='-de -Duse64bitall -Dusethreads -Dprefix=/home/david/cpantesting/perl-5.12.5'
    hint=recommended, useposix=true, d_sigaction=define
    useithreads=define, usemultiplicity=define
    useperlio=define, d_sfio=undef, uselargefiles=define, usesocks=undef
    use64bitint=define, use64bitall=define, uselongdouble=undef
    usemymalloc=n, bincompat5005=undef
  Compiler:
    cc='cc', ccflags ='-D_REENTRANT -D_GNU_SOURCE -fno-strict-aliasing -pipe -fstack-protector -I/usr/local/include -D_LARGEFILE_SOURCE -D_FILE_OFFSET_BITS=64',
    optimize='-O2',
    cppflags='-D_REENTRANT -D_GNU_SOURCE -fno-strict-aliasing -pipe -fstack-protector -I/usr/local/include'
    ccversion='', gccversion='4.9.2', gccosandvers=''
    intsize=4, longsize=8, ptrsize=8, doublesize=8, byteorder=12345678
    d_longlong=define, longlongsize=8, d_longdbl=define, longdblsize=16
    ivtype='long', ivsize=8, nvtype='double', nvsize=8, Off_t='off_t', lseeksize=8
    alignbytes=8, prototype=define
  Linker and Libraries:
    ld='cc', ldflags =' -fstack-protector -L/usr/local/lib'
    libpth=/usr/local/lib /lib/x86_64-linux-gnu /lib/../lib /usr/lib/x86_64-linux-gnu /usr/lib/../lib /lib /usr/lib
    libs=-lnsl -ldb -ldl -lm -lcrypt -lutil -lpthread -lc
    perllibs=-lnsl -ldl -lm -lcrypt -lutil -lpthread -lc
    libc=libc-2.19.so, so=so, useshrplib=false, libperl=libperl.a
    gnulibc_version='2.19'
  Dynamic Linking:
    dlsrc=dl_dlopen.xs, dlext=so, d_dlsymun=undef, ccdlflags='-Wl,-E'
    cccdlflags='-fPIC', lddlflags='-shared -O2 -L/usr/local/lib -fstack-protector'


Characteristics of this binary (from libperl): 
  Compile-time options: MULTIPLICITY PERL_DONT_CREATE_GVSV
                        PERL_IMPLICIT_CONTEXT PERL_MALLOC_WRAP USE_64_BIT_ALL
                        USE_64_BIT_INT USE_ITHREADS USE_LARGE_FILES
                        USE_PERLIO USE_PERL_ATOF USE_REENTRANT_API
  Locally applied patches:
	Devel::PatchPerl 1.44
  Built under linux
  Compiled at Oct 12 2016 15:07:50
  %ENV:
    PERL="5.12.5"
    PERL5LIB=""
    PERL5OPT=""
    PERL5_CPANPLUS_IS_RUNNING="25021"
    PERL5_CPAN_IS_RUNNING="25021"
    PERLVER="5.12.5"
    PERL_INLINE_DIRECTORY="/home/david/.Inline-5.12.5"
    PERL_MM_USE_DEFAULT="1"
  @INC:
    /home/david/cpantesting/perl-5.12.5/lib/site_perl/5.12.5/x86_64-linux-thread-multi
    /home/david/cpantesting/perl-5.12.5/lib/site_perl/5.12.5
    /home/david/cpantesting/perl-5.12.5/lib/5.12.5/x86_64-linux-thread-multi
    /home/david/cpantesting/perl-5.12.5/lib/5.12.5
    .