Crypt-OpenSSL-PKCS10 v0.35 Perl 5 v5.40.1 armv6l-linux

Status
Pass
From
gregor herrmann
Dist
Crypt-OpenSSL-PKCS10 v0.35
Platform
Perl 5 v5.40.1 armv6l-linux
Date
2025-02-05 13:45:39
ID
7c5ce716-e3c7-11ef-bc1c-dba9deca47fe
This distribution has been tested as part of the CPAN Testers
project, supporting the Perl programming language.  See
http://wiki.cpantesters.org/ for more information or email
questions to cpan-testers-discuss@perl.org


--
Dear Timothy Legge,

This is a computer-generated report for Crypt-OpenSSL-PKCS10-0.35
on perl 5.40.1, created by CPAN-Reporter-1.2020.

Thank you for uploading your work to CPAN.  Congratulations!
All tests were successful.

Sections of this report:

    * Tester comments
    * Program output
    * Prerequisites
    * Environment and other context

------------------------------
TESTER COMMENTS
------------------------------

Additional comments from tester:

this report is from an automated smoke testing program
and was not reviewed by a human for accuracy

------------------------------
PROGRAM OUTPUT
------------------------------

Output from '/usr/bin/make test':

"/srv/smoker/perl5/perlbrew/perls/perl-5.40.1/bin/perl" -MExtUtils::Command::MM -e 'cp_nonempty' -- PKCS10.bs blib/arch/auto/Crypt/OpenSSL/PKCS10/PKCS10.bs 644
PERL_DL_NONLAZY=1 "/srv/smoker/perl5/perlbrew/perls/perl-5.40.1/bin/perl" "-MExtUtils::Command::MM" "-MTest::Harness" "-e" "undef *Test::Harness::Switches; test_harness(0, 'blib/lib', 'blib/arch')" t/*.t
# OpenSSL 3.4.0 22 Oct 2024 (Library: OpenSSL 3.4.0 22 Oct 2024)
t/00-openssl-version.t .. ok
t/10-rsa-keys.t ......... ok
t/20-ec.t ............... ok
t/30-ec-keys.t .......... ok
t/author-pod-spell.t .... skipped: these tests are for testing by the author
t/author-pod-syntax.t ... skipped: these tests are for testing by the author
-----BEGIN CERTIFICATE REQUEST-----
MIIBPzCBqQIBADAAMIGfMA0GCSqGSIb3DQEBAQUAA4GNADCBiQKBgQC34INz+ijh
wPiZzGBHnVnru1Myuxqwf20JYaEZr+GNYG8fymWwIMNf1Z/cziFFt3l0caQAjxiv
L9dhL+DBg8A/qaj6QO08sL38aeVkaqR8VCwaF9P7787TtyHj9W6xUmLd5vazStxH
ioLGqxFGAg4Rbhx1wbw2/poas2QY1ckaQwIDAQABoAAwDQYJKoZIhvcNAQELBQAD
gYEADr6lX5JMRycIXz4RDHQ95jb8Wb/DOnGv2bmfvH4frNOm12GCiRSHuU28lAsX
fure4TdsdS3KNKOrhtaaOlC7ApCCn3GkDhEQ7Fq0GmR/sYw1FXty9LgD2T/0k0hU
NvAgf7NnEcWo1xE0X9FX0Oib4DlqrMBgZNGqDQS7QJvc+yw=
-----END CERTIFICATE REQUEST-----
-----BEGIN PRIVATE KEY-----
MIICdgIBADANBgkqhkiG9w0BAQEFAASCAmAwggJcAgEAAoGBALfgg3P6KOHA+JnM
YEedWeu7UzK7GrB/bQlhoRmv4Y1gbx/KZbAgw1/Vn9zOIUW3eXRxpACPGK8v12Ev
4MGDwD+pqPpA7Tywvfxp5WRqpHxULBoX0/vvztO3IeP1brFSYt3m9rNK3EeKgsar
EUYCDhFuHHXBvDb+mhqzZBjVyRpDAgMBAAECgYAeL76E4LGrdimZ3iKEP0HO4F7l
OjBEf3bgDmYLOIOX2RgFKQ4OnyJT7lcjQbfWoStQQYPCD7vmrrz2GI0WV9HMmooE
VwP11R5xATlWnF8plDgu5DDTMTqjYpqrTs2+haNdN77fwtPUI49Z/BeyRsxok76M
ThtY+gajCpf4NIUT+QJBANmNm6H5D6oaHA9WqZeGGrDE+bZ3RDQV8wlpRyKrW18y
vvT6Rm7gHVQ/2pozW9sb5ULhICWD9An5hte2H4WKmt8CQQDYX1ofgX4E2VzH2/IC
i6snG8SlOsEniXcfXDLbclVGTaEANnJi+nPYYd1+TZ5tgLaxsFov2KGfhnM7JBed
i1EdAkAdHMgQ2sVv2+KZYt16+2Ui9pj8A+XKmo1VWxM73nZxvNa07bDzMWZ7Wbgl
Hm5SWd9KHdoxawEDPLMAtsxtEGk9AkBUyxFTdXjAR7pvbEdsLfX1zpECu4LEjr+L
H6OikizO708f+TZciY/qhXe6ropemWl/OwAs7fVwwczYqW1DxTwVAkEAzbH1pkaQ
pBOAC0mCjATH6nRTqsuNsf/rh1KBwByVEYv2D7gAfUNJDDu3Mm3JCpGBuCBTwKFn
xjL8uWujHj6+CQ==
-----END PRIVATE KEY-----


Public-Key: (1024 bit)
Modulus:
    00:b7:e0:83:73:fa:28:e1:c0:f8:99:cc:60:47:9d:
    59:eb:bb:53:32:bb:1a:b0:7f:6d:09:61:a1:19:af:
    e1:8d:60:6f:1f:ca:65:b0:20:c3:5f:d5:9f:dc:ce:
    21:45:b7:79:74:71:a4:00:8f:18:af:2f:d7:61:2f:
    e0:c1:83:c0:3f:a9:a8:fa:40:ed:3c:b0:bd:fc:69:
    e5:64:6a:a4:7c:54:2c:1a:17:d3:fb:ef:ce:d3:b7:
    21:e3:f5:6e:b1:52:62:dd:e6:f6:b3:4a:dc:47:8a:
    82:c6:ab:11:46:02:0e:11:6e:1c:75:c1:bc:36:fe:
    9a:1a:b3:64:18:d5:c9:1a:43
Exponent: 65537 (0x10001)

-----BEGIN CERTIFICATE REQUEST-----
MIIBPzCBqQIBADAAMIGfMA0GCSqGSIb3DQEBAQUAA4GNADCBiQKBgQDe+Upe6piW
tAcL0nYzPwk5UUdlm5xte9658UdXKRG1N/Rk7bGwg3mgeBu51592VzJK+HVqWvfG
ZZdQP+wx1EAbo8hks7bOzQp2zm57h/C4/oNwhgWDWuDdT1AgMlZcn7e0a52FsEKR
pg7BCl6IgQr/e1jnnx1VgFeBGbeH/anVrwIDAQABoAAwDQYJKoZIhvcNAQELBQAD
gYEArHggMpgA3RG5s8zUtOB217kbMYaS2o2z94ptVwGVML6REzMP5SVmlusQM/ou
1TFn1DboPhJDDDQrlnxY5WtHlZLekT2U2H166UvZVBYRwdj8QMWZbqkwDqejF8Az
uuOPxcjAbapymzmPv81X6hruPTzyQixskJNjGCyVYziV8o0=
-----END CERTIFICATE REQUEST-----

Public-Key: (1024 bit)
Modulus:
    00:de:f9:4a:5e:ea:98:96:b4:07:0b:d2:76:33:3f:
    09:39:51:47:65:9b:9c:6d:7b:de:b9:f1:47:57:29:
    11:b5:37:f4:64:ed:b1:b0:83:79:a0:78:1b:b9:d7:
    9f:76:57:32:4a:f8:75:6a:5a:f7:c6:65:97:50:3f:
    ec:31:d4:40:1b:a3:c8:64:b3:b6:ce:cd:0a:76:ce:
    6e:7b:87:f0:b8:fe:83:70:86:05:83:5a:e0:dd:4f:
    50:20:32:56:5c:9f:b7:b4:6b:9d:85:b0:42:91:a6:
    0e:c1:0a:5e:88:81:0a:ff:7b:58:e7:9f:1d:55:80:
    57:81:19:b7:87:fd:a9:d5:af
Exponent: 65537 (0x10001)

rsa
-----BEGIN PUBLIC KEY-----
MIGfMA0GCSqGSIb3DQEBAQUAA4GNADCBiQKBgQDe+Upe6piWtAcL0nYzPwk5UUdl
m5xte9658UdXKRG1N/Rk7bGwg3mgeBu51592VzJK+HVqWvfGZZdQP+wx1EAbo8hk
s7bOzQp2zm57h/C4/oNwhgWDWuDdT1AgMlZcn7e0a52FsEKRpg7BCl6IgQr/e1jn
nx1VgFeBGbeH/anVrwIDAQAB
-----END PUBLIC KEY-----

-----BEGIN CERTIFICATE REQUEST-----
MIIBPzCBqQIBADAAMIGfMA0GCSqGSIb3DQEBAQUAA4GNADCBiQKBgQDASHhdEF11
5H++BxnAdKUOZDZLzzPFdhR0GrL5wbGtZ18pp8al29IYhpRAMq7aVA9ft6hF1FaI
dmP5235VyQu/HnCVaTGQ5yonUnlGY0WJFpccqw2JHFL3M+FcWYNMZS1WBv6wnHJy
tYLBXT9AgOaSh6uLpEf0SsaFhx2Zu/vyPwIDAQABoAAwDQYJKoZIhvcNAQEMBQAD
gYEAqBWA4QH4yShI6aK75mkzf08pKAXfw9sCcqXTfGd/ttBZgqaGg3OlMKWzXwMs
AgHwomV/6da03QXXRjbl+qT3e64DQaBZgcR9bl4W/VK5kU1IaiwRM82B8PE0k3+4
gdN66fITbYF+WleH53hTL/OKgKGMTHcxCYq+MwzXtGNo9WU=
-----END CERTIFICATE REQUEST-----

Public-Key: (1024 bit)
Modulus:
    00:c0:48:78:5d:10:5d:75:e4:7f:be:07:19:c0:74:
    a5:0e:64:36:4b:cf:33:c5:76:14:74:1a:b2:f9:c1:
    b1:ad:67:5f:29:a7:c6:a5:db:d2:18:86:94:40:32:
    ae:da:54:0f:5f:b7:a8:45:d4:56:88:76:63:f9:db:
    7e:55:c9:0b:bf:1e:70:95:69:31:90:e7:2a:27:52:
    79:46:63:45:89:16:97:1c:ab:0d:89:1c:52:f7:33:
    e1:5c:59:83:4c:65:2d:56:06:fe:b0:9c:72:72:b5:
    82:c1:5d:3f:40:80:e6:92:87:ab:8b:a4:47:f4:4a:
    c6:85:87:1d:99:bb:fb:f2:3f
Exponent: 65537 (0x10001)

rsa
-----BEGIN PUBLIC KEY-----
MIGfMA0GCSqGSIb3DQEBAQUAA4GNADCBiQKBgQDASHhdEF115H++BxnAdKUOZDZL
zzPFdhR0GrL5wbGtZ18pp8al29IYhpRAMq7aVA9ft6hF1FaIdmP5235VyQu/HnCV
aTGQ5yonUnlGY0WJFpccqw2JHFL3M+FcWYNMZS1WBv6wnHJytYLBXT9AgOaSh6uL
pEf0SsaFhx2Zu/vyPwIDAQAB
-----END PUBLIC KEY-----

-----BEGIN CERTIFICATE REQUEST-----
MIICJzCCAZACAQAwKTELMAkGA1UEBhMCUk8xDDAKBgNVBAoMA1VUSTEMMAoGA1UE
CwwDc3NpMIGfMA0GCSqGSIb3DQEBAQUAA4GNADCBiQKBgQDaMaKDwekkbF1kbRQ/
d0yi4oxbodk/wmvLxWiYjMjhWDnS83hqN7nMPjy7BraWJOEUPfZoQ8unZsNF4rQj
C7vMNNoeehDm9i48DOFdskU2ayB6DChBj4zEUJmr5jWrTO1zfHgxC4kdcZQhTNOU
rQMbUx7gmQgU27RONe3YrqfJGQIDAQABoIG9MIG6BgkqhkiG9w0BCQ4xgawwgakw
DgYDVR0PAQH/BAQDAgWgMC4GA1UdJQQnMCUGCCsGAQUFBwMBBglghkgBhvhCBAEG
CisGAQQBgjcKAwMGAisEMBwGA1UdEQQVMBOBEXN0ZXZlQG9wZW5zc2wub3JnMB0G
A1UdDgQWBBSfbii4DzxER5X0o+7KvkrTdipiajAZBgMqAwMEEhYQTXkgbmV3IGV4
dGVuc2lvbjAPBgMqAwQECB4GAGEAYgBjMA0GCSqGSIb3DQEBCwUAA4GBAAXbQFJf
LnXQEMqJHi1P95aT+1NprW1zmuqVGGbqZV5oRKG54HesPG5twyB6VVW4aM3DrdgW
IL4wi5aSOarqJwUw2QoC3ydJVl2oUiE56ytQEo7q9E2EXhBIEA0TTj5iBr2xzqo5
Jk7RQ/emGG5Hro3Cu48+ncmlXexLV03IPyRW
-----END CERTIFICATE REQUEST-----
Public-Key: (1024 bit)
Modulus:
    00:da:31:a2:83:c1:e9:24:6c:5d:64:6d:14:3f:77:
    4c:a2:e2:8c:5b:a1:d9:3f:c2:6b:cb:c5:68:98:8c:
    c8:e1:58:39:d2:f3:78:6a:37:b9:cc:3e:3c:bb:06:
    b6:96:24:e1:14:3d:f6:68:43:cb:a7:66:c3:45:e2:
    b4:23:0b:bb:cc:34:da:1e:7a:10:e6:f6:2e:3c:0c:
    e1:5d:b2:45:36:6b:20:7a:0c:28:41:8f:8c:c4:50:
    99:ab:e6:35:ab:4c:ed:73:7c:78:31:0b:89:1d:71:
    94:21:4c:d3:94:ad:03:1b:53:1e:e0:99:08:14:db:
    b4:4e:35:ed:d8:ae:a7:c9:19
Exponent: 65537 (0x10001)

-----BEGIN PUBLIC KEY-----
MIGfMA0GCSqGSIb3DQEBAQUAA4GNADCBiQKBgQDaMaKDwekkbF1kbRQ/d0yi4oxb
odk/wmvLxWiYjMjhWDnS83hqN7nMPjy7BraWJOEUPfZoQ8unZsNF4rQjC7vMNNoe
ehDm9i48DOFdskU2ayB6DChBj4zEUJmr5jWrTO1zfHgxC4kdcZQhTNOUrQMbUx7g
mQgU27RONe3YrqfJGQIDAQAB
-----END PUBLIC KEY-----

t/Mytest.t .............. ok
t/release-kwalitee.t .... skipped: these tests are for release candidate testing
t/release-meta-json.t ... skipped: these tests are for release candidate testing
All tests successful.
Files=9, Tests=102, 463 wallclock secs ( 1.01 usr  0.14 sys + 280.10 cusr  2.97 csys = 284.22 CPU)
Result: PASS

------------------------------
PREREQUISITES
------------------------------

Prerequisite modules loaded:

requires:

    Module                Need  Have    
    --------------------- ----- --------
    Crypt::OpenSSL::RSA   0     0.33    
    Exporter              0     5.78    
    perl                  5.008 5.040001
    XSLoader              0     0.32    

build_requires:

    Module                Need  Have    
    --------------------- ----- --------
    Crypt::OpenSSL::Guess 0.11  0.15    
    Crypt::OpenSSL::RSA   0     0.33    
    File::Slurper         0     0.014   
    File::Spec::Functions 0     3.91    
    File::Temp            0     0.2311  
    Import::Into          0     1.002005
    Test::Lib             0     0.003   
    Test::More            0     1.302199

configure_requires:

    Module                Need  Have    
    --------------------- ----- --------
    Crypt::OpenSSL::Guess 0.11  0.15    
    ExtUtils::MakeMaker   0     7.70    


------------------------------
ENVIRONMENT AND OTHER CONTEXT
------------------------------

Environment variables:

    AUTOMATED_TESTING = 1
    LC_CTYPE = de_AT.utf8
    LD_LIBRARY_PATH = /usr/lib/libeatmydata
    NONINTERACTIVE_TESTING = 1
    PATH = /srv/smoker/bin:/usr/lib/ccache:/srv/smoker/perl5/perlbrew/bin:/srv/smoker/perl5/perlbrew/perls/perl-5.40.1/bin:/usr/local/bin:/usr/bin:/bin:/usr/local/games:/usr/games
    PERL5LIB = 
    PERL5OPT = 
    PERL5_CPANPLUS_IS_RUNNING = 31732
    PERL5_CPAN_IS_RUNNING = 31732
    PERL5_CPAN_IS_RUNNING_IN_RECURSION = 28467,31732
    PERLBREW_HOME = /srv/smoker/.perlbrew
    PERLBREW_MANPATH = /srv/smoker/perl5/perlbrew/perls/perl-5.40.1/man
    PERLBREW_PATH = /srv/smoker/perl5/perlbrew/bin:/srv/smoker/perl5/perlbrew/perls/perl-5.40.1/bin
    PERLBREW_PERL = perl-5.40.1
    PERLBREW_ROOT = /srv/smoker/perl5/perlbrew
    PERLBREW_SHELLRC_VERSION = 1.01
    PERLBREW_VERSION = 1.01
    PERL_CPANM_OPT = --prompt  --configure-timeout 300 --build-timeout 18000 --test-timeout 18000 --from https://www.cpan.org
    PERL_CR_SMOKER_CURRENT = Crypt-OpenSSL-PKCS10-0.35
    PERL_EXTUTILS_AUTOINSTALL = --defaultdeps
    PERL_MM_USE_DEFAULT = 1
    PERL_TEST_TIME_OUT_FACTOR = 3
    PERL_TEST_TIME_OUT_FACTOR = 3
    PERL_USE_UNSAFE_INC = 1
    SHELL = /bin/bash
    TERM = screen-256color

Perl special variables (and OS-specific diagnostics, for MSWin32):

    $^X = /srv/smoker/perl5/perlbrew/perls/perl-5.40.1/bin/perl
    $UID/$EUID = 1111 / 1111
    $GID = 65534 65534
    $EGID = 65534 65534

Perl module toolchain versions installed:

    Module              Have    
    ------------------- --------
    CPAN                2.38    
    CPAN::Meta          2.150010
    Cwd                 3.91    
    ExtUtils::CBuilder  0.280240
    ExtUtils::Command   7.70    
    ExtUtils::Install   2.22    
    ExtUtils::MakeMaker 7.70    
    ExtUtils::Manifest  1.75    
    ExtUtils::ParseXS   3.51    
    File::Spec          3.91    
    JSON                4.10    
    JSON::PP            4.16    
    Module::Build       0.4234  
    Module::Signature   n/a     
    Parse::CPAN::Meta   2.150010
    Test2               1.302199
    Test::Harness       3.48    
    Test::More          1.302199
    YAML                1.31    
    YAML::Syck          1.34    
    version             0.9930  


--

Summary of my perl5 (revision 5 version 40 subversion 1) configuration:
   
  Platform:
    osname=linux
    osvers=5.10.103+
    archname=armv6l-linux
    uname='linux smoker 5.10.103+ #1529 tue mar 8 12:19:18 gmt 2022 armv6l gnulinux '
    config_args='-de -Dprefix=/srv/smoker/perl5/perlbrew/perls/perl-5.40.1 -Aeval:scriptdir=/srv/smoker/perl5/perlbrew/perls/perl-5.40.1/bin'
    hint=recommended
    useposix=true
    d_sigaction=define
    useithreads=undef
    usemultiplicity=undef
    use64bitint=undef
    use64bitall=undef
    uselongdouble=undef
    usemymalloc=n
    default_inc_excludes_dot=define
  Compiler:
    cc='cc'
    ccflags ='-fwrapv -fno-strict-aliasing -pipe -fstack-protector-strong -I/usr/local/include -D_LARGEFILE_SOURCE -D_FILE_OFFSET_BITS=64 -D_FORTIFY_SOURCE=2'
    optimize='-O2'
    cppflags='-fwrapv -fno-strict-aliasing -pipe -fstack-protector-strong -I/usr/local/include'
    ccversion=''
    gccversion='14.2.0'
    gccosandvers=''
    intsize=4
    longsize=4
    ptrsize=4
    doublesize=8
    byteorder=1234
    doublekind=3
    d_longlong=define
    longlongsize=8
    d_longdbl=define
    longdblsize=8
    longdblkind=0
    ivtype='long'
    ivsize=4
    nvtype='double'
    nvsize=8
    Off_t='off_t'
    lseeksize=8
    alignbytes=8
    prototype=define
  Linker and Libraries:
    ld='cc'
    ldflags =' -fstack-protector-strong -L/usr/local/lib'
    libpth=/usr/local/lib /usr/lib/arm-linux-gnueabihf /usr/lib
    libs=-lpthread -ldb -ldl -lm -lcrypt -lutil -lc
    perllibs=-lpthread -ldl -lm -lcrypt -lutil -lc
    libc=/lib/arm-linux-gnueabihf/libc.so.6
    so=so
    useshrplib=false
    libperl=libperl.a
    gnulibc_version='2.40'
  Dynamic Linking:
    dlsrc=dl_dlopen.xs
    dlext=so
    d_dlsymun=undef
    ccdlflags='-Wl,-E'
    cccdlflags='-fPIC'
    lddlflags='-shared -O2 -L/usr/local/lib -fstack-protector-strong'


Characteristics of this binary (from libperl): 
  Compile-time options:
    HAS_LONG_DOUBLE
    HAS_STRTOLD
    HAS_TIMES
    PERLIO_LAYERS
    PERL_COPY_ON_WRITE
    PERL_DONT_CREATE_GVSV
    PERL_HASH_FUNC_ZAPHOD32
    PERL_HASH_USE_SBOX32
    PERL_MALLOC_WRAP
    PERL_OP_PARENT
    PERL_PRESERVE_IVUV
    PERL_USE_SAFE_PUTENV
    USE_LARGE_FILES
    USE_LOCALE
    USE_LOCALE_COLLATE
    USE_LOCALE_CTYPE
    USE_LOCALE_NUMERIC
    USE_LOCALE_TIME
    USE_PERLIO
    USE_PERL_ATOF
  Built under linux
  Compiled at Jan 19 2025 17:55:30
  %ENV:
    PERL5LIB=""
    PERL5OPT=""
    PERL5_CPANPLUS_IS_RUNNING="31732"
    PERL5_CPAN_IS_RUNNING="31732"
    PERL5_CPAN_IS_RUNNING_IN_RECURSION="28467,31732"
    PERLBREW_HOME="/srv/smoker/.perlbrew"
    PERLBREW_MANPATH="/srv/smoker/perl5/perlbrew/perls/perl-5.40.1/man"
    PERLBREW_PATH="/srv/smoker/perl5/perlbrew/bin:/srv/smoker/perl5/perlbrew/perls/perl-5.40.1/bin"
    PERLBREW_PERL="perl-5.40.1"
    PERLBREW_ROOT="/srv/smoker/perl5/perlbrew"
    PERLBREW_SHELLRC_VERSION="1.01"
    PERLBREW_VERSION="1.01"
    PERL_CPANM_OPT="--prompt  --configure-timeout 300 --build-timeout 18000 --test-timeout 18000 --from https://www.cpan.org"
    PERL_CR_SMOKER_CURRENT="Crypt-OpenSSL-PKCS10-0.35"
    PERL_EXTUTILS_AUTOINSTALL="--defaultdeps"
    PERL_MM_USE_DEFAULT="1"
    PERL_TEST_TIME_OUT_FACTOR="3"
    PERL_USE_UNSAFE_INC="1"
  @INC:
    /srv/smoker/perl5/perlbrew/perls/perl-5.40.1/lib/site_perl/5.40.1/armv6l-linux
    /srv/smoker/perl5/perlbrew/perls/perl-5.40.1/lib/site_perl/5.40.1
    /srv/smoker/perl5/perlbrew/perls/perl-5.40.1/lib/5.40.1/armv6l-linux
    /srv/smoker/perl5/perlbrew/perls/perl-5.40.1/lib/5.40.1
    .