Alien-libpid v0.032 Perl 5 v5.18.2 i686-linux

Status
Pass
From
Nigel Horne
Dist
Alien-libpid v0.032
Platform
Perl 5 v5.18.2 i686-linux
Date
2018-05-06 15:59:41
ID
7c678308-5146-11e8-9da6-f703c768dc7a
This distribution has been tested as part of the CPAN Testers
project, supporting the Perl programming language.  See
http://wiki.cpantesters.org/ for more information or email
questions to cpan-testers-discuss@perl.org


--
Dear Ahmad Fatoum,

This is a computer-generated report for Alien-libpid-0.032
on perl 5.18.2, created by CPAN-Reporter-1.2018.

Thank you for uploading your work to CPAN.  Congratulations!
All tests were successful.

Sections of this report:

    * Tester comments
    * Program output
    * Prerequisites
    * Environment and other context

------------------------------
TESTER COMMENTS
------------------------------

Additional comments from tester:

this report is from an automated smoke testing program
and was not reviewed by a human for accuracy

------------------------------
PROGRAM OUTPUT
------------------------------

Output from '/usr/bin/make test':

"/home/njh/perl5/perlbrew/perls/perl-5.18.2-clang/bin/perl5.18.2" -MAlien::Build::MM=cmd -e test
Useless use of string ne in void context at /home/njh/.cpan/build/Alien-libpid-0.032-qzTIw2/alienfile line 29.
Alien::Build::Plugin::PkgConfig::Negotiate> Using PkgConfig plugin: PkgConfig::CommandLine
PERL_DL_NONLAZY=1 "/home/njh/perl5/perlbrew/perls/perl-5.18.2-clang/bin/perl5.18.2" "-MExtUtils::Command::MM" "-MTest::Harness" "-e" "undef *Test::Harness::Switches; test_harness(0, 'blib/lib', 'blib/arch')" t/*.t
t/00-compile.t ......... ok
# 
# Versions for all modules listed in MYMETA.json (including optional ones):
# 
# === Configure Requires ===
# 
#     Module                             Want Have
#     ---------------------------------- ---- ----
#     Alien::Build                       0.32 1.41
#     Alien::Build::MM                   0.32 1.41
#     Alien::Build::Plugin::Build::CMake 0.99 1.41
#     ExtUtils::MakeMaker                6.52 7.30
# 
# === Build Requires ===
# 
#     Module                                        Want     Have
#     -------------------------------------------- ----- --------
#     Alien::Build                                  0.32     1.41
#     Alien::Build::MM                              0.32     1.41
#     Alien::Build::Plugin::Gather::IsolateDynamic  0.48     1.41
#     Alien::cmake3                                 0.02     0.04
#     Archive::Tar                                   any     1.90
#     Config                                         any 5.018002
#     ExtUtils::MakeMaker                           6.52     7.30
#     HTTP::Tiny                                   0.044    0.070
#     IO::Socket::SSL                               1.56    2.056
#     IO::Zlib                                       any     1.10
#     Net::SSLeay                                   1.49     1.85
#     URI                                            any     1.73
# 
# === Test Requires ===
# 
#     Module              Want     Have
#     ------------------- ---- --------
#     ExtUtils::MakeMaker 6.52     7.30
#     File::Spec           any     3.40
#     IO::Handle           any     1.34
#     IPC::Open3           any     1.13
#     Test2::Bundle::More  any 0.000097
#     Test::Alien         0.05     1.41
#     Test::More           any 1.302120
#     blib                1.01     1.06
# 
# === Test Recommends ===
# 
#     Module         Want     Have
#     ---------- -------- --------
#     CPAN::Meta 2.120900 2.143240
# 
# === Runtime Requires ===
# 
#     Module        Want  Have
#     ------------ ----- -----
#     Alien::Base  0.038  1.41
#     Alien::Build  0.25  1.41
#     parent         any 0.225
#     strict         any  1.07
#     warnings       any  1.18
# 
t/00-report-prereqs.t .. ok
t/init.t ............... ok
All tests successful.
Files=3, Tests=5,  1 wallclock secs ( 0.03 usr  0.01 sys +  1.14 cusr  0.19 csys =  1.37 CPU)
Result: PASS

------------------------------
PREREQUISITES
------------------------------

Prerequisite modules loaded:

requires:

    Module                                       Need  Have    
    -------------------------------------------- ----- --------
    Alien::Base                                  0.038 1.41    
    Alien::Build                                 0.25  1.41    
    parent                                       0     0.225   
    perl                                         5.008 5.018002
    strict                                       0     1.07    
    warnings                                     0     1.18    

build_requires:

    Module                                       Need  Have    
    -------------------------------------------- ----- --------
    Alien::Build                                 0.32  1.41    
    Alien::Build::MM                             0.32  1.41    
    Alien::Build::Plugin::Gather::IsolateDynamic 0.48  1.41    
    Alien::cmake3                                0.02  0.04    
    Archive::Tar                                 0     1.90    
    blib                                         1.01  1.06    
    Config                                       0     5.018002
    ExtUtils::MakeMaker                          6.52  7.30    
    File::Spec                                   0     3.40    
    HTTP::Tiny                                   0.044 0.070   
    IO::Handle                                   0     1.34    
    IO::Socket::SSL                              1.56  2.056   
    IO::Zlib                                     0     1.10    
    IPC::Open3                                   0     1.13    
    Net::SSLeay                                  1.49  1.85    
    Test2::Bundle::More                          0     0.000097
    Test::Alien                                  0.05  1.41    
    Test::More                                   0     1.302120
    URI                                          0     1.73    

configure_requires:

    Module                                       Need  Have    
    -------------------------------------------- ----- --------
    Alien::Build                                 0.32  1.41    
    Alien::Build::MM                             0.32  1.41    
    Alien::Build::Plugin::Build::CMake           0.99  1.41    
    ExtUtils::MakeMaker                          6.52  7.30    


------------------------------
ENVIRONMENT AND OTHER CONTEXT
------------------------------

Environment variables:

    AUTOMATED_TESTING = 1
    HARNESS_OPTIONS = j2
    LANG = en_US.UTF-8
    PATH = /home/njh/perl5/perlbrew/bin:/home/njh/perl5/perlbrew/perls/perl-5.18.2-clang/bin:src/njh/smoker/bin:/usr/bin:/bin
    PERL5LIB = /home/njh/.cpan/build/Alien-cmake3-0.04-0FIYnc/blib/arch:/home/njh/.cpan/build/Alien-cmake3-0.04-0FIYnc/blib/lib:/home/njh/.cpan/build/Sort-Versions-1.62-qRPymK/blib/arch:/home/njh/.cpan/build/Sort-Versions-1.62-qRPymK/blib/lib:/home/njh/.cpan/build/IO-Socket-SSL-2.056-cEPvqS/blib/arch:/home/njh/.cpan/build/IO-Socket-SSL-2.056-cEPvqS/blib/lib:/home/njh/.cpan/build/Mozilla-CA-20180117-Lmh69E/blib/arch:/home/njh/.cpan/build/Mozilla-CA-20180117-Lmh69E/blib/lib:/home/njh/.cpan/build/HTTP-Tiny-0.070-bZ2r9T/blib/arch:/home/njh/.cpan/build/HTTP-Tiny-0.070-bZ2r9T/blib/lib:/home/njh/.cpan/build/Net-SSLeay-1.85-GfrAvy/blib/arch:/home/njh/.cpan/build/Net-SSLeay-1.85-GfrAvy/blib/lib:/home/njh/.cpan/build/Alien-Build-1.41-WKedWi/blib/arch:/home/njh/.cpan/build/Alien-Build-1.41-WKedWi/blib/lib:/home/njh/.cpan/build/FFI-CheckLib-0.18-O8EhAG/blib/arch:/home/njh/.cpan/build/FFI-CheckLib-0.18-O8EhAG/blib/lib:/home/njh/.cpan/build/ExtUtils-ParseXS-3.35-X25jJA/blib/arch:/home/njh/.cpan/build/ExtUtils-ParseXS-3.35-X25jJA/blib/lib
    PERL5OPT = 
    PERL5_CPANPLUS_IS_RUNNING = 17956
    PERL5_CPAN_IS_RUNNING = 17956
    PERLBREW_BASHRC_VERSION = 0.73
    PERLBREW_HOME = /home/njh/.perlbrew
    PERLBREW_MANPATH = /home/njh/perl5/perlbrew/perls/perl-5.18.2-clang/man
    PERLBREW_PATH = /home/njh/perl5/perlbrew/bin:/home/njh/perl5/perlbrew/perls/perl-5.18.2-clang/bin
    PERLBREW_PERL = perl-5.18.2-clang
    PERLBREW_ROOT = /home/njh/perl5/perlbrew
    PERLBREW_VERSION = 0.73
    SHELL = /bin/sh

Perl special variables (and OS-specific diagnostics, for MSWin32):

    $^X = /home/njh/perl5/perlbrew/perls/perl-5.18.2-clang/bin/perl5.18.2
    $UID/$EUID = 1000 / 1000
    $GID = 1000 4 24 25 29 30 44 46 108 1000
    $EGID = 1000 4 24 25 29 30 44 46 108 1000

Perl module toolchain versions installed:

    Module              Have    
    ------------------- --------
    CPAN                2.00    
    CPAN::Meta          2.143240
    Cwd                 3.40    
    ExtUtils::CBuilder  0.280210
    ExtUtils::Command   7.30    
    ExtUtils::Install   2.06    
    ExtUtils::MakeMaker 7.30    
    ExtUtils::Manifest  1.70    
    ExtUtils::ParseXS   3.35    
    File::Spec          3.40    
    JSON                2.97001 
    JSON::PP            2.97001 
    Module::Build       0.4224  
    Module::Signature   n/a     
    Parse::CPAN::Meta   1.4414  
    Test::Harness       3.39    
    Test::More          1.302120
    YAML                1.24    
    YAML::Syck          n/a     
    version             0.9902  


--

Summary of my perl5 (revision 5 version 18 subversion 2) configuration:
   
  Platform:
    osname=linux, osvers=4.3.0-1-686-pae, archname=i686-linux
    uname='linux zack 4.3.0-1-686-pae #1 smp debian 4.3.5-1 (2016-02-06) i686 gnulinux '
    config_args='-de -Dprefix=/home/njh/perl5/perlbrew/perls/perl-5.18.2-clang -Dusedevel -Dcc=clang -Accflags= -Aeval:scriptdir=/home/njh/perl5/perlbrew/perls/perl-5.18.2-clang/bin'
    hint=recommended, useposix=true, d_sigaction=define
    useithreads=undef, usemultiplicity=undef
    useperlio=define, d_sfio=undef, uselargefiles=define, usesocks=undef
    use64bitint=undef, use64bitall=undef, uselongdouble=undef
    usemymalloc=n, bincompat5005=undef
  Compiler:
    cc='clang', ccflags ='-fno-strict-aliasing -pipe -fstack-protector -I/usr/local/include -D_LARGEFILE_SOURCE -D_FILE_OFFSET_BITS=64',
    optimize='-O2',
    cppflags='-fno-strict-aliasing -pipe -fstack-protector -I/usr/local/include'
    ccversion='', gccversion='4.2.1 Compatible Clang 4.0.1 (tags/RELEASE_401/final)', gccosandvers=''
    intsize=4, longsize=4, ptrsize=4, doublesize=8, byteorder=1234
    d_longlong=define, longlongsize=8, d_longdbl=define, longdblsize=12
    ivtype='long', ivsize=4, nvtype='double', nvsize=8, Off_t='off_t', lseeksize=8
    alignbytes=4, prototype=define
  Linker and Libraries:
    ld='clang', ldflags =' -fstack-protector -L/usr/local/lib'
    libpth=/usr/local/lib /lib/i386-linux-gnu /lib/../lib /usr/lib/i386-linux-gnu /usr/lib/../lib /lib /usr/lib /lib64 /usr/lib64
    libs=-lnsl -lgdbm -ldb -ldl -lm -lcrypt -lutil -lc -lgdbm_compat
    perllibs=-lnsl -ldl -lm -lcrypt -lutil -lc
    libc=libc-2.26.so, so=so, useshrplib=false, libperl=libperl.a
    gnulibc_version='2.26'
  Dynamic Linking:
    dlsrc=dl_dlopen.xs, dlext=so, d_dlsymun=undef, ccdlflags='-Wl,-E'
    cccdlflags='-fPIC', lddlflags='-shared -O2 -L/usr/local/lib -fstack-protector'


Characteristics of this binary (from libperl): 
  Compile-time options: HAS_TIMES PERLIO_LAYERS PERL_DONT_CREATE_GVSV
                        PERL_HASH_FUNC_ONE_AT_A_TIME_HARD PERL_MALLOC_WRAP
                        PERL_PRESERVE_IVUV PERL_SAWAMPERSAND PERL_USE_DEVEL
                        USE_LARGE_FILES USE_LOCALE USE_LOCALE_COLLATE
                        USE_LOCALE_CTYPE USE_LOCALE_NUMERIC USE_PERLIO
                        USE_PERL_ATOF
  Locally applied patches:
	Devel::PatchPerl 1.38
  Built under linux
  Compiled at Jan 26 2018 01:03:11
  %ENV:
    PERL5LIB="/home/njh/.cpan/build/Alien-cmake3-0.04-0FIYnc/blib/arch:/home/njh/.cpan/build/Alien-cmake3-0.04-0FIYnc/blib/lib:/home/njh/.cpan/build/Sort-Versions-1.62-qRPymK/blib/arch:/home/njh/.cpan/build/Sort-Versions-1.62-qRPymK/blib/lib:/home/njh/.cpan/build/IO-Socket-SSL-2.056-cEPvqS/blib/arch:/home/njh/.cpan/build/IO-Socket-SSL-2.056-cEPvqS/blib/lib:/home/njh/.cpan/build/Mozilla-CA-20180117-Lmh69E/blib/arch:/home/njh/.cpan/build/Mozilla-CA-20180117-Lmh69E/blib/lib:/home/njh/.cpan/build/HTTP-Tiny-0.070-bZ2r9T/blib/arch:/home/njh/.cpan/build/HTTP-Tiny-0.070-bZ2r9T/blib/lib:/home/njh/.cpan/build/Net-SSLeay-1.85-GfrAvy/blib/arch:/home/njh/.cpan/build/Net-SSLeay-1.85-GfrAvy/blib/lib:/home/njh/.cpan/build/Alien-Build-1.41-WKedWi/blib/arch:/home/njh/.cpan/build/Alien-Build-1.41-WKedWi/blib/lib:/home/njh/.cpan/build/FFI-CheckLib-0.18-O8EhAG/blib/arch:/home/njh/.cpan/build/FFI-CheckLib-0.18-O8EhAG/blib/lib:/home/njh/.cpan/build/ExtUtils-ParseXS-3.35-X25jJA/blib/arch:/home/njh/.cpan/build/ExtUtils-ParseXS-3.35-X25jJA/blib/lib"
    PERL5OPT=""
    PERL5_CPANPLUS_IS_RUNNING="17956"
    PERL5_CPAN_IS_RUNNING="17956"
    PERLBREW_BASHRC_VERSION="0.73"
    PERLBREW_HOME="/home/njh/.perlbrew"
    PERLBREW_MANPATH="/home/njh/perl5/perlbrew/perls/perl-5.18.2-clang/man"
    PERLBREW_PATH="/home/njh/perl5/perlbrew/bin:/home/njh/perl5/perlbrew/perls/perl-5.18.2-clang/bin"
    PERLBREW_PERL="perl-5.18.2-clang"
    PERLBREW_ROOT="/home/njh/perl5/perlbrew"
    PERLBREW_VERSION="0.73"
  @INC:
    /home/njh/.cpan/build/Alien-cmake3-0.04-0FIYnc/blib/arch
    /home/njh/.cpan/build/Alien-cmake3-0.04-0FIYnc/blib/lib
    /home/njh/.cpan/build/Sort-Versions-1.62-qRPymK/blib/arch
    /home/njh/.cpan/build/Sort-Versions-1.62-qRPymK/blib/lib
    /home/njh/.cpan/build/IO-Socket-SSL-2.056-cEPvqS/blib/arch
    /home/njh/.cpan/build/IO-Socket-SSL-2.056-cEPvqS/blib/lib
    /home/njh/.cpan/build/Mozilla-CA-20180117-Lmh69E/blib/arch
    /home/njh/.cpan/build/Mozilla-CA-20180117-Lmh69E/blib/lib
    /home/njh/.cpan/build/HTTP-Tiny-0.070-bZ2r9T/blib/arch
    /home/njh/.cpan/build/HTTP-Tiny-0.070-bZ2r9T/blib/lib
    /home/njh/.cpan/build/Net-SSLeay-1.85-GfrAvy/blib/arch
    /home/njh/.cpan/build/Net-SSLeay-1.85-GfrAvy/blib/lib
    /home/njh/.cpan/build/Alien-Build-1.41-WKedWi/blib/arch
    /home/njh/.cpan/build/Alien-Build-1.41-WKedWi/blib/lib
    /home/njh/.cpan/build/FFI-CheckLib-0.18-O8EhAG/blib/arch
    /home/njh/.cpan/build/FFI-CheckLib-0.18-O8EhAG/blib/lib
    /home/njh/.cpan/build/ExtUtils-ParseXS-3.35-X25jJA/blib/arch
    /home/njh/.cpan/build/ExtUtils-ParseXS-3.35-X25jJA/blib/lib
    /home/njh/perl5/perlbrew/perls/perl-5.18.2-clang/lib/site_perl/5.18.2/i686-linux
    /home/njh/perl5/perlbrew/perls/perl-5.18.2-clang/lib/site_perl/5.18.2
    /home/njh/perl5/perlbrew/perls/perl-5.18.2-clang/lib/5.18.2/i686-linux
    /home/njh/perl5/perlbrew/perls/perl-5.18.2-clang/lib/5.18.2
    .