Web-Query v1.01 Perl 5 v5.18.1 x86_64-linux-thread-multi

Status
Pass
From
Andreas J. König (ANDK)
Dist
Web-Query v1.01
Platform
Perl 5 v5.18.1 x86_64-linux-thread-multi
Date
2024-01-29 03:35:45
ID
7c93b8ae-be57-11ee-a498-c7af3541b51d
This distribution has been tested as part of the CPAN Testers
project, supporting the Perl programming language.  See
http://wiki.cpantesters.org/ for more information or email
questions to cpan-testers-discuss@perl.org


--
Dear Yanick Champoux,

This is a computer-generated report for Web-Query-1.01
on perl 5.18.1, created by CPAN-Reporter-1.2019.

Thank you for uploading your work to CPAN.  Congratulations!
All tests were successful.

Sections of this report:

    * Tester comments
    * Program output
    * Prerequisites
    * Environment and other context

------------------------------
TESTER COMMENTS
------------------------------

Additional comments from tester:

this report is from an automated smoke testing program
and was not reviewed by a human for accuracy

------------------------------
PROGRAM OUTPUT
------------------------------

Output from '/usr/bin/make test':

PERL_DL_NONLAZY=1 "/home/sand/src/perl/repoperls/installed-perls/host/k93msid/v5.18.1/1e0c/bin/perl" "-MExtUtils::Command::MM" "-MTest::Harness" "-e" "undef *Test::Harness::Switches; test_harness(0, 'blib/lib', 'blib/arch')" t/*.t
t/00-compile.t ...................... ok
# 
# Versions for all modules listed in MYMETA.json (including optional ones):
# 
# === Configure Requires ===
# 
#     Module              Want Have
#     ------------------- ---- ----
#     ExtUtils::MakeMaker  any 7.70
# 
# === Build Requires ===
# 
#     Module              Want Have
#     ------------------- ---- ----
#     ExtUtils::MakeMaker  any 7.70
# 
# === Test Requires ===
# 
#     Module                  Want     Have
#     ----------------------- ---- --------
#     Cwd                      any     3.75
#     ExtUtils::MakeMaker      any     7.70
#     File::Spec               any     3.75
#     FindBin                  any     1.51
#     IO::Handle               any     1.55
#     IPC::Open3               any     1.13
#     Test2::Tools::Exception  any 0.000159
#     Test2::V0                any 0.000159
#     Test::Exception          any     0.43
#     Test::More               any 1.302196
#     lib                      any     0.63
#     utf8                     any     1.10
# 
# === Test Recommends ===
# 
#     Module         Want     Have
#     ---------- -------- --------
#     CPAN::Meta 2.120900 2.150010
# 
# === Runtime Requires ===
# 
#     Module                        Want     Have
#     ------------------------- -------- --------
#     Exporter                       any     5.78
#     HTML::Entities                 any     3.81
#     HTML::Selector::XPath         0.20     0.28
#     HTML::TreeBuilder::LibXML      any     0.27
#     HTML::TreeBuilder::XPath       any     0.14
#     LWP::UserAgent                 any     6.72
#     List::Util                    1.44     1.63
#     Scalar::Util                   any     1.63
#     parent                         any    0.241
#     perl                      5.008005 5.018001
#     strict                         any     1.07
#     warnings                       any     1.18
# 
t/00-report-prereqs.t ............... ok
t/00_compile.t ...................... ok
# testing Web::Query
# testing Web::Query::LibXML
t/01_src.t .......................... ok
# testing Web::Query
# testing Web::Query::LibXML
t/02_op.t ........................... ok
# testing Web::Query
# testing Web::Query::LibXML
t/03_traverse.t ..................... ok
# testing Web::Query
# testing Web::Query::LibXML
t/04_element.t ...................... ok
# testing Web::Query
# testing Web::Query::LibXML
t/05_html5.t ........................ ok
t/06_new_from_url_error_handling.t .. ok
# testing Web::Query
# testing Web::Query::LibXML
t/07_remove.t ....................... ok
t/08_indent.t ....................... ok
# testing Web::Query
# testing Web::Query::LibXML
t/09_as_html.t ...................... ok
t/10_subclass.t ..................... ok
# testing Web::Query
# testing Web::Query::LibXML
t/11_get_eq.t ....................... ok
# testing Web::Query
# testing Web::Query::LibXML
t/add.t ............................. ok
# testing Web::Query
# testing Web::Query::LibXML
t/after.t ........................... ok
# testing Web::Query
# testing Web::Query::LibXML
t/append.t .......................... ok
# testing Web::Query
# testing Web::Query::LibXML
t/attr.t ............................ ok
t/bad-url-with-options.t ............ ok
# testing Web::Query
# testing Web::Query::LibXML
t/before.t .......................... ok
t/bug-text-contents.t ............... ok
t/class.t ........................... ok
# testing Web::Query
# testing Web::Query::LibXML
t/clone.t ........................... ok
# testing Web::Query
# testing Web::Query::LibXML
t/contents.t ........................ ok
t/destroy.t ......................... ok
# testing Web::Query
# testing Web::Query::LibXML
t/detach.t .......................... ok
t/filter.t .......................... ok
# testing Web::Query
# testing Web::Query::LibXML
t/find.t ............................ ok
# testing Web::Query
# testing Web::Query::LibXML
t/has_class.t ....................... ok
# testing Web::Query
# testing Web::Query::LibXML
t/insert_after.t .................... ok
# testing Web::Query
# testing Web::Query::LibXML
t/insert_before.t ................... ok
t/match_and_not.t ................... ok
t/new.t ............................. ok
# testing Web::Query
# testing Web::Query::LibXML
t/next.t ............................ ok
# testing Web::Query
# testing Web::Query::LibXML
t/next_until.t ...................... ok
t/no_space_compacting.t ............. ok
t/node-types.t ...................... ok
# testing Web::Query
# testing Web::Query::LibXML
t/prepend.t ......................... ok
# testing Web::Query
# testing Web::Query::LibXML
t/prev.t ............................ ok
t/processing-instructions.t ......... ok
t/remove.t .......................... ok
# testing Web::Query
# testing Web::Query::LibXML
t/remove_class.t .................... ok
t/replace_with.t .................... ok
t/special-attributes.t .............. ok
t/split.t ........................... ok
# testing Web::Query
# testing Web::Query::LibXML
t/store_comments.t .................. ok
t/tagname.t ......................... ok
t/xpath.t ........................... ok
All tests successful.
Files=48, Tests=207, 22 wallclock secs ( 0.21 usr  0.19 sys + 10.45 cusr  3.08 csys = 13.93 CPU)
Result: PASS

------------------------------
PREREQUISITES
------------------------------

Prerequisite modules loaded:

requires:

    Module                    Need     Have    
    ------------------------- -------- --------
    Exporter                  0        5.78    
    HTML::Entities            0        3.81    
    HTML::Selector::XPath     0.20     0.28    
    HTML::TreeBuilder::LibXML 0        0.27    
    HTML::TreeBuilder::XPath  0        0.14    
    List::Util                1.44     1.63    
    LWP::UserAgent            0        6.72    
    parent                    0        0.241   
    perl                      5.008005 5.018001
    Scalar::Util              0        1.63    
    strict                    0        1.07    
    warnings                  0        1.18    

build_requires:

    Module                    Need     Have    
    ------------------------- -------- --------
    Cwd                       0        3.75    
    ExtUtils::MakeMaker       0        7.70    
    File::Spec                0        3.75    
    FindBin                   0        1.51    
    IO::Handle                0        1.55    
    IPC::Open3                0        1.13    
    lib                       0        0.63    
    Test2::Tools::Exception   0        0.000159
    Test2::V0                 0        0.000159
    Test::Exception           0        0.43    
    Test::More                0        1.302196
    utf8                      0        1.10    

configure_requires:

    Module                    Need     Have    
    ------------------------- -------- --------
    ExtUtils::MakeMaker       0        7.70    


------------------------------
ENVIRONMENT AND OTHER CONTEXT
------------------------------

Environment variables:

    AUTOMATED_TESTING = 1
    LANG = en_US.UTF-8
    LANGUAGE = en_US:en
    PATH = /home/sand/bin:/usr/local/bin:/usr/bin:/bin:/usr/games:/usr/local/perl/bin:/usr/X11/bin:/sbin:/usr/sbin
    PERL5LIB = 
    PERL5OPT = 
    PERL5_CPANPLUS_IS_RUNNING = 3441886
    PERL5_CPAN_IS_RUNNING = 3441886
    PERL_CANARY_STABILITY_NOPROMPT = 1
    PERL_MM_USE_DEFAULT = 1
    PERL_USE_UNSAFE_INC = 1
    SHELL = /usr/bin/zsh
    TERM = screen

Perl special variables (and OS-specific diagnostics, for MSWin32):

    $^X = /home/sand/src/perl/repoperls/installed-perls/host/k93msid/v5.18.1/1e0c/bin/perl
    $UID/$EUID = 1005 / 1005
    $GID = 1005 1005
    $EGID = 1005 1005

Perl module toolchain versions installed:

    Module              Have    
    ------------------- --------
    CPAN                2.36    
    CPAN::Meta          2.150010
    Cwd                 3.75    
    ExtUtils::CBuilder  0.280236
    ExtUtils::Command   7.70    
    ExtUtils::Install   2.06    
    ExtUtils::MakeMaker 7.70    
    ExtUtils::Manifest  1.70    
    ExtUtils::ParseXS   3.51    
    File::Spec          3.75    
    JSON                4.10    
    JSON::PP            4.16    
    Module::Build       0.4234  
    Module::Signature   0.88    
    Parse::CPAN::Meta   2.150010
    Test2               1.302196
    Test::Harness       3.48    
    Test::More          1.302196
    YAML                1.30    
    YAML::Syck          1.34    
    version             0.9930  


--

Summary of my perl5 (revision 5 version 18 subversion 1) configuration:
  Derived from: 75c3005ee5b6ece3ad3c827cb300945f672c2bd1
  Platform:
    osname=linux, osvers=6.5.0-4-amd64, archname=x86_64-linux-thread-multi
    uname='linux k93msid 6.5.0-4-amd64 #1 smp preempt_dynamic debian 6.5.10-1 (2023-11-03) x86_64 gnulinux '
    config_args='-Dprefix=/home/sand/src/perl/repoperls/installed-perls/host/k93msid/v5.18.1/1e0c -Dmyhostname=k93msid -Dinstallusrbinperl=n -Uversiononly -Dusedevel -des -Ui_db -Dlibswanted=cl pthread socket inet nsl gdbm dbm malloc dl ld sun m crypt sec util c cposix posix ucb BSD gdbm_compat -Duseithreads -Uuselongdouble -DEBUGGING=-g'
    hint=recommended, useposix=true, d_sigaction=define
    useithreads=define, usemultiplicity=define
    useperlio=define, d_sfio=undef, uselargefiles=define, usesocks=undef
    use64bitint=define, use64bitall=define, uselongdouble=undef
    usemymalloc=n, bincompat5005=undef
  Compiler:
    cc='cc', ccflags ='-D_REENTRANT -D_GNU_SOURCE -fwrapv -fno-strict-aliasing -pipe -fstack-protector -I/usr/local/include -D_LARGEFILE_SOURCE -D_FILE_OFFSET_BITS=64',
    optimize='-O2 -g',
    cppflags='-D_REENTRANT -D_GNU_SOURCE -fwrapv -fno-strict-aliasing -pipe -fstack-protector -I/usr/local/include'
    ccversion='', gccversion='13.2.0', gccosandvers=''
    intsize=4, longsize=8, ptrsize=8, doublesize=8, byteorder=12345678
    d_longlong=define, longlongsize=8, d_longdbl=define, longdblsize=16
    ivtype='long', ivsize=8, nvtype='double', nvsize=8, Off_t='off_t', lseeksize=8
    alignbytes=8, prototype=define
  Linker and Libraries:
    ld='cc', ldflags =' -fstack-protector -L/usr/local/lib'
    libpth=/usr/local/lib /lib/x86_64-linux-gnu /lib/../lib /usr/lib/x86_64-linux-gnu /usr/lib/../lib /lib /usr/lib /lib64 /usr/lib64
    libs=-lpthread -lnsl -ldl -lm -lcrypt -lutil -lc
    perllibs=-lpthread -lnsl -ldl -lm -lcrypt -lutil -lc
    libc=/lib/x86_64-linux-gnu/libc.so.6, so=so, useshrplib=false, libperl=libperl.a
    gnulibc_version='2.37'
  Dynamic Linking:
    dlsrc=dl_dlopen.xs, dlext=so, d_dlsymun=undef, ccdlflags='-Wl,-E'
    cccdlflags='-fPIC', lddlflags='-shared -O2 -g -L/usr/local/lib -fstack-protector'


Characteristics of this binary (from libperl): 
  Compile-time options: HAS_TIMES MULTIPLICITY PERLIO_LAYERS
                        PERL_DONT_CREATE_GVSV
                        PERL_HASH_FUNC_ONE_AT_A_TIME_HARD
                        PERL_IMPLICIT_CONTEXT PERL_MALLOC_WRAP
                        PERL_PRESERVE_IVUV PERL_SAWAMPERSAND PERL_USE_DEVEL
                        USE_64_BIT_ALL USE_64_BIT_INT USE_ITHREADS
                        USE_LARGE_FILES USE_LOCALE USE_LOCALE_COLLATE
                        USE_LOCALE_CTYPE USE_LOCALE_NUMERIC USE_PERLIO
                        USE_PERL_ATOF USE_REENTRANT_API
  Locally applied patches:
	uncommitted-changes
  Built under linux
  Compiled at Nov 26 2023 20:25:51
  %ENV:
    PERL5LIB=""
    PERL5OPT=""
    PERL5_CPANPLUS_IS_RUNNING="3441886"
    PERL5_CPAN_IS_RUNNING="3441886"
    PERL_CANARY_STABILITY_NOPROMPT="1"
    PERL_MM_USE_DEFAULT="1"
    PERL_USE_UNSAFE_INC="1"
  @INC:
    /home/sand/src/perl/repoperls/installed-perls/host/k93msid/v5.18.1/1e0c/lib/site_perl/5.18.1/x86_64-linux-thread-multi
    /home/sand/src/perl/repoperls/installed-perls/host/k93msid/v5.18.1/1e0c/lib/site_perl/5.18.1
    /home/sand/src/perl/repoperls/installed-perls/host/k93msid/v5.18.1/1e0c/lib/5.18.1/x86_64-linux-thread-multi
    /home/sand/src/perl/repoperls/installed-perls/host/k93msid/v5.18.1/1e0c/lib/5.18.1
    .