cPanel-TaskQueue v0.903 Perl 5 v5.12.5 x86_64-linux

Status
Pass
From
Slaven Rezić
Dist
cPanel-TaskQueue v0.903
Platform
Perl 5 v5.12.5 x86_64-linux
Date
2022-04-13 23:00:17
ID
7cb6aec4-bb7d-11ec-83fb-5c551f24ea8f
This distribution has been tested as part of the CPAN Testers
project, supporting the Perl programming language.  See
http://wiki.cpantesters.org/ for more information or email
questions to cpan-testers-discuss@perl.org


--
Dear cPanel, L. L. C.,

This is a computer-generated report for cPanel-TaskQueue-0.903
on perl 5.12.5, created by CPAN-Reporter-1.2018.

Thank you for uploading your work to CPAN.  Congratulations!
All tests were successful.

Sections of this report:

    * Tester comments
    * Program output
    * Prerequisites
    * Environment and other context

------------------------------
TESTER COMMENTS
------------------------------

Additional comments from tester:

none provided

------------------------------
PROGRAM OUTPUT
------------------------------

Output from '/usr/bin/make test':

PERL_DL_NONLAZY=1 "/opt/perl-5.12.5/bin/perl" "-MExtUtils::Command::MM" "-MTest::Harness" "-e" "undef *Test::Harness::Switches; test_harness(0, 'blib/lib', 'blib/arch')" t/*.t
# Testing cPanel::TaskQueue 0.903
t/00.load.t ................................. ok
t/author-pod-syntax.t ....................... skipped: these tests are for testing by the author
t/statefile_bad_call_unlocked.t ............. ok
t/statefile_bad_policy.t .................... ok
t/statefile_filelocker_abandoned.t .......... ok
t/statefile_filelocker_bad_locks.t .......... ok
t/statefile_filelocker_bad_unlock.t ......... ok
t/statefile_filelocker_empty_lockfile.t ..... ok
t/statefile_filelocker_expired_lockfile.t ... ok
t/statefile_filelocker_new.t ................ ok
t/statefile_filelocker_pid_clash.t .......... ok
t/statefile_filelocker_unlock_empty.t ....... ok
t/statefile_load.t .......................... ok
t/statefile_load_save.t ..................... ok
t/statefile_logging_policy.t ................ ok
t/statefile_new_bad_args.t .................. ok
t/taskqueue_bad_statefile.t ................. ok
t/taskqueue_bad_yaml_statefile.t ............ ok
t/taskqueue_basics.t ........................ ok
t/taskqueue_child_processor.t ............... ok
t/taskqueue_ctrl.t .......................... ok
t/taskqueue_deferral_bug.t .................. ok
t/taskqueue_delete_unprocessed.t ............ ok
t/taskqueue_dupes_and_overrides.t ........... ok
t/taskqueue_find_commands.t ................. ok
t/taskqueue_find_task.t ..................... ok
t/taskqueue_load.t .......................... ok
t/taskqueue_logging_policy.t ................ ok
t/taskqueue_long_processes.t ................ ok
t/taskqueue_missing_dir.t ................... ok
t/taskqueue_new_bad_args.t .................. ok
t/taskqueue_parameter_changes.t ............. ok
t/taskqueue_pausing.t ....................... ok
t/taskqueue_plugin_manager.t ................ ok
t/taskqueue_plugin_manager_load_all.t ....... ok
t/taskqueue_plugin_manager_load_named.t ..... ok
t/taskqueue_processor.t ..................... ok
t/taskqueue_processor_checked_system.t ...... ok
t/taskqueue_processor_deferrable.t .......... ok
t/taskqueue_register_processors.t ........... ok
t/taskqueue_retries.t ....................... ok
t/taskqueue_scheduler.t ..................... ok
t/taskqueue_scheduler_bad_statefile.t ....... ok
t/taskqueue_scheduler_bad_yaml_statefile.t .. ok
t/taskqueue_scheduler_logging_policy.t ...... ok
t/taskqueue_scheduler_long_processes.t ...... ok
t/taskqueue_scheduler_token.t ............... ok
t/taskqueue_scheduler_token_yaml.t .......... ok
t/taskqueue_task.t .......................... ok
t/taskqueue_task_bad_new.t .................. ok
t/taskqueue_task_clones.t ................... ok
t/taskqueue_task_deferrable.t ............... ok
t/taskqueue_task_load.t ..................... ok
t/taskqueue_task_mutate.t ................... ok
t/taskqueue_task_reconstitute.t ............. ok
t/taskqueue_task_retries.t .................. ok
t/taskqueue_task_userdata.t ................. ok
All tests successful.
Files=57, Tests=805, 238 wallclock secs ( 0.24 usr  0.06 sys +  2.72 cusr  0.44 csys =  3.46 CPU)
Result: PASS

------------------------------
PREREQUISITES
------------------------------

Prerequisite modules loaded:

requires:

    Module              Need Have     
    ------------------- ---- ---------
    base                0    2.23     
    Fcntl               0    1.06     
    File::Path          0    2.18     
    File::Spec          0    3.75     
    Getopt::Long        0    2.52     
    parent              0    0.238    
    POSIX               0    1.19     
    Scalar::Util        0    1.60     
    Storable            0    3.25     
    strict              0    1.04     
    Term::ReadLine      0    1.05     
    Text::Wrap          0    2009.0305
    Unix::PID           0.21 0.23     
    warnings            0    1.09     
    YAML::Syck          0    1.34     

build_requires:

    Module              Need Have     
    ------------------- ---- ---------
    Carp                0    1.50     
    Cwd                 0    3.75     
    ExtUtils::MakeMaker 0    7.64     
    File::Temp          0    0.2311   
    FindBin             0    1.52     
    lib                 0    0.62     
    Test::Exception     0    0.43     
    Test::More          0    1.302190 

configure_requires:

    Module              Need Have     
    ------------------- ---- ---------
    ExtUtils::MakeMaker 0    7.64     


------------------------------
ENVIRONMENT AND OTHER CONTEXT
------------------------------

Environment variables:

    LANG = C
    PATH = /usr/local/bin:/usr/bin:/bin:/usr/local/sbin:/usr/sbin:/sbin:/home/cpansand/bin/linux-gnu:/home/cpansand/bin/sh:/home/cpansand/bin:/usr/games:/home/cpansand/devel:/home/eserte/src/srezic-misc/scripts
    PERL5LIB = 
    PERL5OPT = 
    PERL5_CPANPLUS_IS_RUNNING = 8730
    PERL5_CPAN_IS_RUNNING = 8730
    PERL5_CPAN_IS_RUNNING_IN_RECURSION = 5643,8730
    PERLDOC = -MPod::Perldoc::ToTextOverstrike
    PERL_BATCH = yes
    PERL_CANARY_STABILITY_NOPROMPT = 1
    PERL_CPAN_REPORTER_CONFIG = /var/tmp/cpansmoker-1023/2022041322/cpanreporter_000_config.ini
    PERL_EXTUTILS_AUTOINSTALL = --defaultdeps
    PERL_USE_UNSAFE_INC = 1
    SHELL = /usr/bin/zsh
    TERM = screen
    TMPDIR = /var/tmp/cpansmoker-1023/2022041322

Perl special variables (and OS-specific diagnostics, for MSWin32):

    $^X = /opt/perl-5.12.5/bin/perl
    $UID/$EUID = 1023 / 1023
    $GID = 1023 1023
    $EGID = 1023 1023

Perl module toolchain versions installed:

    Module              Have    
    ------------------- --------
    CPAN                2.33    
    CPAN::Meta          2.150010
    Cwd                 3.75    
    ExtUtils::CBuilder  0.280236
    ExtUtils::Command   7.64    
    ExtUtils::Install   2.20    
    ExtUtils::MakeMaker 7.64    
    ExtUtils::Manifest  1.70    
    ExtUtils::ParseXS   3.35    
    File::Spec          3.75    
    JSON                4.03    
    JSON::PP            4.08    
    Module::Build       0.4231  
    Module::Signature   0.88    
    Parse::CPAN::Meta   2.150010
    Test::Harness       3.42    
    Test::More          1.302190
    YAML                1.30    
    YAML::Syck          1.34    
    version             0.9929  


--

Summary of my perl5 (revision 5 version 12 subversion 5) configuration:
   
  Platform:
    osname=linux, osvers=4.9.0-16-amd64, archname=x86_64-linux
    uname='linux cloud11.bbbike.org 4.9.0-16-amd64 #1 smp debian 4.9.272-2 (2021-07-19) x86_64 gnulinux '
    config_args='-ds -e -Dprefix=/opt/perl-5.12.5 -Dcf_email=srezic@cpan.org'
    hint=recommended, useposix=true, d_sigaction=define
    useithreads=undef, usemultiplicity=undef
    useperlio=define, d_sfio=undef, uselargefiles=define, usesocks=undef
    use64bitint=define, use64bitall=define, uselongdouble=undef
    usemymalloc=n, bincompat5005=undef
  Compiler:
    cc='cc', ccflags ='-fwrapv -fno-strict-aliasing -pipe -fstack-protector -I/usr/local/include -D_LARGEFILE_SOURCE -D_FILE_OFFSET_BITS=64',
    optimize='-O2',
    cppflags='-fwrapv -fno-strict-aliasing -pipe -fstack-protector -I/usr/local/include'
    ccversion='', gccversion='6.3.0 20170516', gccosandvers=''
    intsize=4, longsize=8, ptrsize=8, doublesize=8, byteorder=12345678
    d_longlong=define, longlongsize=8, d_longdbl=define, longdblsize=16
    ivtype='long', ivsize=8, nvtype='double', nvsize=8, Off_t='off_t', lseeksize=8
    alignbytes=8, prototype=define
  Linker and Libraries:
    ld='cc', ldflags =' -fstack-protector -L/usr/local/lib'
    libpth=/usr/local/lib /lib/x86_64-linux-gnu /lib/../lib /usr/lib/x86_64-linux-gnu /usr/lib/../lib /lib /usr/lib
    libs=-lnsl -ldb -ldl -lm -lcrypt -lutil -lc
    perllibs=-lnsl -ldl -lm -lcrypt -lutil -lc
    libc=libc-2.24.so, so=so, useshrplib=false, libperl=libperl.a
    gnulibc_version='2.24'
  Dynamic Linking:
    dlsrc=dl_dlopen.xs, dlext=so, d_dlsymun=undef, ccdlflags='-Wl,-E'
    cccdlflags='-fPIC', lddlflags='-shared -O2 -L/usr/local/lib -fstack-protector'


Characteristics of this binary (from libperl): 
  Compile-time options: PERL_DONT_CREATE_GVSV PERL_MALLOC_WRAP USE_64_BIT_ALL
                        USE_64_BIT_INT USE_LARGE_FILES USE_PERLIO
                        USE_PERL_ATOF
  Locally applied patches:
	Devel::PatchPerl 2.08
  Built under linux
  Compiled at Sep  5 2021 12:37:59
  %ENV:
    PERL5LIB=""
    PERL5OPT=""
    PERL5_CPANPLUS_IS_RUNNING="8730"
    PERL5_CPAN_IS_RUNNING="8730"
    PERL5_CPAN_IS_RUNNING_IN_RECURSION="5643,8730"
    PERLDOC="-MPod::Perldoc::ToTextOverstrike"
    PERL_BATCH="yes"
    PERL_CANARY_STABILITY_NOPROMPT="1"
    PERL_CPAN_REPORTER_CONFIG="/var/tmp/cpansmoker-1023/2022041322/cpanreporter_000_config.ini"
    PERL_EXTUTILS_AUTOINSTALL="--defaultdeps"
    PERL_USE_UNSAFE_INC="1"
  @INC:
    /opt/perl-5.12.5/lib/site_perl/5.12.5/x86_64-linux
    /opt/perl-5.12.5/lib/site_perl/5.12.5
    /opt/perl-5.12.5/lib/5.12.5/x86_64-linux
    /opt/perl-5.12.5/lib/5.12.5
    .