Report for GitStore-0.17

Back
From: metabase:user:8b6fd446-25e2-11e5-a4fa-475d7339cf43
Subject: PASS GitStore-0.17 v5.20.2 GNU/Linux
Date: 2015-07-10T21:41:57Z

This distribution has been tested as part of the CPAN Testers
project, supporting the Perl programming language.  See
http://wiki.cpantesters.org/ for more information or email
questions to cpan-testers-discuss@perl.org


--
Dear Yanick Champoux,

This is a computer-generated report for GitStore-0.17
on perl 5.20.2, created by CPAN-Reporter-1.2011.

Thank you for uploading your work to CPAN.  Congratulations!
All tests were successful.

Sections of this report:

    * Tester comments
    * Program output
    * Prerequisites
    * Environment and other context

------------------------------
TESTER COMMENTS
------------------------------

Additional comments from tester:

none provided

------------------------------
PROGRAM OUTPUT
------------------------------

Output from '/usr/bin/make test':

PERL_DL_NONLAZY=1 "/usr/bin/perl" "-MExtUtils::Command::MM" "-MTest::Harness" "-e" "undef *Test::Harness::Switches; test_harness(0, 'blib/lib', 'blib/arch')" t/*.t
t/00-compile.t ................ ok
# Testing GitStore 0.17, Perl 5.020002, /usr/bin/perl
t/00-load.t ................... ok
# 
# 
# Generated by Dist::Zilla::Plugin::ReportVersions::Tiny v1.10
# perl: 5.020002 (wanted 5.006) on linux from /usr/bin/perl
# 
# Carp                                          => 1.36       (want any version)
# DateTime                                      => 1.18       (want any version)
# Exporter                                      => 5.70       (want any version)
# ExtUtils::MakeMaker                           => 7.04       (want any version)
# File::Spec                                    => 3.47       (want any version)
# FindBin                                       => 1.51       (want any version)
# Git::PurePerl                                 => 0.5        (want any version)
# IO::Handle                                    => 1.35       (want any version)
# IPC::Open3                                    => 1.16       (want any version)
# List::Util                                    => 1.42       (want any version)
# Moose                                         => 2.1405     (want any version)
# Moose::Role                                   => 2.1405     (want any version)
# Moose::Util::TypeConstraints                  => 2.1405     (want any version)
# Path::Class                                   => 0.35       (want any version)
# Path::Tiny                                    => 0.068      (want any version)
# Storable                                      => 2.51       (want any version)
# Test::More                                    => 1.001014   (want 0.88)   
# lib                                           => 0.63       (want any version)
# parent                                        => 0.231      (want any version)
# strict                                        => 1.08       (want any version)
# warnings                                      => 1.23       (want any version)
# 
# Thanks for using my code.  I hope it works for you.
# If not, please try and include this output in the bug report.
# That will help me reproduce the issue and solve your problem.
# 
t/000-report-versions-tiny.t .. ok
t/01-basic.t .................. ok
# creating gitstore at '/root/.local/share/.cpan/build/GitStore-0.17-SRlR3K/t/stores/8lrzBlR6jX'
t/02-next.t ................... ok
t/autocommit.t ................ ok
t/deleting-all.t .............. ok
t/history.t ................... ok
# creating gitstore at '/root/.local/share/.cpan/build/GitStore-0.17-SRlR3K/t/stores/6MIl1t4NaB'
# cloning into /root/.local/share/.cpan/build/GitStore-0.17-SRlR3K/t/stores/618yEiYm7T
Cloning into '/root/.local/share/.cpan/build/GitStore-0.17-SRlR3K/t/stores/618yEiYm7T'...
done. at t/invalid-objects.t line 36.
t/invalid-objects.t ........... ok
t/many-commits.t .............. ok
t/moosex-storage.t ............ ok
t/no-changes.t ................ ok
t/pod.t ....................... ok
t/serializer.t ................ ok
t/subpaths.t .................. ok
All tests successful.
Files=15, Tests=62, 44 wallclock secs ( 0.14 usr  0.03 sys + 40.44 cusr  1.78 csys = 42.39 CPU)
Result: PASS

------------------------------
PREREQUISITES
------------------------------

Prerequisite modules loaded:

requires:

    Module                       Need  Have    
    ---------------------------- ----- --------
    Carp                         0     1.36    
    DateTime                     0     1.18    
    Git::PurePerl                0     0.50    
    List::Util                   0     1.42    
    Moose                        0     2.1405  
    Moose::Role                  0     2.1405  
    Moose::Util::TypeConstraints 0     2.1405  
    Path::Class                  0     0.35    
    Path::Tiny                   0     0.068   
    perl                         5.006 5.020002
    Storable                     0     2.51    
    strict                       0     1.08    
    warnings                     0     1.23    

build_requires:

    Module                       Need  Have    
    ---------------------------- ----- --------
    Exporter                     0     5.70    
    ExtUtils::MakeMaker          0     7.04    
    File::Spec                   0     3.47    
    FindBin                      0     1.51    
    IO::Handle                   0     1.35    
    IPC::Open3                   0     1.16    
    lib                          0     0.63    
    parent                       0     0.231   
    Test::More                   0.88  1.001014

configure_requires:

    Module                       Need  Have    
    ---------------------------- ----- --------
    ExtUtils::MakeMaker          0     7.04    


------------------------------
ENVIRONMENT AND OTHER CONTEXT
------------------------------

Environment variables:

    LANG = en_US.UTF-8
    LD_LIBRARY_PATH = /usr/lib/alliance/lib:/usr/lib/alliance/lib
    PATH = /usr/lib/qt-3.3/bin:/root/perl5/bin:/usr/lib/ccache:/usr/local/bin:/usr/local/sbin:/usr/bin:/usr/sbin:/bin:/sbin:/usr/lib/alliance/bin:/opt/real/RealPlayer:/root/bin:/usr/lib/alliance/bin:/opt/real/RealPlayer
    PERL5LIB = /root/perl5/lib/perl5
    PERL5OPT = 
    PERL5_CPANPLUS_IS_RUNNING = 3016
    PERL5_CPAN_IS_RUNNING = 3016
    PERL_LOCAL_LIB_ROOT = /root/perl5
    PERL_MB_OPT = --install_base "/root/perl5"
    PERL_MM_OPT = INSTALL_BASE=/root/perl5
    SHELL = /bin/bash
    TERM = xterm-256color

Perl special variables (and OS-specific diagnostics, for MSWin32):

    $^X = /usr/bin/perl
    $UID/$EUID = 0 / 0
    $GID = 0 0
    $EGID = 0 0

Perl module toolchain versions installed:

    Module              Have    
    ------------------- --------
    CPAN                2.05    
    CPAN::Meta          2.150001
    Cwd                 3.47    
    ExtUtils::CBuilder  0.280220
    ExtUtils::Command   1.20    
    ExtUtils::Install   2.04    
    ExtUtils::MakeMaker 7.04    
    ExtUtils::Manifest  1.70    
    ExtUtils::ParseXS   3.24    
    File::Spec          3.47    
    JSON                2.90    
    JSON::PP            2.27300 
    Module::Build       0.4214  
    Module::Signature   0.79    
    Parse::CPAN::Meta   1.4414  
    Test::Harness       3.35    
    Test::More          1.001014
    YAML                1.15    
    YAML::Syck          1.29    
    version             0.9912  


--

Summary of my perl5 (revision 5 version 20 subversion 2) configuration:
   
  Platform:
    osname=linux, osvers=3.19.5-200.fc21.x86_64, archname=i386-linux-thread-multi
    uname='linux buildhw-08.phx2.fedoraproject.org 3.19.5-200.fc21.x86_64 #1 smp mon apr 20 19:51:56 utc 2015 i686 i686 i386 gnulinux '
    config_args='-des -Doptimize=-O2 -g -pipe -Wall -Werror=format-security -Wp,-D_FORTIFY_SOURCE=2 -fexceptions -fstack-protector-strong --param=ssp-buffer-size=4 -grecord-gcc-switches  -m32 -march=i686 -mtune=atom -fasynchronous-unwind-tables -Dccdlflags=-Wl,--enable-new-dtags -Dlddlflags=-shared -O2 -g -pipe -Wall -Werror=format-security -Wp,-D_FORTIFY_SOURCE=2 -fexceptions -fstack-protector-strong --param=ssp-buffer-size=4 -grecord-gcc-switches  -m32 -march=i686 -mtune=atom -fasynchronous-unwind-tables -Wl,-z,relro  -Dshrpdir=/usr/lib -DDEBUGGING=-g -Dversion=5.20.2 -Dmyhostname=localhost -Dperladmin=root@localhost -Dcc=gcc -Dcf_by=Red Hat, Inc. -Dprefix=/usr -Dvendorprefix=/usr -Dsiteprefix=/usr/local -Dsitelib=/usr/local/share/perl5 -Dsitearch=/usr/local/lib/perl5 -Dprivlib=/usr/share/perl5 -Dvendorlib=/usr/share/perl5/vendor_perl -Darchlib=/usr/lib/perl5 -Dvendorarch=/usr/lib/perl5/vendor_perl -Darchname=i386-linux-thread-multi -Duseshrplib -Dusethreads -Duseithreads -Dusedtrace=/usr/bin/dtrace -Duselargefiles -Dd_semctl_semun -Di_db -Ui_ndbm -Di_gdbm -Di_shadow -Di_syslog -Dman3ext=3pm -Duseperlio -Dinstallusrbinperl=n -Ubincompat5005 -Uversiononly -Dpager=/usr/bin/less -isr -Dd_gethostent_r_proto -Ud_endhostent_r_proto -Ud_sethostent_r_proto -Ud_endprotoent_r_proto -Ud_setprotoent_r_proto -Ud_endservent_r_proto -Ud_setservent_r_proto -Dscriptdir=/usr/bin -Dusesitecustomize'
    hint=recommended, useposix=true, d_sigaction=define
    useithreads=define, usemultiplicity=define
    use64bitint=undef, use64bitall=undef, uselongdouble=undef
    usemymalloc=n, bincompat5005=undef
  Compiler:
    cc='gcc', ccflags ='-D_REENTRANT -D_GNU_SOURCE -fwrapv -fno-strict-aliasing -pipe -fstack-protector -I/usr/local/include -D_LARGEFILE_SOURCE -D_FILE_OFFSET_BITS=64',
    optimize='-O2 -g -pipe -Wall -Werror=format-security -Wp,-D_FORTIFY_SOURCE=2 -fexceptions -fstack-protector-strong --param=ssp-buffer-size=4 -grecord-gcc-switches -m32 -march=i686 -mtune=atom -fasynchronous-unwind-tables',
    cppflags='-D_REENTRANT -D_GNU_SOURCE -fwrapv -fno-strict-aliasing -pipe -fstack-protector -I/usr/local/include'
    ccversion='', gccversion='5.1.1 20150422 (Red Hat 5.1.1-1)', gccosandvers=''
    intsize=4, longsize=4, ptrsize=4, doublesize=8, byteorder=1234
    d_longlong=define, longlongsize=8, d_longdbl=define, longdblsize=12
    ivtype='long', ivsize=4, nvtype='double', nvsize=8, Off_t='off_t', lseeksize=8
    alignbytes=4, prototype=define
  Linker and Libraries:
    ld='gcc', ldflags =' -fstack-protector -L/usr/local/lib'
    libpth=/usr/local/lib /usr/lib /lib
    libs=-lresolv -lnsl -lgdbm -ldb -ldl -lm -lcrypt -lutil -lpthread -lc -lgdbm_compat
    perllibs=-lresolv -lnsl -ldl -lm -lcrypt -lutil -lpthread -lc
    libc=libc-2.21.so, so=so, useshrplib=true, libperl=libperl.so
    gnulibc_version='2.21'
  Dynamic Linking:
    dlsrc=dl_dlopen.xs, dlext=so, d_dlsymun=undef, ccdlflags='-Wl,--enable-new-dtags'
    cccdlflags='-fPIC', lddlflags='-shared -O2 -g -pipe -Wall -Werror=format-security -Wp,-D_FORTIFY_SOURCE=2 -fexceptions -fstack-protector-strong --param=ssp-buffer-size=4 -grecord-gcc-switches -m32 -march=i686 -mtune=atom -fasynchronous-unwind-tables -Wl,-z,relro  -L/usr/local/lib'


Characteristics of this binary (from libperl): 
  Compile-time options: HAS_TIMES MULTIPLICITY PERLIO_LAYERS
                        PERL_DONT_CREATE_GVSV
                        PERL_HASH_FUNC_ONE_AT_A_TIME_HARD
                        PERL_IMPLICIT_CONTEXT PERL_MALLOC_WRAP
                        PERL_NEW_COPY_ON_WRITE PERL_PRESERVE_IVUV
                        USE_ITHREADS USE_LARGE_FILES USE_LOCALE
                        USE_LOCALE_COLLATE USE_LOCALE_CTYPE
                        USE_LOCALE_NUMERIC USE_PERLIO USE_PERL_ATOF
                        USE_REENTRANT_API USE_SITECUSTOMIZE
  Locally applied patches:
	Fedora Patch1: Removes date check, Fedora/RHEL specific
	Fedora Patch4: use libresolv instead of libbind
	Fedora Patch5: USE_MM_LD_RUN_PATH
	Fedora Patch6: Skip hostname tests, due to builders not being network capable
	Fedora Patch7: Dont run one io test due to random builder failures
	Fedora Patch15: Define SONAME for libperl.so
	Fedora Patch16: Install libperl.so to -Dshrpdir value
	Fedora Patch22: Document Math::BigInt::CalcEmu requires Math::BigInt (CPAN RT#85015)
	Fedora Patch25: Use stronger algorithm needed for FIPS in t/op/crypt.t (RT#121591)
	Fedora Patch26: Make *DBM_File desctructors thread-safe (RT#61912)
	Fedora Patch27: Report inaccesible file on failed require (RT#123270)
	Fedora Patch28: Use stronger algorithm needed for FIPS in t/op/taint.t (RT#123338)
	Fedora Patch29: Fix Errno.pm generation for GCC 5.0 (RT#123784)
	Fedora Patch30: Handle hexadecimal constants by h2ph (RT#123784)
	Fedora Patch31: Do not use -_h2ph_pre.ph from system at tests (RT#123784)
	Fedora Patch200: Link XS modules to libperl.so with EU::CBuilder on Linux
	Fedora Patch201: Link XS modules to libperl.so with EU::MM on Linux
  Built under linux
  Compiled at Jun  5 2015 10:35:36
  %ENV:
    PERL5LIB="/root/perl5/lib/perl5"
    PERL5OPT=""
    PERL5_CPANPLUS_IS_RUNNING="3016"
    PERL5_CPAN_IS_RUNNING="3016"
    PERL_LOCAL_LIB_ROOT="/root/perl5"
    PERL_MB_OPT="--install_base "/root/perl5""
    PERL_MM_OPT="INSTALL_BASE=/root/perl5"
  @INC:
    /root/perl5/lib/perl5/i386-linux-thread-multi
    /root/perl5/lib/perl5
    /usr/local/lib/perl5
    /usr/local/share/perl5
    /usr/lib/perl5/vendor_perl
    /usr/share/perl5/vendor_perl
    /usr/lib/perl5
    /usr/share/perl5
    .