Net-LDAP-Server-Test v0.22 Perl 5 v5.22.4 amd64-freebsd
- Status
- Pass
- From
- Slaven Rezić (SREZIC)
- Dist
-
Net-LDAP-Server-Test v0.22
- Platform
- Perl 5 v5.22.4 amd64-freebsd
- Date
- 2018-11-19 21:17:15
- ID
- 7cd88e64-ec40-11e8-9614-8fe41b4594fe
This distribution has been tested as part of the CPAN Testers
project, supporting the Perl programming language. See
http://wiki.cpantesters.org/ for more information or email
questions to cpan-testers-discuss@perl.org
--
Dear Peter Karman,
This is a computer-generated report for Net-LDAP-Server-Test-0.22
on perl 5.22.4, created by CPAN-Reporter-1.2018.
Thank you for uploading your work to CPAN. Congratulations!
All tests were successful.
Sections of this report:
* Tester comments
* Program output
* Prerequisites
* Environment and other context
------------------------------
TESTER COMMENTS
------------------------------
Additional comments from tester:
none provided
------------------------------
PROGRAM OUTPUT
------------------------------
Output from '/usr/bin/make test':
PERL_DL_NONLAZY=1 "/usr/perl5.22.4p/bin/perl" "-MExtUtils::Command::MM" "-MTest::Harness" "-e" "undef *Test::Harness::Switches; test_harness(0, 'blib/lib', 'blib/arch')" t/*.t
# Testing Net::LDAP::Server::Test 0.22, Perl 5.022004, /usr/perl5.22.4p/bin/perl
t/00-load.t ........... ok
# stop() server
t/01-ldap.t ........... ok
t/02-ad.t ............. ok
# stop() server
waitpid(50031, 0) took too long
kill(9,50031) returned 1
t/03-socket.t ......... ok
t/04attributes.t ...... ok
t/05-scope.t .......... ok
t/06-no-such-entry.t .. ok
# LDAP_SUCCESS==0
# LDAP_NO_SUCH_OBJECT==32
# LDAP_CONTROL_PAGED==1.2.840.113556.1.4.319
# LDAP_OPERATIONS_ERROR==1
# LDAP_UNWILLING_TO_PERFORM==53
# LDAP_ALREADY_EXISTS==68
# LDAP_TYPE_OR_VALUE_EXISTS==20
# LDAP_NO_SUCH_ATTRIBUTE==16
t/07-error-codes.t .... ok
t/boilerplate.t ....... ok
t/pod-coverage.t ...... skipped: Test::Pod::Coverage 1.04 required for testing POD coverage
t/pod.t ............... ok
All tests successful.
Files=11, Tests=80, 5 wallclock secs ( 0.01 usr 0.05 sys + 0.15 cusr 1.00 csys = 1.20 CPU)
Result: PASS
------------------------------
PREREQUISITES
------------------------------
Prerequisite modules loaded:
requires:
Module Need Have
------------------- -------- --------
Data::Dump 0 1.23
IO::Select 0 1.22
IO::Socket 0 1.38
Net::LDAP 0 0.65
Net::LDAP::Server 0.3 0.43
Net::LDAP::SID 0 0.001
perl 5.008003 5.022004
Test::More 0 1.302086
build_requires:
Module Need Have
------------------- -------- --------
ExtUtils::MakeMaker 0 7.04_02
configure_requires:
Module Need Have
------------------- -------- --------
ExtUtils::MakeMaker 0 7.04_02
------------------------------
ENVIRONMENT AND OTHER CONTEXT
------------------------------
Environment variables:
LC_ALL = de_DE.ISO8859-1
PATH = /usr/local/bin:/usr/bin:/bin:/usr/local/sbin:/usr/sbin:/sbin:/home/cpansand/bin/freebsd10.3:/home/cpansand/bin/sh:/home/cpansand/bin:/usr/games:/home/cpansand/devel:/home/eserte/src/srezic-misc/scripts
PERL5LIB = /home/cpansand/.cpan/build/2018111921/Net-LDAP-Server-0.43-e4CFWm/blib/arch:/home/cpansand/.cpan/build/2018111921/Net-LDAP-Server-0.43-e4CFWm/blib/lib:/home/cpansand/.cpan/build/2018111921/Net-LDAP-SID-0.001-aunB66/blib/arch:/home/cpansand/.cpan/build/2018111921/Net-LDAP-SID-0.001-aunB66/blib/lib:/home/cpansand/.cpan/build/2018111921/perl-ldap-0.65-wAheuR/blib/arch:/home/cpansand/.cpan/build/2018111921/perl-ldap-0.65-wAheuR/blib/lib:/home/cpansand/.cpan/build/2018111921/Convert-ASN1-0.27-wAWTbC/blib/arch:/home/cpansand/.cpan/build/2018111921/Convert-ASN1-0.27-wAWTbC/blib/lib:/home/cpansand/.cpan/build/2018111921/Text-Soundex-3.05-CeXklD/blib/arch:/home/cpansand/.cpan/build/2018111921/Text-Soundex-3.05-CeXklD/blib/lib
PERL5OPT =
PERL5_CPANPLUS_IS_RUNNING = 49415
PERL5_CPAN_IS_RUNNING = 49415
PERL5_CPAN_IS_RUNNING_IN_RECURSION = 12311,49415
PERLDOC = -MPod::Perldoc::ToTextOverstrike
PERL_BATCH = yes
PERL_CANARY_STABILITY_NOPROMPT = 1
PERL_CPAN_REPORTER_CONFIG = /var/tmp/cpansmoker-1023/2018111920/cpanreporter_000_config.ini
PERL_EXTUTILS_AUTOINSTALL = --defaultdeps
SHELL = /usr/local/bin/zsh
TERM = screen
TMPDIR = /var/tmp/cpansmoker-1023/2018111920
Perl special variables (and OS-specific diagnostics, for MSWin32):
$^X = /usr/perl5.22.4p/bin/perl
$UID/$EUID = 1023 / 1023
$GID = 1023 1023
$EGID = 1023 1023
Perl module toolchain versions installed:
Module Have
------------------- ----------
CPAN 2.11_01
CPAN::Meta 2.150001
Cwd 3.56_02
ExtUtils::CBuilder 0.280221
ExtUtils::Command 1.20_01
ExtUtils::Install 2.04
ExtUtils::MakeMaker 7.04_02
ExtUtils::Manifest 1.70
ExtUtils::ParseXS 3.28
File::Spec 3.56_02
JSON 2.94
JSON::PP 2.27300_01
Module::Build 0.4224
Module::Signature n/a
Parse::CPAN::Meta 1.4414_001
Test::Harness 3.35_01
Test::More 1.302086
YAML 1.23
YAML::Syck 1.30
version 0.9909
--
Summary of my perl5 (revision 5 version 22 subversion 4) configuration:
Platform:
osname=freebsd, osvers=10.3-release-p11, archname=amd64-freebsd
uname='freebsd cvrsnica-freebsd-101.herceg.de 10.3-release-p11 freebsd 10.3-release-p11 #0: mon oct 24 18:49:24 utc 2016 root@amd64-builder.daemonology.net:usrobjusrsrcsysgeneric amd64 '
config_args='-ds -e -Dprefix=/usr/perl5.22.4p -Dcf_email=srezic@cpan.org -Doptimize=-O2 -pipe'
hint=recommended, useposix=true, d_sigaction=define
useithreads=undef, usemultiplicity=undef
use64bitint=define, use64bitall=define, uselongdouble=undef
usemymalloc=n, bincompat5005=undef
Compiler:
cc='cc', ccflags ='-DHAS_FPSETMASK -DHAS_FLOATINGPOINT_H -fno-strict-aliasing -pipe -fstack-protector -I/usr/local/include -D_FORTIFY_SOURCE=2',
optimize='-O2 -pipe',
cppflags='-DHAS_FPSETMASK -DHAS_FLOATINGPOINT_H -fno-strict-aliasing -pipe -fstack-protector -I/usr/local/include'
ccversion='', gccversion='4.2.1 Compatible FreeBSD Clang 3.4.1 (tags/RELEASE_34/dot1-final 208032)', gccosandvers=''
intsize=4, longsize=8, ptrsize=8, doublesize=8, byteorder=12345678, doublekind=3
d_longlong=define, longlongsize=8, d_longdbl=define, longdblsize=16, longdblkind=3
ivtype='long', ivsize=8, nvtype='double', nvsize=8, Off_t='off_t', lseeksize=8
alignbytes=8, prototype=define
Linker and Libraries:
ld='cc', ldflags ='-pthread -Wl,-E -fstack-protector -L/usr/local/lib'
libpth=/usr/lib /usr/local/lib /usr/include/clang/3.4.1 /usr/lib
libs=-lpthread -lgdbm -lm -lcrypt -lutil -lc
perllibs=-lpthread -lm -lcrypt -lutil -lc
libc=, so=so, useshrplib=false, libperl=libperl.a
gnulibc_version=''
Dynamic Linking:
dlsrc=dl_dlopen.xs, dlext=so, d_dlsymun=undef, ccdlflags=' '
cccdlflags='-DPIC -fPIC', lddlflags='-shared -L/usr/local/lib -fstack-protector'
Characteristics of this binary (from libperl):
Compile-time options: HAS_TIMES PERLIO_LAYERS PERL_DONT_CREATE_GVSV
PERL_HASH_FUNC_ONE_AT_A_TIME_HARD PERL_MALLOC_WRAP
PERL_NEW_COPY_ON_WRITE PERL_PRESERVE_IVUV
USE_64_BIT_ALL USE_64_BIT_INT USE_LARGE_FILES
USE_LOCALE USE_LOCALE_COLLATE USE_LOCALE_CTYPE
USE_LOCALE_NUMERIC USE_LOCALE_TIME USE_PERLIO
USE_PERL_ATOF
Built under freebsd
Compiled at Jul 29 2017 11:44:10
%ENV:
PERL5LIB="/home/cpansand/.cpan/build/2018111921/Net-LDAP-Server-0.43-e4CFWm/blib/arch:/home/cpansand/.cpan/build/2018111921/Net-LDAP-Server-0.43-e4CFWm/blib/lib:/home/cpansand/.cpan/build/2018111921/Net-LDAP-SID-0.001-aunB66/blib/arch:/home/cpansand/.cpan/build/2018111921/Net-LDAP-SID-0.001-aunB66/blib/lib:/home/cpansand/.cpan/build/2018111921/perl-ldap-0.65-wAheuR/blib/arch:/home/cpansand/.cpan/build/2018111921/perl-ldap-0.65-wAheuR/blib/lib:/home/cpansand/.cpan/build/2018111921/Convert-ASN1-0.27-wAWTbC/blib/arch:/home/cpansand/.cpan/build/2018111921/Convert-ASN1-0.27-wAWTbC/blib/lib:/home/cpansand/.cpan/build/2018111921/Text-Soundex-3.05-CeXklD/blib/arch:/home/cpansand/.cpan/build/2018111921/Text-Soundex-3.05-CeXklD/blib/lib"
PERL5OPT=""
PERL5_CPANPLUS_IS_RUNNING="49415"
PERL5_CPAN_IS_RUNNING="49415"
PERL5_CPAN_IS_RUNNING_IN_RECURSION="12311,49415"
PERLDOC="-MPod::Perldoc::ToTextOverstrike"
PERL_BATCH="yes"
PERL_CANARY_STABILITY_NOPROMPT="1"
PERL_CPAN_REPORTER_CONFIG="/var/tmp/cpansmoker-1023/2018111920/cpanreporter_000_config.ini"
PERL_EXTUTILS_AUTOINSTALL="--defaultdeps"
@INC:
/home/cpansand/.cpan/build/2018111921/Net-LDAP-Server-0.43-e4CFWm/blib/arch
/home/cpansand/.cpan/build/2018111921/Net-LDAP-Server-0.43-e4CFWm/blib/lib
/home/cpansand/.cpan/build/2018111921/Net-LDAP-SID-0.001-aunB66/blib/arch
/home/cpansand/.cpan/build/2018111921/Net-LDAP-SID-0.001-aunB66/blib/lib
/home/cpansand/.cpan/build/2018111921/perl-ldap-0.65-wAheuR/blib/arch
/home/cpansand/.cpan/build/2018111921/perl-ldap-0.65-wAheuR/blib/lib
/home/cpansand/.cpan/build/2018111921/Convert-ASN1-0.27-wAWTbC/blib/arch
/home/cpansand/.cpan/build/2018111921/Convert-ASN1-0.27-wAWTbC/blib/lib
/home/cpansand/.cpan/build/2018111921/Text-Soundex-3.05-CeXklD/blib/arch
/home/cpansand/.cpan/build/2018111921/Text-Soundex-3.05-CeXklD/blib/lib
/usr/perl5.22.4p/lib/site_perl/5.22.4/amd64-freebsd
/usr/perl5.22.4p/lib/site_perl/5.22.4
/usr/perl5.22.4p/lib/5.22.4/amd64-freebsd
/usr/perl5.22.4p/lib/5.22.4
.