Back
From: metabase:user:322078bc-2aae-11df-837a-5e0a49663a4f
Subject: FAIL Safe-World-0.14 v5.12.2 SunOS/Solaris
Date: 2010-10-04T06:20:30Z
This distribution has been tested as part of the CPAN Testers
project, supporting the Perl programming language. See
http://wiki.cpantesters.org/ for more information or email
questions to cpan-testers-discuss@perl.org
--
Dear Graciliano Monteiro Passos,
This is a computer-generated error report created automatically by
CPANPLUS, version 0.9007. Testers personal comments may appear
at the end of this report.
Thank you for uploading your work to CPAN. However, it appears that
there were some problems testing your distribution.
TEST RESULTS:
Below is the error stack from stage 'make test':
[MSG] [Mon Oct 4 07:20:31 2010] Building Safe-Hole
/opt/SUNWspro/bin/cc -I/export/home/cpan/pit/rel/perl-5.12.2/lib/5.12.2/i86pc-solaris-thread-multi-64int/CORE -DXS_VERSION="0.13" -DVERSION="0.13" -KPIC -c -D_REENTRANT -DPTR_IS_LONG -D_LARGEFILE_SOURCE -D_FILE_OFFSET_BITS=64 -DPERL_USE_SAFE_PUTENV -O -o lib/Safe/Hole.o lib/Safe/Hole.c
ExtUtils::Mkbootstrap::Mkbootstrap('blib/arch/auto/Safe/Hole/Hole.bs')
/opt/SUNWspro/bin/cc -G -L/usr/lib -L/usr/ccs/lib -L/opt/SUNWspro/prod/lib -L/lib -o blib/arch/auto/Safe/Hole/Hole.so lib/Safe/Hole.o
[MSG] [Mon Oct 4 07:20:33 2010] MAKE TEST passed:
# Testing Safe::Hole 0.13, Perl 5.012002, /export/home/cpan/pit/rel/perl-5.12.2/bin/perl
t/00-load.t .......... ok
t/01-hole.t .......... ok
t/98-pod-coverage.t .. skipped: Test::Pod::Coverage 1.08 required for testing POD coverage
t/99-pod.t ........... skipped: Test::Pod 1.22 required for testing POD
All tests successful.
Files=4, Tests=34, 1 wallclock secs ( 0.12 usr 0.07 sys + 0.68 cusr 0.21 csys = 1.08 CPU)
Result: PASS
[MSG] [Mon Oct 4 07:20:34 2010] Sending test report for 'Safe-Hole-0.13'
[MSG] [Mon Oct 4 07:20:34 2010] Successfully sent 'pass' report for 'Safe-Hole-0.13'
[MSG] [Mon Oct 4 07:20:36 2010] cp lib/Safe/World/stderr.pm blib/lib/Safe/World/stderr.pm
cp lib/Safe/World/stdout.pm blib/lib/Safe/World/stdout.pm
cp lib/Safe/World/Compartment.pm blib/lib/Safe/World/Compartment.pm
cp lib/Safe/World/ScanPack.pm blib/lib/Safe/World/ScanPack.pm
cp lib/Safe/World/select.pm blib/lib/Safe/World/select.pm
cp lib/Safe/World/Scope.pm blib/lib/Safe/World/Scope.pm
cp lib/Safe/World.pm blib/lib/Safe/World.pm
cp lib/Safe/World/Hole.pm blib/lib/Safe/World/Hole.pm
cp lib/Safe/World/stdoutsimple.pm blib/lib/Safe/World/stdoutsimple.pm
Manifying blib/man3/Safe::World::Scope.3
Manifying blib/man3/Safe::World.3
Manifying blib/man3/Safe::World::Hole.3
[ERROR] [Mon Oct 4 07:20:37 2010] MAKE TEST failed: No such file or directory PERL_DL_NONLAZY=1 /export/home/cpan/pit/rel/perl-5.12.2/bin/perl "-Iblib/lib" "-Iblib/arch" test.pl
1..89
# Running under perl version 5.012002 for solaris
# Current time local: Mon Oct 4 07:20:36 2010
# Current time GMT: Mon Oct 4 06:20:36 2010
# Using Test.pm version 1.25_02
Unknown operator name "threadsv" at blib/lib/Safe/World/Compartment.pm line 95.
*** Error code 2
make: Fatal error: Command failed for target `test_dynamic'
[MSG] [Mon Oct 4 07:20:37 2010] DEFAULT 'proceed_on_test_failure' HANDLER RETURNING 'sub return value'
PREREQUISITES:
Here is a list of prerequisites you specified and versions we
managed to load:
Module Name Have Want
Hash::NoRef 0.03 0.03
Safe::Hole 0.13 0.08
Perl module toolchain versions installed:
Module Name Have
CPANPLUS 0.9007
CPANPLUS::Dist::Build 0.48
Cwd 3.33
ExtUtils::CBuilder 0.2703
ExtUtils::Command 1.16
ExtUtils::Install 1.55
ExtUtils::MakeMaker 6.56
ExtUtils::Manifest 1.58
ExtUtils::ParseXS 2.2206
File::Spec 3.33
Module::Build 0.3607
Test::Harness 3.22
Test::More 0.96
version 0.82
******************************** NOTE ********************************
The comments above are created mechanically, possibly without manual
checking by the sender. As there are many people performing automatic
tests on each upload to CPAN, it is likely that you will receive
identical messages about the same problem.
If you believe that the message is mistaken, please reply to the first
one with correction and/or additional informations, and do not take
it personally. We appreciate your patience. :)
**********************************************************************
Additional comments:
This report was machine-generated by CPANPLUS::Dist::YACSmoke 0.58.
Powered by minismokebox version 0.32
------------------------------
ENVIRONMENT AND OTHER CONTEXT
------------------------------
Environment variables:
AUTOMATED_TESTING = 1
LANG = en_GB.UTF-8
LC_COLLATE = en_GB.UTF-8
LC_CTYPE = en_GB.UTF-8
LC_MESSAGES = C
LC_MONETARY = en_GB.UTF-8
LC_NUMERIC = en_GB.UTF-8
PATH = /opt/SUNswpro/bin:/usr/ccs/bin:/usr/bin:/usr/sfw/bin
PERL5LIB = :/export/home/cpan/pit/rel/conf/perl-5.12.2/.cpanplus/5.12.2/build/HTML-Tagset-3.20/blib/lib:/export/home/cpan/pit/rel/conf/perl-5.12.2/.cpanplus/5.12.2/build/HTML-Tagset-3.20/blib/arch:/export/home/cpan/pit/rel/conf/perl-5.12.2/.cpanplus/5.12.2/build/HTML-Parser-3.68/blib/lib:/export/home/cpan/pit/rel/conf/perl-5.12.2/.cpanplus/5.12.2/build/HTML-Parser-3.68/blib/arch:/export/home/cpan/pit/rel/conf/perl-5.12.2/.cpanplus/5.12.2/build/Hash-NoRef-0.03/blib/lib:/export/home/cpan/pit/rel/conf/perl-5.12.2/.cpanplus/5.12.2/build/Hash-NoRef-0.03/blib/arch:/export/home/cpan/pit/rel/conf/perl-5.12.2/.cpanplus/5.12.2/build/Safe-Hole-0.13/blib/lib:/export/home/cpan/pit/rel/conf/perl-5.12.2/.cpanplus/5.12.2/build/Safe-Hole-0.13/blib/arch:/export/home/cpan/pit/rel/conf/perl-5.12.2/.cpanplus/5.12.2/build/Safe-World-0.14/blib/lib:/export/home/cpan/pit/rel/conf/perl-5.12.2/.cpanplus/5.12.2/build/Safe-World-0.14/blib/arch
PERL5_CPANPLUS_IS_RUNNING = 11027
PERL5_CPANPLUS_IS_VERSION = 0.9007
PERL5_MINISMOKEBOX = 0.32
PERL5_YACSMOKE_BASE = /export/home/cpan/pit/rel/conf/perl-5.12.2
PERL_EXTUTILS_AUTOINSTALL = --defaultdeps
PERL_MM_USE_DEFAULT = 1
SHELL = /usr/bin/bash
TERM = vt100
Perl special variables (and OS-specific diagnostics, for MSWin32):
Perl: $^X = /export/home/cpan/pit/rel/perl-5.12.2/bin/perl
UID: $< = 100
EUID: $> = 100
GID: $( = 100 100
EGID: $) = 100 100
-------------------------------
--
Summary of my perl5 (revision 5 version 12 subversion 2) configuration:
Platform:
osname=solaris, osvers=2.10, archname=i86pc-solaris-thread-multi-64int
uname='sunos sharpnel 5.10 generic_120012-14 i86pc i386 i86pc '
config_args='-des -Dprefix=/export/home/cpan/pit/rel/perl-5.12.2 -Dusethreads -Duse64bitint'
hint=recommended, useposix=true, d_sigaction=define
useithreads=define, usemultiplicity=define
useperlio=define, d_sfio=undef, uselargefiles=define, usesocks=undef
use64bitint=define, use64bitall=undef, uselongdouble=undef
usemymalloc=n, bincompat5005=undef
Compiler:
cc='/opt/SUNWspro/bin/cc', ccflags ='-D_REENTRANT -DPTR_IS_LONG -D_LARGEFILE_SOURCE -D_FILE_OFFSET_BITS=64 -DPERL_USE_SAFE_PUTENV',
optimize='-O',
cppflags='-D_REENTRANT -DPTR_IS_LONG'
ccversion='Sun C 5.9 SunOS_i386 2007/05/03', gccversion='', gccosandvers=''
intsize=4, longsize=4, ptrsize=4, doublesize=8, byteorder=12345678
d_longlong=define, longlongsize=8, d_longdbl=define, longdblsize=12
ivtype='long long', ivsize=8, nvtype='double', nvsize=8, Off_t='off_t', lseeksize=8
alignbytes=4, prototype=define
Linker and Libraries:
ld='/opt/SUNWspro/bin/cc', ldflags =' -L/usr/lib -L/usr/ccs/lib -L/opt/SUNWspro/prod/lib -L/lib '
libpth=/usr/lib /usr/ccs/lib /opt/SUNWspro/prod/lib /lib
libs=-lsocket -lnsl -ldl -lm -lpthread -lc
perllibs=-lsocket -lnsl -ldl -lm -lpthread -lc
libc=/lib/libc.so, so=so, useshrplib=false, libperl=libperl.a
gnulibc_version=''
Dynamic Linking:
dlsrc=dl_dlopen.xs, dlext=so, d_dlsymun=undef, ccdlflags=' '
cccdlflags='-KPIC', lddlflags='-G -L/usr/lib -L/usr/ccs/lib -L/opt/SUNWspro/prod/lib -L/lib'
Characteristics of this binary (from libperl):
Compile-time options: MULTIPLICITY PERL_DONT_CREATE_GVSV
PERL_IMPLICIT_CONTEXT PERL_MALLOC_WRAP
PERL_USE_SAFE_PUTENV USE_64_BIT_INT USE_ITHREADS
USE_LARGE_FILES USE_PERLIO USE_PERL_ATOF
USE_REENTRANT_API
Built under solaris
Compiled at Sep 28 2010 03:35:31
%ENV:
PERL5LIB=":/export/home/cpan/pit/rel/conf/perl-5.12.2/.cpanplus/5.12.2/build/HTML-Tagset-3.20/blib/lib:/export/home/cpan/pit/rel/conf/perl-5.12.2/.cpanplus/5.12.2/build/HTML-Tagset-3.20/blib/arch:/export/home/cpan/pit/rel/conf/perl-5.12.2/.cpanplus/5.12.2/build/HTML-Parser-3.68/blib/lib:/export/home/cpan/pit/rel/conf/perl-5.12.2/.cpanplus/5.12.2/build/HTML-Parser-3.68/blib/arch:/export/home/cpan/pit/rel/conf/perl-5.12.2/.cpanplus/5.12.2/build/Hash-NoRef-0.03/blib/lib:/export/home/cpan/pit/rel/conf/perl-5.12.2/.cpanplus/5.12.2/build/Hash-NoRef-0.03/blib/arch:/export/home/cpan/pit/rel/conf/perl-5.12.2/.cpanplus/5.12.2/build/Safe-Hole-0.13/blib/lib:/export/home/cpan/pit/rel/conf/perl-5.12.2/.cpanplus/5.12.2/build/Safe-Hole-0.13/blib/arch:/export/home/cpan/pit/rel/conf/perl-5.12.2/.cpanplus/5.12.2/build/Safe-World-0.14/blib/lib:/export/home/cpan/pit/rel/conf/perl-5.12.2/.cpanplus/5.12.2/build/Safe-World-0.14/blib/arch"
PERL5_CPANPLUS_IS_RUNNING="11027"
PERL5_CPANPLUS_IS_VERSION="0.9007"
PERL5_MINISMOKEBOX="0.32"
PERL5_YACSMOKE_BASE="/export/home/cpan/pit/rel/conf/perl-5.12.2"
PERL_EXTUTILS_AUTOINSTALL="--defaultdeps"
PERL_MM_USE_DEFAULT="1"
@INC:
/export/home/cpan/pit/rel/conf/perl-5.12.2/.cpanplus/5.12.2/build/HTML-Tagset-3.20/blib/lib
/export/home/cpan/pit/rel/conf/perl-5.12.2/.cpanplus/5.12.2/build/HTML-Tagset-3.20/blib/arch
/export/home/cpan/pit/rel/conf/perl-5.12.2/.cpanplus/5.12.2/build/HTML-Parser-3.68/blib/lib
/export/home/cpan/pit/rel/conf/perl-5.12.2/.cpanplus/5.12.2/build/HTML-Parser-3.68/blib/arch
/export/home/cpan/pit/rel/conf/perl-5.12.2/.cpanplus/5.12.2/build/Hash-NoRef-0.03/blib/lib
/export/home/cpan/pit/rel/conf/perl-5.12.2/.cpanplus/5.12.2/build/Hash-NoRef-0.03/blib/arch
/export/home/cpan/pit/rel/conf/perl-5.12.2/.cpanplus/5.12.2/build/Safe-Hole-0.13/blib/lib
/export/home/cpan/pit/rel/conf/perl-5.12.2/.cpanplus/5.12.2/build/Safe-Hole-0.13/blib/arch
/export/home/cpan/pit/rel/conf/perl-5.12.2/.cpanplus/5.12.2/build/Safe-World-0.14/blib/lib
/export/home/cpan/pit/rel/conf/perl-5.12.2/.cpanplus/5.12.2/build/Safe-World-0.14/blib/arch
/export/home/cpan/pit/rel/perl-5.12.2/lib/site_perl/5.12.2/i86pc-solaris-thread-multi-64int
/export/home/cpan/pit/rel/perl-5.12.2/lib/site_perl/5.12.2
/export/home/cpan/pit/rel/perl-5.12.2/lib/5.12.2/i86pc-solaris-thread-multi-64int
/export/home/cpan/pit/rel/perl-5.12.2/lib/5.12.2
.