Cassandra-Client v0.21 Perl 5 v5.39.2 x86_64-linux-quadmath
- Status
- Pass
- From
- Andreas J. König (ANDK)
- Dist
-
Cassandra-Client v0.21
- Platform
- Perl 5 v5.39.2 x86_64-linux-quadmath
- Date
- 2024-01-03 07:34:11
- ID
- 7cfe8140-aa0a-11ee-b786-b78c3c0b65ec
This distribution has been tested as part of the CPAN Testers
project, supporting the Perl programming language. See
http://wiki.cpantesters.org/ for more information or email
questions to cpan-testers-discuss@perl.org
--
Dear Tom van der Woerdt,
This is a computer-generated report for Cassandra-Client-0.21
on perl 5.39.2, created by CPAN-Reporter-1.2019.
Thank you for uploading your work to CPAN. Congratulations!
All tests were successful.
Sections of this report:
* Tester comments
* Program output
* Prerequisites
* Environment and other context
------------------------------
TESTER COMMENTS
------------------------------
Additional comments from tester:
this report is from an automated smoke testing program
and was not reviewed by a human for accuracy
------------------------------
PROGRAM OUTPUT
------------------------------
Output from '/usr/bin/make test':
"/home/sand/src/perl/repoperls/installed-perls/host/k93msid/v5.39.2/ec94/bin/perl" -MExtUtils::Command::MM -e 'cp_nonempty' -- Client.bs blib/arch/auto/Cassandra/Client/Client.bs 644
PERL_DL_NONLAZY=1 "/home/sand/src/perl/repoperls/installed-perls/host/k93msid/v5.39.2/ec94/bin/perl" "-MExtUtils::Command::MM" "-MTest::Harness" "-e" "undef *Test::Harness::Switches; test_harness(0, 'blib/lib', 'blib/arch')" t/*.t
# Testing Cassandra::Client 0.21, Perl 5.039002, /home/sand/src/perl/repoperls/installed-perls/host/k93msid/v5.39.2/ec94/bin/perl
t/00-load.t ............................. ok
t/01-connect.t .......................... skipped: Missing Cassandra test environment
t/02-sync-basic-crud.t .................. skipped: Missing Cassandra test environment
t/03-types.t ............................ ok
t/04-batch.t ............................ skipped: Missing Cassandra test environment
t/05-no-metadata.t ...................... skipped: Missing Cassandra test environment
t/06-async-utils.t ...................... ok
t/07-named-parameters.t ................. skipped: Missing Cassandra test environment
t/08-retries.t .......................... skipped: Missing Cassandra test environment
t/10-queue.t ............................ skipped: Missing Cassandra test environment
t/20-memleak.t .......................... skipped: Missing Cassandra test environment
t/40-multiple-async-queries-response.t .. skipped: Missing Cassandra test environment
t/50-bench.t ............................ skipped: Missing Cassandra test environment
t/99-long-loop.t ........................ skipped: Missing Cassandra test environment
t/author-pod-syntax.t ................... skipped: these tests are for testing by the author
All tests successful.
Files=15, Tests=291, 3 wallclock secs ( 0.05 usr 0.04 sys + 1.62 cusr 0.42 csys = 2.13 CPU)
Result: PASS
------------------------------
PREREQUISITES
------------------------------
Prerequisite modules loaded:
requires:
Module Need Have
------------------------ ----- --------
AnyEvent 0 7.17
AnyEvent::XSPromises 0 0
Clone 0.36 0.46
constant 0 1.33
Devel::GlobalDestruction 0.11 0.14
Encode 0 3.20
EV 4 4.33
Exporter 0 5.77
if 0 0.0610
IO::Socket::INET 0 1.52
IO::Socket::INET6 0 2.73
List::Util 0 1.63
Net::SSLeay 1.63 1.92
overload 0 1.37
parent 0 0.241
perl 5.010 5.039002
Ref::Util 0.008 0.204
Scalar::Util 0 1.63
Socket 0 2.037
strict 0 1.13
Sub::Current 0 0.03
Time::HiRes 0 1.9776
vars 0 1.05
warnings 0 1.67
XSLoader 0 0.32
build_requires:
Module Need Have
------------------------ ----- --------
AnyEvent 0 7.17
Compress::LZ4 0 0.25
Compress::Snappy 0 0.24
Data::Dumper 0 2.188
Devel::Cycle 0 1.12
ExtUtils::MakeMaker 0 7.70
File::Basename 0 2.86
lib 0 0.65
Test::Exception 0 0.43
Test::More 0 1.302195
configure_requires:
Module Need Have
------------------------ ----- --------
ExtUtils::MakeMaker 0 7.70
------------------------------
ENVIRONMENT AND OTHER CONTEXT
------------------------------
Environment variables:
AUTOMATED_TESTING = 1
LANG = en_US.UTF-8
LANGUAGE = en_US:en
PATH = /home/sand/bin:/usr/local/bin:/usr/bin:/bin:/usr/games:/usr/local/perl/bin:/usr/X11/bin:/sbin:/usr/sbin
PERL5LIB =
PERL5OPT =
PERL5_CPANPLUS_IS_RUNNING = 3907947
PERL5_CPAN_IS_RUNNING = 3907947
PERL_CANARY_STABILITY_NOPROMPT = 1
PERL_MM_USE_DEFAULT = 1
PERL_USE_UNSAFE_INC = 1
SHELL = /usr/bin/zsh
TERM = screen
Perl special variables (and OS-specific diagnostics, for MSWin32):
$^X = /home/sand/src/perl/repoperls/installed-perls/host/k93msid/v5.39.2/ec94/bin/perl
$UID/$EUID = 1005 / 1005
$GID = 1005 1005
$EGID = 1005 1005
Perl module toolchain versions installed:
Module Have
------------------- --------
CPAN 2.36
CPAN::Meta 2.150010
Cwd 3.90
ExtUtils::CBuilder 0.280239
ExtUtils::Command 7.70
ExtUtils::Install 2.22
ExtUtils::MakeMaker 7.70
ExtUtils::Manifest 1.75
ExtUtils::ParseXS 3.51
File::Spec 3.90
JSON 4.10
JSON::PP 4.16
Module::Build 0.4234
Module::Signature 0.88
Parse::CPAN::Meta 2.150010
Test2 1.302195
Test::Harness 3.47
Test::More 1.302195
YAML 1.30
YAML::Syck 1.34
version 0.9929
--
Summary of my perl5 (revision 5 version 39 subversion 2) configuration:
Commit id: e246fd63c3ad4034efc21113d44231047f6b2909
Platform:
osname=linux
osvers=6.1.0-7-amd64
archname=x86_64-linux-quadmath
uname='linux k93msid 6.1.0-7-amd64 #1 smp preempt_dynamic debian 6.1.20-1 (2023-03-19) x86_64 gnulinux '
config_args='-Dprefix=/home/sand/src/perl/repoperls/installed-perls/host/k93msid/v5.39.2/ec94 -Dmyhostname=k93msid -Dinstallusrbinperl=n -Uversiononly -Dusedevel -des -Ui_db -Dlibswanted=cl pthread socket inet nsl gdbm dbm malloc dl ld sun m crypt sec util c cposix posix ucb BSD gdbm_compat -Uuseithreads -Uuselongdouble -DEBUGGING=both -Dusequadmath'
hint=recommended
useposix=true
d_sigaction=define
useithreads=undef
usemultiplicity=undef
use64bitint=define
use64bitall=define
uselongdouble=undef
usemymalloc=n
default_inc_excludes_dot=define
Compiler:
cc='cc'
ccflags ='-fwrapv -DDEBUGGING -fno-strict-aliasing -pipe -fstack-protector-strong -I/usr/local/include -D_LARGEFILE_SOURCE -D_FILE_OFFSET_BITS=64 -D_FORTIFY_SOURCE=2'
optimize='-O2 -g'
cppflags='-fwrapv -DDEBUGGING -fno-strict-aliasing -pipe -fstack-protector-strong -I/usr/local/include'
ccversion=''
gccversion='12.2.0'
gccosandvers=''
intsize=4
longsize=8
ptrsize=8
doublesize=8
byteorder=12345678
doublekind=3
d_longlong=define
longlongsize=8
d_longdbl=define
longdblsize=16
longdblkind=3
ivtype='long'
ivsize=8
nvtype='__float128'
nvsize=16
Off_t='off_t'
lseeksize=8
alignbytes=16
prototype=define
Linker and Libraries:
ld='cc'
ldflags =' -fstack-protector-strong -L/usr/local/lib'
libpth=/usr/local/lib /usr/lib/x86_64-linux-gnu /usr/lib /usr/lib64
libs=-lpthread -lnsl -ldl -lm -lcrypt -lutil -lc -lquadmath
perllibs=-lpthread -lnsl -ldl -lm -lcrypt -lutil -lc -lquadmath
libc=/lib/x86_64-linux-gnu/libc.so.6
so=so
useshrplib=false
libperl=libperl.a
gnulibc_version='2.36'
Dynamic Linking:
dlsrc=dl_dlopen.xs
dlext=so
d_dlsymun=undef
ccdlflags='-Wl,-E'
cccdlflags='-fPIC'
lddlflags='-shared -O2 -g -L/usr/local/lib -fstack-protector-strong'
Characteristics of this binary (from libperl):
Compile-time options:
DEBUGGING
HAS_LONG_DOUBLE
HAS_STRTOLD
HAS_TIMES
PERLIO_LAYERS
PERL_COPY_ON_WRITE
PERL_DONT_CREATE_GVSV
PERL_HASH_FUNC_SIPHASH13
PERL_HASH_USE_SBOX32
PERL_MALLOC_WRAP
PERL_OP_PARENT
PERL_PRESERVE_IVUV
PERL_USE_DEVEL
PERL_USE_SAFE_PUTENV
USE_64_BIT_ALL
USE_64_BIT_INT
USE_LARGE_FILES
USE_LOCALE
USE_LOCALE_COLLATE
USE_LOCALE_CTYPE
USE_LOCALE_NUMERIC
USE_LOCALE_TIME
USE_PERLIO
USE_PERL_ATOF
USE_QUADMATH
Built under linux
Compiled at Aug 21 2023 09:32:45
%ENV:
PERL5LIB=""
PERL5OPT=""
PERL5_CPANPLUS_IS_RUNNING="3907947"
PERL5_CPAN_IS_RUNNING="3907947"
PERL_CANARY_STABILITY_NOPROMPT="1"
PERL_MM_USE_DEFAULT="1"
PERL_USE_UNSAFE_INC="1"
@INC:
/home/sand/src/perl/repoperls/installed-perls/host/k93msid/v5.39.2/ec94/lib/site_perl/5.39.2/x86_64-linux-quadmath
/home/sand/src/perl/repoperls/installed-perls/host/k93msid/v5.39.2/ec94/lib/site_perl/5.39.2
/home/sand/src/perl/repoperls/installed-perls/host/k93msid/v5.39.2/ec94/lib/5.39.2/x86_64-linux-quadmath
/home/sand/src/perl/repoperls/installed-perls/host/k93msid/v5.39.2/ec94/lib/5.39.2
.