DateTime-Format-Strptime v1.76 Perl 5 v5.30.0 OpenBSD.amd64-openbsd
- Status
- Pass
- From
- Nigel Horne
- Dist
-
DateTime-Format-Strptime v1.76
- Platform
- Perl 5 v5.30.0 OpenBSD.amd64-openbsd
- Date
- 2019-07-19 19:57:50
- ID
- 7cff4562-aa5f-11e9-8fa9-99a29f1e7dde
This distribution has been tested as part of the CPAN Testers
project, supporting the Perl programming language. See
http://wiki.cpantesters.org/ for more information or email
questions to cpan-testers-discuss@perl.org
--
Dear Dave Rolsky,
This is a computer-generated report for DateTime-Format-Strptime-1.76
on perl 5.30.0, created by CPAN-Reporter-1.2018.
Thank you for uploading your work to CPAN. Congratulations!
All tests were successful.
Sections of this report:
* Tester comments
* Program output
* Prerequisites
* Environment and other context
------------------------------
TESTER COMMENTS
------------------------------
Additional comments from tester:
this report is from an automated smoke testing program
and was not reviewed by a human for accuracy
------------------------------
PROGRAM OUTPUT
------------------------------
Output from '/usr/bin/make test':
PERL_DL_NONLAZY=1 "/home/njh/perl5/perlbrew/perls/perl-5.30.0/bin/perl5.30.0" "-MExtUtils::Command::MM" "-MTest::Harness" "-e" "undef *Test::Harness::Switches; test_harness(0, 'blib/lib', 'blib/arch')" t/*.t
#
# Versions for all modules listed in MYMETA.json (including optional ones):
#
# === Configure Requires ===
#
# Module Want Have
# ------------------- ---- ----
# ExtUtils::MakeMaker any 7.36
#
# === Configure Suggests ===
#
# Module Want Have
# -------- ------- ----
# JSON::PP 2.27300 4.02
#
# === Build Requires ===
#
# Module Want Have
# ------------------- ---- ----
# ExtUtils::MakeMaker any 7.36
#
# === Test Requires ===
#
# Module Want Have
# ------------------- ---- --------
# ExtUtils::MakeMaker any 7.36
# File::Spec any 3.78
# Test::Builder any 1.302162
# Test::Fatal any 0.014
# Test::More 0.96 1.302162
# Test::Warnings any 0.026
# lib any 0.65
# utf8 any 1.22
#
# === Test Recommends ===
#
# Module Want Have
# ---------- -------- --------
# CPAN::Meta 2.120900 2.150010
#
# === Runtime Requires ===
#
# Module Want Have
# -------------------------- ---- -----
# Carp any 1.50
# DateTime 1.00 1.51
# DateTime::Locale 1.23 1.24
# DateTime::Locale::Base any 1.24
# DateTime::Locale::FromData any 1.24
# DateTime::TimeZone 2.09 2.35
# Exporter any 5.73
# Params::ValidationCompiler any 0.30
# Specio 0.33 0.43
# Specio::Declare any 0.43
# Specio::Exporter any 0.43
# Specio::Library::Builtins any 0.43
# Specio::Library::String any 0.43
# Try::Tiny any 0.30
# constant any 1.33
# parent any 0.237
# strict any 1.11
# warnings any 1.44
#
t/00-report-prereqs.t ... ok
t/basic.t ............... ok
t/edge.t ................ ok
t/errors.t .............. ok
t/format-datetime.t ..... ok
t/format-with-locale.t .. ok
t/import.t .............. ok
t/locale-de.t ........... ok
t/locale-en.t ........... ok
t/locale-ga.t ........... ok
t/locale-pt.t ........... ok
t/locale-zh.t ........... ok
t/zones.t ............... ok
All tests successful.
Files=13, Tests=142, 38 wallclock secs ( 0.78 usr 0.28 sys + 26.85 cusr 4.50 csys = 32.41 CPU)
Result: PASS
------------------------------
PREREQUISITES
------------------------------
Prerequisite modules loaded:
requires:
Module Need Have
-------------------------- ---- --------
Carp 0 1.50
constant 0 1.33
DateTime 1.00 1.51
DateTime::Locale 1.23 1.24
DateTime::Locale::Base 0 1.24
DateTime::Locale::FromData 0 1.24
DateTime::TimeZone 2.09 2.35
Exporter 0 5.73
Params::ValidationCompiler 0 0.30
parent 0 0.237
Specio 0.33 0.43
Specio::Declare 0 0.43
Specio::Exporter 0 0.43
Specio::Library::Builtins 0 0.43
Specio::Library::String 0 0.43
strict 0 1.11
Try::Tiny 0 0.30
warnings 0 1.44
build_requires:
Module Need Have
-------------------------- ---- --------
ExtUtils::MakeMaker 0 7.36
File::Spec 0 3.78
lib 0 0.65
Test::Builder 0 1.302162
Test::Fatal 0 0.014
Test::More 0.96 1.302162
Test::Warnings 0 0.026
utf8 0 1.22
configure_requires:
Module Need Have
-------------------------- ---- --------
ExtUtils::MakeMaker 0 7.36
------------------------------
ENVIRONMENT AND OTHER CONTEXT
------------------------------
Environment variables:
AUTOMATED_TESTING = 1
PATH = /home/njh/perl5/perlbrew/bin:/home/njh/perl5/perlbrew/perls/perl-5.30.0/bin:src/njh/smoker/bin:/usr/bin:/bin:/usr/sbin:/sbin:/usr/X11R6/bin:/usr/local/bin:/usr/local/sbin
PERL5LIB =
PERL5OPT =
PERL5_CPANPLUS_IS_RUNNING = 89086
PERL5_CPAN_IS_RUNNING = 89086
PERL5_CPAN_IS_RUNNING_IN_RECURSION = 53364,89086
PERLBREW_HOME = /home/njh/.perlbrew
PERLBREW_MANPATH = /home/njh/perl5/perlbrew/perls/perl-5.30.0/man
PERLBREW_PATH = /home/njh/perl5/perlbrew/bin:/home/njh/perl5/perlbrew/perls/perl-5.30.0/bin
PERLBREW_PERL = perl-5.30.0
PERLBREW_ROOT = /home/njh/perl5/perlbrew
PERLBREW_SHELLRC_VERSION = 0.84
PERLBREW_VERSION = 0.84
PERL_USE_UNSAFE_INC = 1
SHELL = /bin/sh
TMPDIR = /tmp/testwrapper.33227
Perl special variables (and OS-specific diagnostics, for MSWin32):
$^X = /home/njh/perl5/perlbrew/perls/perl-5.30.0/bin/perl5.30.0
$UID/$EUID = 1000 / 1000
$GID = 1000 1000 0
$EGID = 1000 1000 0
Perl module toolchain versions installed:
Module Have
------------------- --------
CPAN 2.26
CPAN::Meta 2.150010
Cwd 3.78
ExtUtils::CBuilder 0.280231
ExtUtils::Command 7.36
ExtUtils::Install 2.14
ExtUtils::MakeMaker 7.36
ExtUtils::Manifest 1.72
ExtUtils::ParseXS 3.40
File::Spec 3.78
JSON 4.02
JSON::PP 4.02
Module::Build 0.4229
Module::Signature n/a
Parse::CPAN::Meta 2.150010
Test::Harness 3.42
Test::More 1.302162
YAML 1.29
YAML::Syck n/a
version 0.9924
--
Summary of my perl5 (revision 5 version 30 subversion 0) configuration:
Platform:
osname=openbsd
osvers=6.4
archname=OpenBSD.amd64-openbsd
uname='openbsd netgate1.bandsman.co.uk 6.4 generic.mp#9 amd64 '
config_args='-de -Dprefix=/home/njh/perl5/perlbrew/perls/perl-5.30.0 -Dusedevel -Accflags=-O2 -W -Wformat=2 -Wswitch -Wshadow -Wwrite-strings -Wuninitialized -Wall -pipe -mtune=native -march=native -fomit-frame-pointer -ftree-vectorize -fdiagnostics-color=auto -Aeval:scriptdir=/home/njh/perl5/perlbrew/perls/perl-5.30.0/bin'
hint=recommended
useposix=true
d_sigaction=define
useithreads=undef
usemultiplicity=undef
use64bitint=define
use64bitall=define
uselongdouble=undef
usemymalloc=n
default_inc_excludes_dot=define
bincompat5005=undef
Compiler:
cc='cc'
ccflags ='-O2 -W -Wformat=2 -Wswitch -Wshadow -Wwrite-strings -Wuninitialized -Wall -pipe -mtune=native -march=native -fomit-frame-pointer -ftree-vectorize -fdiagnostics-color=auto -fno-strict-aliasing -fstack-protector-strong -I/usr/local/include -D_FORTIFY_SOURCE=2'
optimize='-O2'
cppflags='-O2 -W -Wformat=2 -Wswitch -Wshadow -Wwrite-strings -Wuninitialized -Wall -pipe -mtune=native -march=native -fomit-frame-pointer -ftree-vectorize -fdiagnostics-color=auto -fno-strict-aliasing -fstack-protector-strong -I/usr/local/include'
ccversion=''
gccversion='4.2.1 Compatible OpenBSD Clang 6.0.0 (tags/RELEASE_600/final)'
gccosandvers=''
intsize=4
longsize=8
ptrsize=8
doublesize=8
byteorder=12345678
doublekind=3
d_longlong=define
longlongsize=8
d_longdbl=define
longdblsize=16
longdblkind=3
ivtype='long'
ivsize=8
nvtype='double'
nvsize=8
Off_t='off_t'
lseeksize=8
alignbytes=8
prototype=define
Linker and Libraries:
ld='cc'
ldflags ='-Wl,-E -fstack-protector-strong -L/usr/local/lib'
libpth=/usr/lib /usr/local/lib
libs=-lpthread -lm -lutil -lc
perllibs=-lpthread -lm -lutil -lc
libc=/usr/lib/libc.so.92.5
so=so
useshrplib=false
libperl=libperl.a
gnulibc_version=''
Dynamic Linking:
dlsrc=dl_dlopen.xs
dlext=so
d_dlsymun=undef
ccdlflags=' '
cccdlflags='-DPIC -fPIC '
lddlflags='-shared -fPIC -L/usr/local/lib -fstack-protector-strong'
Characteristics of this binary (from libperl):
Compile-time options:
HAS_TIMES
PERLIO_LAYERS
PERL_COPY_ON_WRITE
PERL_DONT_CREATE_GVSV
PERL_MALLOC_WRAP
PERL_OP_PARENT
PERL_PRESERVE_IVUV
PERL_USE_DEVEL
USE_64_BIT_ALL
USE_64_BIT_INT
USE_LARGE_FILES
USE_LOCALE
USE_LOCALE_COLLATE
USE_LOCALE_CTYPE
USE_LOCALE_NUMERIC
USE_LOCALE_TIME
USE_PERLIO
USE_PERL_ATOF
Locally applied patches:
Devel::PatchPerl 1.48
Built under openbsd
Compiled at May 23 2019 22:44:03
%ENV:
PERL5LIB=""
PERL5OPT=""
PERL5_CPANPLUS_IS_RUNNING="89086"
PERL5_CPAN_IS_RUNNING="89086"
PERL5_CPAN_IS_RUNNING_IN_RECURSION="53364,89086"
PERLBREW_HOME="/home/njh/.perlbrew"
PERLBREW_MANPATH="/home/njh/perl5/perlbrew/perls/perl-5.30.0/man"
PERLBREW_PATH="/home/njh/perl5/perlbrew/bin:/home/njh/perl5/perlbrew/perls/perl-5.30.0/bin"
PERLBREW_PERL="perl-5.30.0"
PERLBREW_ROOT="/home/njh/perl5/perlbrew"
PERLBREW_SHELLRC_VERSION="0.84"
PERLBREW_VERSION="0.84"
PERL_USE_UNSAFE_INC="1"
@INC:
/home/njh/perl5/perlbrew/perls/perl-5.30.0/lib/site_perl/5.30.0/OpenBSD.amd64-openbsd
/home/njh/perl5/perlbrew/perls/perl-5.30.0/lib/site_perl/5.30.0
/home/njh/perl5/perlbrew/perls/perl-5.30.0/lib/5.30.0/OpenBSD.amd64-openbsd
/home/njh/perl5/perlbrew/perls/perl-5.30.0/lib/5.30.0
.