Back
From: metabase:user:7298ebcc-b357-11e4-8d18-8eca7e4756b9
Subject: PASS namespace-autoclean-0.24 v5.10.1 GNU/Linux
Date: 2015-03-31T12:14:32Z
This distribution has been tested as part of the CPAN Testers
project, supporting the Perl programming language. See
http://wiki.cpantesters.org/ for more information or email
questions to cpan-testers-discuss@perl.org
--
Dear ETHER,
This is a computer-generated report for namespace-autoclean-0.24
on perl 5.10.1, created by App::cpanminus::reporter 0.12 (1.7027).
Thank you for uploading your work to CPAN. Congratulations!
All tests were successful.
Sections of this report:
* Tester comments
* Program output
* Prerequisites
* Environment and other context
------------------------------
TESTER COMMENTS
------------------------------
Additional comments from tester:
none provided
------------------------------
PROGRAM OUTPUT
------------------------------
Output from '':
Building and testing namespace-autoclean-0.24
cp lib/namespace/autoclean.pm blib/lib/namespace/autoclean.pm
#
# Versions for all modules listed in MYMETA.json (including optional ones):
#
# === Configure Requires ===
#
# Module Want Have
# ------------------- ----- -----
# Module::Build::Tiny 0.039 0.039
#
# === Test Requires ===
#
# Module Want Have
# ------------------- ---- --------
# Carp any 1.36
# ExtUtils::MakeMaker any 7.04
# File::Basename any 2.77
# File::Spec any 3.30
# Scalar::Util any 1.41
# Test::More 0.88 1.001014
# Test::Requires any 0.08
# base any 2.14
# constant any 1.17
# overload any 1.07
#
# === Test Recommends ===
#
# Module Want Have
# ---------- -------- --------
# CPAN::Meta 2.120900 2.150001
#
# === Runtime Requires ===
#
# Module Want Have
# -------------------- ---- ----
# B::Hooks::EndOfScope 0.12 0.14
# List::Util any 1.41
# Sub::Identify any 0.10
# namespace::clean 0.20 0.25
# strict any 1.04
# warnings any 1.06
#
# === Other Modules ===
#
# Module Want Have
# ----------------------------- ---- -------
# Class::MOP any 2.1403
# Moo any missing
# Moose any 2.1403
# MooseX::Role::WithOverloading any missing
# Mouse any missing
# Mouse::PurePerl any missing
# Sub::Install any 0.928
# Sub::Name any 0.13
#
t/00-report-prereqs.t ...... ok
t/also.t ................... ok
t/basic.t .................. ok
t/broken_meta.t ............ ok
t/cleanee.t ................ ok
t/constant.t ............... ok
t/except.t ................. ok
t/matchclean.t ............. ok
t/moo.t .................... skipped: Test requires module 'Moo' but it's not found
t/moose-withoverloading.t .. skipped: Test requires module 'MooseX::Role::WithOverloading' but it's not found
t/moose.t .................. ok
t/mouse-pp.t ............... skipped: Test requires module 'Mouse' but it's not found
t/mouse.t .................. skipped: Test requires module 'Mouse' but it's not found
t/overload.t ............... ok
t/sub-install.t ............ ok
t/sub-name.t ............... ok
All tests successful.
Files=16, Tests=76, 1 wallclock secs ( 0.06 usr 0.03 sys + 0.97 cusr 0.09 csys = 1.15 CPU)
Result: PASS
------------------------------
PREREQUISITES
------------------------------
Prerequisite modules loaded:
runtime:
Module Need Have
-------------------- ----- --------
! B::Hooks::EndOfScope 0.12 n/a
List::Util 0 1.21
! namespace::clean 0.20 n/a
perl 5.006 5.010001
strict 0 1.04
! Sub::Identify 0 n/a
warnings 0 1.06
configure:
Module Need Have
-------------------- ----- --------
! Module::Build::Tiny 0.039 n/a
perl 5.006 5.010001
------------------------------
ENVIRONMENT AND OTHER CONTEXT
------------------------------
Environment variables:
PATH = /home/mojolicious/perl5/perlbrew/bin:/home/mojolicious/perl5/perlbrew/perls/perl-5.20.1/bin:/usr/local/bin:/usr/bin:/bin:/usr/local/games:/usr/games
PERLBREW_BASHRC_VERSION = 0.73
PERLBREW_HOME = /home/mojolicious/.perlbrew
PERLBREW_MANPATH = /home/mojolicious/perl5/perlbrew/perls/perl-5.20.1/man
PERLBREW_PATH = /home/mojolicious/perl5/perlbrew/bin:/home/mojolicious/perl5/perlbrew/perls/perl-5.20.1/bin
PERLBREW_PERL = perl-5.20.1
PERLBREW_ROOT = /home/mojolicious/perl5/perlbrew
PERLBREW_VERSION = 0.73
SHELL = /bin/bash
TERM = xterm
Perl special variables (and OS-specific diagnostics, for MSWin32):
EGID = 1003 1003
EUID = 1003
EXECUTABLE_NAME = /home/mojolicious/perl5/perlbrew/perls/perl-5.10.1/bin/perl
GID = 1003 1003
UID = 1003
Perl module toolchain versions installed:
Module Have
------------------- --------
CPAN 1.9402
CPAN::Meta 2.143240
Cwd 3.30
ExtUtils::CBuilder 0.280220
ExtUtils::Command 1.16
ExtUtils::Install 1.54
ExtUtils::MakeMaker 7.04
ExtUtils::Manifest 1.65
ExtUtils::ParseXS 3.24
File::Spec 3.30
JSON 2.90
JSON::PP 2.27203
Module::Build 0.4211
Module::Signature n/a
Parse::CPAN::Meta 1.4414
Test::Harness 3.17
Test::More 1.001014
YAML n/a
YAML::Syck n/a
version 0.9912
--
Summary of my perl5 (revision 5 version 10 subversion 1) configuration:
Platform:
osname=linux, osvers=3.13.0-042stab094.8, archname=x86_64-linux
uname='linux lvps92-51-161-142.dedicated.hosteurope.de 3.13.0-042stab094.8 #1 smp tue dec 16 20:36:56 msk 2014 x86_64 x86_64 x86_64 gnulinux '
config_args='-de -Dprefix=/home/mojolicious/perl5/perlbrew/perls/perl-5.10.1 -Aeval:scriptdir=/home/mojolicious/perl5/perlbrew/perls/perl-5.10.1/bin'
hint=recommended, useposix=true, d_sigaction=define
useithreads=undef, usemultiplicity=undef
useperlio=define, d_sfio=undef, uselargefiles=define, usesocks=undef
use64bitint=define, use64bitall=define, uselongdouble=undef
usemymalloc=n, bincompat5005=undef
Compiler:
cc='cc', ccflags ='-fno-strict-aliasing -pipe -fstack-protector -I/usr/local/include -D_LARGEFILE_SOURCE -D_FILE_OFFSET_BITS=64',
optimize='-O2',
cppflags='-fno-strict-aliasing -pipe -fstack-protector -I/usr/local/include'
ccversion='', gccversion='4.8.2', gccosandvers=''
intsize=4, longsize=8, ptrsize=8, doublesize=8, byteorder=12345678
d_longlong=define, longlongsize=8, d_longdbl=define, longdblsize=16
ivtype='long', ivsize=8, nvtype='double', nvsize=8, Off_t='off_t', lseeksize=8
alignbytes=8, prototype=define
Linker and Libraries:
ld='cc', ldflags =' -fstack-protector -L/usr/local/lib'
libpth=/usr/local/lib /lib/x86_64-linux-gnu /lib/../lib /usr/lib/x86_64-linux-gnu /usr/lib/../lib /lib /usr/lib
libs=-lnsl -ldl -lm -lcrypt -lutil -lc
perllibs=-lnsl -ldl -lm -lcrypt -lutil -lc
libc=libc-2.19.so, so=so, useshrplib=false, libperl=libperl.a
gnulibc_version='2.19'
Dynamic Linking:
dlsrc=dl_dlopen.xs, dlext=so, d_dlsymun=undef, ccdlflags='-Wl,-E'
cccdlflags='-fPIC', lddlflags='-shared -O2 -L/usr/local/lib -fstack-protector'
Characteristics of this binary (from libperl):
Compile-time options: PERL_DONT_CREATE_GVSV PERL_MALLOC_WRAP USE_64_BIT_ALL
USE_64_BIT_INT USE_LARGE_FILES USE_PERLIO
Locally applied patches:
Devel::PatchPerl 1.30
Built under linux
Compiled at Mar 5 2015 11:33:38
%ENV:
PERLBREW_BASHRC_VERSION="0.73"
PERLBREW_HOME="/home/mojolicious/.perlbrew"
PERLBREW_MANPATH="/home/mojolicious/perl5/perlbrew/perls/perl-5.20.1/man"
PERLBREW_PATH="/home/mojolicious/perl5/perlbrew/bin:/home/mojolicious/perl5/perlbrew/perls/perl-5.20.1/bin"
PERLBREW_PERL="perl-5.20.1"
PERLBREW_ROOT="/home/mojolicious/perl5/perlbrew"
PERLBREW_VERSION="0.73"
@INC:
/home/mojolicious/perl5/perlbrew/perls/perl-5.10.1/lib/5.10.1/x86_64-linux
/home/mojolicious/perl5/perlbrew/perls/perl-5.10.1/lib/5.10.1
/home/mojolicious/perl5/perlbrew/perls/perl-5.10.1/lib/site_perl/5.10.1/x86_64-linux
/home/mojolicious/perl5/perlbrew/perls/perl-5.10.1/lib/site_perl/5.10.1
.