Back
From: metabase:user:314402c4-2aae-11df-837a-5e0a49663a4f
Subject: PASS Bot-BasicBot-Pluggable-1.10 v5.16.3 FreeBSD
Date: 2017-03-30T17:37:04Z
This distribution has been tested as part of the CPAN Testers
project, supporting the Perl programming language. See
http://wiki.cpantesters.org/ for more information or email
questions to cpan-testers-discuss@perl.org
--
Dear David Precious,
This is a computer-generated report for Bot-BasicBot-Pluggable-1.10
on perl 5.16.3, created by CPAN-Reporter-1.2018.
Thank you for uploading your work to CPAN. Congratulations!
All tests were successful.
Sections of this report:
* Tester comments
* Program output
* Prerequisites
* Environment and other context
------------------------------
TESTER COMMENTS
------------------------------
Additional comments from tester:
none provided
------------------------------
PROGRAM OUTPUT
------------------------------
Output from './Build test':
t/00bootstrap.t ........... ok
t/01module_base.t ......... ok
Loading Auth from Bot/BasicBot/Pluggable/Module/Auth.pm at /usr/home/eserte/.cpan/build/2017033018/Bot-BasicBot-Pluggable-1.10-2/blib/lib/Bot/BasicBot/Pluggable.pm line 104.
t/02module_auth.t ......... ok
t/03store.t ............... ok
t/03store_dbi.t ........... ok
t/03store_deep.t .......... ok
t/03store_memory.t ........ ok
t/03store_storable.t ...... ok
Loading Karma from Bot/BasicBot/Pluggable/Module/Karma.pm at /usr/home/eserte/.cpan/build/2017033018/Bot-BasicBot-Pluggable-1.10-2/blib/lib/Bot/BasicBot/Pluggable.pm line 104.
Use of uninitialized value $param in substitution (s///) at /usr/home/eserte/.cpan/build/2017033018/Bot-BasicBot-Pluggable-1.10-2/blib/lib/Bot/BasicBot/Pluggable/Module/Karma.pm line 65.
t/04karma.t ............... ok
Loading Infobot from Bot/BasicBot/Pluggable/Module/Infobot.pm at /usr/home/eserte/.cpan/build/2017033018/Bot-BasicBot-Pluggable-1.10-2/blib/lib/Bot/BasicBot/Pluggable.pm line 104.
t/05infobot.t ............. ok
Loading Title from Bot/BasicBot/Pluggable/Module/Title.pm at /usr/home/eserte/.cpan/build/2017033018/Bot-BasicBot-Pluggable-1.10-2/blib/lib/Bot/BasicBot/Pluggable.pm line 104.
Loading Infobot from Bot/BasicBot/Pluggable/Module/Infobot.pm at /usr/home/eserte/.cpan/build/2017033018/Bot-BasicBot-Pluggable-1.10-2/blib/lib/Bot/BasicBot/Pluggable.pm line 104.
t/06title.t ............... ok
Loading Auth from Bot/BasicBot/Pluggable/Module/Auth.pm at /usr/home/eserte/.cpan/build/2017033018/Bot-BasicBot-Pluggable-1.10-2/blib/lib/Bot/BasicBot/Pluggable.pm line 104.
Loading Loader from Bot/BasicBot/Pluggable/Module/Loader.pm at /usr/home/eserte/.cpan/build/2017033018/Bot-BasicBot-Pluggable-1.10-2/blib/lib/Bot/BasicBot/Pluggable.pm line 104.
t/07app_defaults.t ........ ok
Loading Karma from Bot/BasicBot/Pluggable/Module/Karma.pm at /usr/home/eserte/.cpan/build/2017033018/Bot-BasicBot-Pluggable-1.10-2/blib/lib/Bot/BasicBot/Pluggable.pm line 104.
Loading Auth from Bot/BasicBot/Pluggable/Module/Auth.pm at /usr/home/eserte/.cpan/build/2017033018/Bot-BasicBot-Pluggable-1.10-2/blib/lib/Bot/BasicBot/Pluggable.pm line 104.
t/08app_commandline.t ..... ok
Loading Loader from Bot/BasicBot/Pluggable/Module/Loader.pm at /usr/home/eserte/.cpan/build/2017033018/Bot-BasicBot-Pluggable-1.10-2/blib/lib/Bot/BasicBot/Pluggable.pm line 104.
Loading Karma from Bot/BasicBot/Pluggable/Module/Karma.pm at /usr/home/eserte/.cpan/build/2017033018/Bot-BasicBot-Pluggable-1.10-2/blib/lib/Bot/BasicBot/Pluggable.pm line 104.
Loading Auth from Bot/BasicBot/Pluggable/Module/Auth.pm at /usr/home/eserte/.cpan/build/2017033018/Bot-BasicBot-Pluggable-1.10-2/blib/lib/Bot/BasicBot/Pluggable.pm line 104.
t/09app_configfile.t ...... ok
t/100critic.t ............. skipped: Author test. Set $ENV{TEST_AUTHOR} to a true value to run.
t/101tidy.t ............... skipped: Author test. Set $ENV{TEST_AUTHOR} to a true value to run.
Loading Foo from ./Foo.pm at /usr/home/eserte/.cpan/build/2017033018/Bot-BasicBot-Pluggable-1.10-2/blib/lib/Bot/BasicBot/Pluggable.pm line 104.
Loading Bar from ./modules/Bar.pm at /usr/home/eserte/.cpan/build/2017033018/Bot-BasicBot-Pluggable-1.10-2/blib/lib/Bot/BasicBot/Pluggable.pm line 104.
t/10modules_not_in_inc.t .. ok
t/author-pod-syntax.t ..... skipped: these tests are for testing by the author
All tests successful.
Files=18, Tests=248, 19 wallclock secs ( 0.20 usr 0.07 sys + 14.99 cusr 1.80 csys = 17.06 CPU)
Result: PASS
------------------------------
PREREQUISITES
------------------------------
Prerequisite modules loaded:
requires:
Module Need Have
---------------------------- ------ --------
base 0 2.18
Bot::BasicBot 0.60 0.89
Carp 0 1.38
CGI 0 4.35
Config::Find 0 0.30
constant 0 1.33
Crypt::SaltedHash 0.06 0.09
Data::Dumper 0 2.161
DBI 0 1.636
DBM::Deep 0 2.0011
File::Copy 0 2.23
File::Spec 0 3.62
File::Temp 0 0.2304
lib 0 0.63
List::MoreUtils 0 0.418
Log::Log4perl 1.11 1.48
Log::Log4perl::Level 0 0
LWP::UserAgent 0 6.24
Module::Load 0 0.32
Module::Pluggable 0 5.1
Moose 0 2.2001
Moose::Util::TypeConstraints 0 2.2001
! MooseX::GetOpt 0 n/a
MooseX::Getopt::Dashes 0 0.71
MooseX::SimpleConfig 0 0.11
perl v5.8.0 5.016003
POE 0 1.367
Socket 0 2.024
Storable 0 2.51
strict 0 1.07
Text::Unidecode 0 1.30
Try::Tiny 0 0.28
URI 0 1.71
URI::Find::Simple 0 1.06
URI::Title 0 1.89
warnings 0 1.13
XML::Feed 0 0.53
build_requires:
Module Need Have
---------------------------- ------ --------
DBD::SQLite 0 1.54
FindBin 0 1.51
Module::Build 0.28 0.4222
Test::More 0 1.302078
YAML::XS 0 0.63
configure_requires:
Module Need Have
---------------------------- ------ --------
ExtUtils::MakeMaker 0 7.24
Module::Build 0.28 0.4222
------------------------------
ENVIRONMENT AND OTHER CONTEXT
------------------------------
Environment variables:
LC_ALL = de_DE.ISO8859-1
PATH = /usr/local/bin:/usr/bin:/bin:/usr/local/sbin:/usr/sbin:/sbin:/home/cpansand/bin/freebsd9.3:/home/cpansand/bin/sh:/home/cpansand/bin:/usr/games:/home/cpansand/devel:/usr/home/eserte/src/srezic-misc/scripts
PERL5LIB =
PERL5OPT =
PERL5_CPANPLUS_IS_RUNNING = 52927
PERL5_CPAN_IS_RUNNING = 52927
PERL5_CPAN_IS_RUNNING_IN_RECURSION = 52875,52927
PERLDOC = -MPod::Perldoc::ToTextOverstrike
PERL_BATCH = yes
PERL_CANARY_STABILITY_NOPROMPT = 1
PERL_CPAN_REPORTER_CONFIG = /var/tmp/cpansmoker-1023/2017033018/cpanreporter_000_config.ini
PERL_EXTUTILS_AUTOINSTALL = --defaultdeps
SHELL = /usr/local/bin/zsh
TERM = screen
TMPDIR = /var/tmp/cpansmoker-1023/2017033018
Perl special variables (and OS-specific diagnostics, for MSWin32):
$^X = /usr/perl5.16.3t/bin/perl5.16.3
$UID/$EUID = 1023 / 1023
$GID = 1023 1023
$EGID = 1023 1023
Perl module toolchain versions installed:
Module Have
------------------- --------
CPAN 2.16
CPAN::Meta 2.150010
Cwd 3.62
ExtUtils::CBuilder 0.280224
ExtUtils::Command 7.24
ExtUtils::Install 2.04
ExtUtils::MakeMaker 7.24
ExtUtils::Manifest 1.70
ExtUtils::ParseXS 3.30
File::Spec 3.62
JSON 2.90
JSON::PP 2.27400
Module::Build 0.4222
Module::Signature 0.81
Parse::CPAN::Meta 2.150010
Test::Harness 3.36
Test::More 1.302078
YAML 1.20
YAML::Syck 1.29
version 0.9916
--
Summary of my perl5 (revision 5 version 16 subversion 3) configuration:
Platform:
osname=freebsd, osvers=9.2-release-p4, archname=amd64-freebsd-thread-multi
uname='freebsd cvrsnica-freebsd-92 9.2-release-p4 freebsd 9.2-release-p4 #0: tue apr 8 18:08:22 utc 2014 root@amd64-builder.daemonology.net:usrobjusrsrcsysgeneric amd64 '
config_args='-ds -e -Dprefix=/usr/perl5.16.3t -Dusethreads'
hint=recommended, useposix=true, d_sigaction=define
useithreads=define, usemultiplicity=define
useperlio=define, d_sfio=undef, uselargefiles=define, usesocks=undef
use64bitint=define, use64bitall=define, uselongdouble=undef
usemymalloc=n, bincompat5005=undef
Compiler:
cc='cc', ccflags ='-DHAS_FPSETMASK -DHAS_FLOATINGPOINT_H -fno-strict-aliasing -pipe -fstack-protector -I/usr/local/include',
optimize='-O',
cppflags='-DHAS_FPSETMASK -DHAS_FLOATINGPOINT_H -fno-strict-aliasing -pipe -fstack-protector -I/usr/local/include'
ccversion='', gccversion='4.2.1 20070831 patched [FreeBSD]', gccosandvers=''
intsize=4, longsize=8, ptrsize=8, doublesize=8, byteorder=12345678
d_longlong=define, longlongsize=8, d_longdbl=define, longdblsize=16
ivtype='long', ivsize=8, nvtype='double', nvsize=8, Off_t='off_t', lseeksize=8
alignbytes=8, prototype=define
Linker and Libraries:
ld='cc', ldflags ='-pthread -Wl,-E -fstack-protector -L/usr/local/lib'
libpth=/usr/lib /usr/local/lib
libs=-lgdbm -lm -lcrypt
perllibs=-lm -lcrypt
libc=, so=so, useshrplib=false, libperl=libperl.a
gnulibc_version=''
Dynamic Linking:
dlsrc=dl_dlopen.xs, dlext=so, d_dlsymun=undef, ccdlflags=' '
cccdlflags='-DPIC -fPIC', lddlflags='-shared -L/usr/local/lib -fstack-protector'
Characteristics of this binary (from libperl):
Compile-time options: HAS_TIMES MULTIPLICITY PERLIO_LAYERS
PERL_DONT_CREATE_GVSV PERL_IMPLICIT_CONTEXT
PERL_MALLOC_WRAP PERL_PRESERVE_IVUV USE_64_BIT_ALL
USE_64_BIT_INT USE_ITHREADS USE_LARGE_FILES
USE_LOCALE USE_LOCALE_COLLATE USE_LOCALE_CTYPE
USE_LOCALE_NUMERIC USE_PERLIO USE_PERL_ATOF
USE_REENTRANT_API
Built under freebsd
Compiled at May 16 2014 07:49:48
%ENV:
PERL5LIB=""
PERL5OPT=""
PERL5_CPANPLUS_IS_RUNNING="52927"
PERL5_CPAN_IS_RUNNING="52927"
PERL5_CPAN_IS_RUNNING_IN_RECURSION="52875,52927"
PERLDOC="-MPod::Perldoc::ToTextOverstrike"
PERL_BATCH="yes"
PERL_CANARY_STABILITY_NOPROMPT="1"
PERL_CPAN_REPORTER_CONFIG="/var/tmp/cpansmoker-1023/2017033018/cpanreporter_000_config.ini"
PERL_EXTUTILS_AUTOINSTALL="--defaultdeps"
@INC:
/usr/perl5.16.3t/lib/site_perl/5.16.3/amd64-freebsd-thread-multi
/usr/perl5.16.3t/lib/site_perl/5.16.3
/usr/perl5.16.3t/lib/5.16.3/amd64-freebsd-thread-multi
/usr/perl5.16.3t/lib/5.16.3
.