Report for Test-Net-RabbitMQ-0.13

Back
From: metabase:user:1eed3a18-483e-11e2-a87b-a3931c712682
Subject: PASS Test-Net-RabbitMQ-0.13 v5.23.8 Mac OS X
Date: 2016-02-21T23:33:19Z

This distribution has been tested as part of the CPAN Testers
project, supporting the Perl programming language.  See
http://wiki.cpantesters.org/ for more information or email
questions to cpan-testers-discuss@perl.org


--
Dear Dave Rolsky,

This is a computer-generated report for Test-Net-RabbitMQ-0.13
on perl 5.23.8, created by CPAN-Reporter-1.2015.

Thank you for uploading your work to CPAN.  Congratulations!
All tests were successful.

Sections of this report:

    * Tester comments
    * Program output
    * Prerequisites
    * Environment and other context

------------------------------
TESTER COMMENTS
------------------------------

Additional comments from tester:

none provided

------------------------------
PROGRAM OUTPUT
------------------------------

Output from '/usr/bin/make test':

PERL_DL_NONLAZY=1 "/Users/stas/perl5/perlbrew/perls/perl-5.23.8/bin/perl5.23.8" "-MExtUtils::Command::MM" "-MTest::Harness" "-e" "undef *Test::Harness::Switches; test_harness(0, 'blib/lib', 'blib/arch')" t/*.t
t/00-compile.t ............ ok
# 
# Versions for all modules listed in MYMETA.json (including optional ones):
# 
# === Configure Requires ===
# 
#     Module              Want Have
#     ------------------- ---- ----
#     ExtUtils::MakeMaker  any 7.10
# 
# === Build Requires ===
# 
#     Module              Want Have
#     ------------------- ---- ----
#     ExtUtils::MakeMaker  any 7.10
# 
# === Test Requires ===
# 
#     Module              Want     Have
#     ------------------- ---- --------
#     ExtUtils::MakeMaker  any     7.10
#     File::Spec           any     3.62
#     IO::Handle           any     1.35
#     IPC::Open3           any     1.20
#     Test::Exception      any     0.43
#     Test::More          0.96 1.001014
# 
# === Test Recommends ===
# 
#     Module         Want     Have
#     ---------- -------- --------
#     CPAN::Meta 2.120900 2.150005
# 
# === Runtime Requires ===
# 
#     Module      Want   Have
#     ----------- ---- ------
#     Math::Int64 0.34   0.54
#     Moose        any 2.1605
#     strict       any   1.10
#     warnings     any   1.35
# 
t/00-report-prereqs.t ..... ok
t/ack.t ................... ok
t/author-eol.t ............ skipped: these tests are for testing by the author
t/author-no-tabs.t ........ skipped: these tests are for testing by the author
t/author-pod-spell.t ...... skipped: these tests are for testing by the author
t/channels.t .............. ok
t/connections.t ........... ok
t/fifo.t .................. ok
t/pubsub.t ................ ok
t/queue.t ................. ok
t/release-cpan-changes.t .. skipped: these tests are for release candidate testing
t/release-pod-coverage.t .. skipped: these tests are for release candidate testing
t/release-pod-no404s.t .... skipped: these tests are for release candidate testing
t/release-pod-syntax.t .... skipped: these tests are for release candidate testing
t/release-portability.t ... skipped: these tests are for release candidate testing
t/release-test-version.t .. skipped: these tests are for release candidate testing
t/simple.t ................ ok
t/tx.t .................... ok
t/wildcard.t .............. ok
All tests successful.
Files=20, Tests=62,  4 wallclock secs ( 0.07 usr  0.04 sys +  3.44 cusr  0.29 csys =  3.84 CPU)
Result: PASS

------------------------------
PREREQUISITES
------------------------------

Prerequisite modules loaded:

requires:

    Module              Need     Have    
    ------------------- -------- --------
    Math::Int64         0.34     0.54    
    Moose               0        2.1605  
    perl                5.006    5.023008
    strict              0        1.10    
    warnings            0        1.35    

build_requires:

    Module              Need     Have    
    ------------------- -------- --------
    ExtUtils::MakeMaker 0        7.10    
    File::Spec          0        3.62    
    IO::Handle          0        1.35    
    IPC::Open3          0        1.20    
    Test::Exception     0        0.43    
    Test::More          0.96     1.001014

configure_requires:

    Module              Need     Have    
    ------------------- -------- --------
    ExtUtils::MakeMaker 0        7.10    

opt_build_requires:

    Module              Need     Have    
    ------------------- -------- --------
    CPAN::Meta          2.120900 2.150005


------------------------------
ENVIRONMENT AND OTHER CONTEXT
------------------------------

Environment variables:

    LANG = en_US.UTF-8
    LC_ALL = en_US.UTF-8
    LC_CTYPE = UTF-8
    NONINTERACTIVE_TESTING = 1
    PATH = /Users/stas/perl5/perlbrew/bin:/Users/stas/perl5/perlbrew/perls/perl-5.23.8/bin:/Users/stas/.vim/bin:/Users/stas/bin:/Users/stas/node_modules/.bin:/opt/local/Library/Frameworks/Python.framework/Versions/2.7/bin:/opt/local/lib/postgresql92/bin:/opt/local/bin:/opt/local/sbin:/opt/local/libexec/ccache:/usr/local/bin:/usr/bin:/bin:/usr/sbin:/sbin:/opt/X11/bin:/Users/stas/.vim/bin:/Users/stas/bin:/Users/stas/node_modules/.bin:/opt/local/Library/Frameworks/Python.framework/Versions/2.7/bin:/opt/local/lib/postgresql92/bin:/opt/local/bin:/opt/local/sbin:/opt/local/libexec/ccache
    PERL5LIB = 
    PERL5OPT = 
    PERL5_CPANPLUS_IS_RUNNING = 14666
    PERL5_CPAN_IS_RUNNING = 14666
    PERLBREW_BASHRC_VERSION = 0.74
    PERLBREW_HOME = /Users/stas/.perlbrew
    PERLBREW_MANPATH = /Users/stas/perl5/perlbrew/perls/perl-5.23.8/man
    PERLBREW_PATH = /Users/stas/perl5/perlbrew/bin:/Users/stas/perl5/perlbrew/perls/perl-5.23.8/bin
    PERLBREW_PERL = perl-5.23.8
    PERLBREW_ROOT = /Users/stas/perl5/perlbrew
    PERLBREW_VERSION = 0.74
    PERL_MM_USE_DEFAULT = 1
    SHELL = /opt/local/bin/zsh
    TERM = screen
    TMPDIR = /var/folders/k7/cj2hxbn162362g2150r7t9480000gn/T/

Perl special variables (and OS-specific diagnostics, for MSWin32):

    $^X = /Users/stas/perl5/perlbrew/perls/perl-5.23.8/bin/perl5.23.8
    $UID/$EUID = 501 / 501
    $GID = 20 20 508 12 61 79 80 81 98 398 399 33 100 204 395
    $EGID = 20 20 508 12 61 79 80 81 98 398 399 33 100 204 395

Perl module toolchain versions installed:

    Module              Have    
    ------------------- --------
    CPAN                2.10    
    CPAN::Meta          2.150005
    Cwd                 3.62    
    ExtUtils::CBuilder  0.280224
    ExtUtils::Command   7.10    
    ExtUtils::Install   2.04    
    ExtUtils::MakeMaker 7.10    
    ExtUtils::Manifest  1.70    
    ExtUtils::ParseXS   3.30    
    File::Spec          3.62    
    JSON                2.90    
    JSON::PP            2.27300 
    Module::Build       0.4216  
    Module::Signature   0.79    
    Parse::CPAN::Meta   1.4417  
    Test::Harness       3.36    
    Test::More          1.001014
    YAML                1.15    
    YAML::Syck          1.29    
    version             0.9909  


--

Summary of my perl5 (revision 5 version 23 subversion 8) configuration:
   
  Platform:
    osname=darwin, osvers=14.5.0, archname=darwin-2level
    uname='darwin stas-macbook.local 14.5.0 darwin kernel version 14.5.0: tue sep 1 21:23:09 pdt 2015; root:xnu-2782.50.1~1release_x86_64 x86_64 '
    config_args='-de -Dprefix=/Users/stas/perl5/perlbrew/perls/perl-5.23.8 -Dusedevel -Aeval:scriptdir=/Users/stas/perl5/perlbrew/perls/perl-5.23.8/bin'
    hint=recommended, useposix=true, d_sigaction=define
    useithreads=undef, usemultiplicity=undef
    use64bitint=define, use64bitall=define, uselongdouble=undef
    usemymalloc=n, bincompat5005=undef
  Compiler:
    cc='cc', ccflags ='-fno-common -DPERL_DARWIN -fno-strict-aliasing -pipe -fstack-protector-strong -I/opt/local/include',
    optimize='-O3',
    cppflags='-fno-common -DPERL_DARWIN -fno-strict-aliasing -pipe -fstack-protector-strong -I/opt/local/include'
    ccversion='', gccversion='4.2.1 Compatible Apple LLVM 7.0.2 (clang-700.1.81)', gccosandvers=''
    intsize=4, longsize=8, ptrsize=8, doublesize=8, byteorder=12345678, doublekind=3
    d_longlong=define, longlongsize=8, d_longdbl=define, longdblsize=16, longdblkind=3
    ivtype='long', ivsize=8, nvtype='double', nvsize=8, Off_t='off_t', lseeksize=8
    alignbytes=8, prototype=define
  Linker and Libraries:
    ld='env MACOSX_DEPLOYMENT_TARGET=10.3 cc', ldflags =' -fstack-protector-strong -L/usr/local/lib -L/opt/local/lib'
    libpth=/Applications/Xcode.app/Contents/Developer/Toolchains/XcodeDefault.xctoolchain/usr/bin/../lib/clang/7.0.2/lib /Applications/Xcode.app/Contents/Developer/Toolchains/XcodeDefault.xctoolchain/usr/lib /usr/lib /usr/local/lib /opt/local/lib
    libs=-lpthread -lgdbm -ldbm -ldl -lm -lutil -lc
    perllibs=-lpthread -ldl -lm -lutil -lc
    libc=, so=dylib, useshrplib=false, libperl=libperl.a
    gnulibc_version=''
  Dynamic Linking:
    dlsrc=dl_dlopen.xs, dlext=bundle, d_dlsymun=undef, ccdlflags=' '
    cccdlflags=' ', lddlflags=' -bundle -undefined dynamic_lookup -L/usr/local/lib -L/opt/local/lib -fstack-protector-strong'


Characteristics of this binary (from libperl): 
  Compile-time options: HAS_TIMES PERLIO_LAYERS PERL_COPY_ON_WRITE
                        PERL_DONT_CREATE_GVSV
                        PERL_HASH_FUNC_ONE_AT_A_TIME_HARD PERL_MALLOC_WRAP
                        PERL_PRESERVE_IVUV PERL_USE_DEVEL USE_64_BIT_ALL
                        USE_64_BIT_INT USE_LARGE_FILES USE_LOCALE
                        USE_LOCALE_COLLATE USE_LOCALE_CTYPE
                        USE_LOCALE_NUMERIC USE_LOCALE_TIME USE_PERLIO
                        USE_PERL_ATOF
  Built under darwin
  Compiled at Feb 21 2016 19:45:59
  %ENV:
    PERL5LIB=""
    PERL5OPT=""
    PERL5_CPANPLUS_IS_RUNNING="14666"
    PERL5_CPAN_IS_RUNNING="14666"
    PERLBREW_BASHRC_VERSION="0.74"
    PERLBREW_HOME="/Users/stas/.perlbrew"
    PERLBREW_MANPATH="/Users/stas/perl5/perlbrew/perls/perl-5.23.8/man"
    PERLBREW_PATH="/Users/stas/perl5/perlbrew/bin:/Users/stas/perl5/perlbrew/perls/perl-5.23.8/bin"
    PERLBREW_PERL="perl-5.23.8"
    PERLBREW_ROOT="/Users/stas/perl5/perlbrew"
    PERLBREW_VERSION="0.74"
    PERL_MM_USE_DEFAULT="1"
  @INC:
    /Users/stas/perl5/perlbrew/perls/perl-5.23.8/lib/site_perl/5.23.8/darwin-2level
    /Users/stas/perl5/perlbrew/perls/perl-5.23.8/lib/site_perl/5.23.8
    /Users/stas/perl5/perlbrew/perls/perl-5.23.8/lib/5.23.8/darwin-2level
    /Users/stas/perl5/perlbrew/perls/perl-5.23.8/lib/5.23.8
    .