Data-Record-Serialize-Encode-csv v0.03 Perl 5 v5.28.3 arm64-freebsd

Status
Pass
From
Slaven Rezić
Dist
Data-Record-Serialize-Encode-csv v0.03
Platform
Perl 5 v5.28.3 arm64-freebsd
Date
2025-02-21 17:44:25
ID
7df5e3b4-f07b-11ef-91f2-ce4c6e8775ea
This distribution has been tested as part of the CPAN Testers
project, supporting the Perl programming language.  See
http://wiki.cpantesters.org/ for more information or email
questions to cpan-testers-discuss@perl.org


--
Dear Diab Jerius,

This is a computer-generated report for Data-Record-Serialize-Encode-csv-0.03
on perl 5.28.3, created by CPAN-Reporter-1.2019.

Thank you for uploading your work to CPAN.  Congratulations!
All tests were successful.

Sections of this report:

    * Tester comments
    * Program output
    * Prerequisites
    * Environment and other context

------------------------------
TESTER COMMENTS
------------------------------

Additional comments from tester:

none provided

------------------------------
PROGRAM OUTPUT
------------------------------

Output from './Build test':

t/00-compile.t ........... ok
# 
# Versions for all modules listed in MYMETA.json (including optional ones):
# 
# === Configure Requires ===
# 
#     Module               Want  Have
#     ------------------- ----- -----
#     Module::Build::Tiny 0.034 0.050
# 
# === Test Requires ===
# 
#     Module                       Want     Have
#     ------------------------- ------- --------
#     Data::Record::Serialize      1.01     2.01
#     ExtUtils::MakeMaker           any     7.70
#     File::Slurper                 any    0.014
#     File::Spec                    any     3.75
#     File::Spec::Functions         any     3.75
#     IO::Handle                    any     1.55
#     IPC::Open3                    any     1.20
#     Test2::Plugin::NoWarnings     any     0.10
#     Test2::V0                     any 1.302209
#     Test::More                    any 1.302209
#     perl                      5.01000 5.028003
#     strict                        any     1.11
#     warnings                      any     1.42
# 
# === Test Recommends ===
# 
#     Module         Want     Have
#     ---------- -------- --------
#     CPAN::Meta 2.120900 2.150010
# 
# === Runtime Requires ===
# 
#     Module                                           Want     Have
#     -------------------------------------------- -------- --------
#     Data::Record::Serialize                          1.01     2.01
#     Data::Record::Serialize::Error                   1.01     2.01
#     Data::Record::Serialize::Role::Encode             any     2.01
#     Data::Record::Serialize::Role::EncodeAndSink     1.01     2.01
#     Data::Record::Serialize::Role::Sink::Stream      1.01     2.01
#     Moo::Role                                    2.003004 2.005005
#     Text::CSV                                         any     2.04
#     Types::Common::String                             any 2.006000
#     Types::Standard                              1.010003 2.006000
#     namespace::clean                                  any     0.27
#     perl                                          5.01000 5.028003
# 
t/00-report-prereqs.t .... ok
t/encoders/csv.t ......... ok
t/encoders/csv_stream.t .. ok
All tests successful.
Files=4, Tests=8,  1 wallclock secs ( 0.03 usr  0.02 sys +  0.96 cusr  0.10 csys =  1.11 CPU)
Result: PASS

------------------------------
PREREQUISITES
------------------------------

Prerequisite modules loaded:

requires:

    Module                                       Need     Have    
    -------------------------------------------- -------- --------
    Data::Record::Serialize                      1.01     2.01    
    Data::Record::Serialize::Error               1.01     2.01    
    Data::Record::Serialize::Role::Encode        0        2.01    
    Data::Record::Serialize::Role::EncodeAndSink 1.01     2.01    
    Data::Record::Serialize::Role::Sink::Stream  1.01     2.01    
    Moo::Role                                    2.003004 2.005005
    namespace::clean                             0        0.27    
    perl                                         5.01000  5.028003
    Text::CSV                                    0        2.04    
    Types::Common::String                        0        2.006000
    Types::Standard                              1.010003 2.006000

build_requires:

    Module                                       Need     Have    
    -------------------------------------------- -------- --------
    Data::Record::Serialize                      1.01     2.01    
    ExtUtils::MakeMaker                          0        7.70    
    File::Slurper                                0        0.014   
    File::Spec                                   0        3.75    
    File::Spec::Functions                        0        3.75    
    IO::Handle                                   0        1.55    
    IPC::Open3                                   0        1.20    
    perl                                         5.01000  5.028003
    strict                                       0        1.11    
    Test2::Plugin::NoWarnings                    0        0.10    
    Test2::V0                                    0        1.302209
    Test::More                                   0        1.302209
    warnings                                     0        1.42    

configure_requires:

    Module                                       Need     Have    
    -------------------------------------------- -------- --------
    Module::Build::Tiny                          0.034    0.050   


------------------------------
ENVIRONMENT AND OTHER CONTEXT
------------------------------

Environment variables:

    LANG = C.UTF-8
    PATH = /usr/local/bin:/usr/bin:/bin:/usr/local/sbin:/usr/sbin:/sbin:/home/cpansand/bin/sh:/home/cpansand/bin:/usr/games:/home/cpansand/devel:/home/eserte/src/srezic-misc/scripts
    PERL5LIB = /home/cpansand/.cpan/build/2025022117/Data-Record-Serialize-2.01-1/blib/arch:/home/cpansand/.cpan/build/2025022117/Data-Record-Serialize-2.01-1/blib/lib
    PERL5OPT = 
    PERL5_CPANPLUS_IS_RUNNING = 26006
    PERL5_CPAN_IS_RUNNING = 26006
    PERL5_CPAN_IS_RUNNING_IN_RECURSION = 24921,26006
    PERL_BATCH = yes
    PERL_CANARY_STABILITY_NOPROMPT = 1
    PERL_CPAN_REPORTER_CONFIG = /var/tmp/cpansmoker-1023/2025022117/cpanreporter_000_config.ini
    PERL_EXTUTILS_AUTOINSTALL = --defaultdeps
    PERL_USE_UNSAFE_INC = 1
    SHELL = /bin/sh
    TMPDIR = /var/tmp/cpansmoker-1023/2025022117

Perl special variables (and OS-specific diagnostics, for MSWin32):

    $^X = /usr/perl5.28.3/bin/perl
    $UID/$EUID = 1023 / 1023
    $GID = 1023 1023
    $EGID = 1023 1023

Perl module toolchain versions installed:

    Module              Have    
    ------------------- --------
    CPAN                2.20    
    CPAN::Meta          2.150010
    Cwd                 3.75    
    ExtUtils::CBuilder  0.280236
    ExtUtils::Command   7.70    
    ExtUtils::Install   2.22    
    ExtUtils::MakeMaker 7.70    
    ExtUtils::Manifest  1.75    
    ExtUtils::ParseXS   3.51    
    File::Spec          3.75    
    JSON                4.10    
    JSON::PP            4.16    
    Module::Build       0.4234  
    Module::Signature   n/a     
    Parse::CPAN::Meta   2.150010
    Test2               1.302209
    Test::Harness       3.50    
    Test::More          1.302209
    YAML                1.31    
    YAML::Syck          1.34    
    version             0.9923  


--

Summary of my perl5 (revision 5 version 28 subversion 3) configuration:
   
  Platform:
    osname=freebsd
    osvers=14.1-stable
    archname=arm64-freebsd
    uname='freebsd cloud9.bbbike.org 14.1-stable freebsd 14.1-stable stable14-n268041-bb7b7b0eb7cf generic arm64 '
    config_args='-ds -e -Dprefix=/usr/perl5.28.3 -Dcf_email=srezic@cpan.org -Doptimize=-O2 -pipe'
    hint=recommended
    useposix=true
    d_sigaction=define
    useithreads=undef
    usemultiplicity=undef
    use64bitint=define
    use64bitall=define
    uselongdouble=undef
    usemymalloc=n
    default_inc_excludes_dot=define
    bincompat5005=undef
  Compiler:
    cc='cc'
    ccflags ='-DHAS_FPSETMASK -DHAS_FLOATINGPOINT_H -fno-strict-aliasing -pipe -fstack-protector-strong -I/usr/local/include'
    optimize='-O2 -pipe'
    cppflags='-DHAS_FPSETMASK -DHAS_FLOATINGPOINT_H -fno-strict-aliasing -pipe -fstack-protector-strong -I/usr/local/include'
    ccversion=''
    gccversion='FreeBSD Clang 18.1.6 (https://github.com/llvm/llvm-project.git llvmorg-18.1.6-0-g1118c2e05e67)'
    gccosandvers=''
    intsize=4
    longsize=8
    ptrsize=8
    doublesize=8
    byteorder=12345678
    doublekind=3
    d_longlong=define
    longlongsize=8
    d_longdbl=define
    longdblsize=16
    longdblkind=1
    ivtype='long'
    ivsize=8
    nvtype='double'
    nvsize=8
    Off_t='off_t'
    lseeksize=8
    alignbytes=8
    prototype=define
  Linker and Libraries:
    ld='cc'
    ldflags ='-Wl,-E  -fstack-protector-strong -L/usr/local/lib'
    libpth=/usr/lib /usr/local/lib /usr/lib/clang/18/lib /usr/lib
    libs=-lpthread -lgdbm -ldl -lm -lcrypt -lutil -lc
    perllibs=-lpthread -ldl -lm -lcrypt -lutil -lc
    libc=
    so=so
    useshrplib=false
    libperl=libperl.a
    gnulibc_version=''
  Dynamic Linking:
    dlsrc=dl_dlopen.xs
    dlext=so
    d_dlsymun=undef
    ccdlflags=' '
    cccdlflags='-DPIC -fPIC'
    lddlflags='-shared  -L/usr/local/lib -fstack-protector-strong'


Characteristics of this binary (from libperl): 
  Compile-time options:
    HAS_TIMES
    PERLIO_LAYERS
    PERL_COPY_ON_WRITE
    PERL_DONT_CREATE_GVSV
    PERL_MALLOC_WRAP
    PERL_OP_PARENT
    PERL_PRESERVE_IVUV
    USE_64_BIT_ALL
    USE_64_BIT_INT
    USE_LARGE_FILES
    USE_LOCALE
    USE_LOCALE_COLLATE
    USE_LOCALE_CTYPE
    USE_LOCALE_NUMERIC
    USE_LOCALE_TIME
    USE_PERLIO
    USE_PERL_ATOF
  Locally applied patches:
    Devel::PatchPerl 2.08
  Built under freebsd
  Compiled at Jun 30 2024 07:39:37
  %ENV:
    PERL5LIB="/home/cpansand/.cpan/build/2025022117/Data-Record-Serialize-2.01-1/blib/arch:/home/cpansand/.cpan/build/2025022117/Data-Record-Serialize-2.01-1/blib/lib"
    PERL5OPT=""
    PERL5_CPANPLUS_IS_RUNNING="26006"
    PERL5_CPAN_IS_RUNNING="26006"
    PERL5_CPAN_IS_RUNNING_IN_RECURSION="24921,26006"
    PERL_BATCH="yes"
    PERL_CANARY_STABILITY_NOPROMPT="1"
    PERL_CPAN_REPORTER_CONFIG="/var/tmp/cpansmoker-1023/2025022117/cpanreporter_000_config.ini"
    PERL_EXTUTILS_AUTOINSTALL="--defaultdeps"
    PERL_USE_UNSAFE_INC="1"
  @INC:
    /home/cpansand/.cpan/build/2025022117/Data-Record-Serialize-2.01-1/blib/arch
    /home/cpansand/.cpan/build/2025022117/Data-Record-Serialize-2.01-1/blib/lib
    /usr/perl5.28.3/lib/site_perl/5.28.3/arm64-freebsd
    /usr/perl5.28.3/lib/site_perl/5.28.3
    /usr/perl5.28.3/lib/5.28.3/arm64-freebsd
    /usr/perl5.28.3/lib/5.28.3
    .