Report for CM-Permutation-0.94

Back
From: metabase:user:314402c4-2aae-11df-837a-5e0a49663a4f
Subject: PASS CM-Permutation-0.94 v5.16.0 RC0 GNU/Linux
Date: 2012-05-13T13:28:14Z

This distribution has been tested as part of the CPAN Testers
project, supporting the Perl programming language.  See
http://wiki.cpantesters.org/ for more information or email
questions to cpan-testers-discuss@perl.org


--
Dear Petrea Corneliu Stefan,

This is a computer-generated report for CM-Permutation-0.94
on perl 5.16.0, created by CPAN-Reporter-1.2006.

Thank you for uploading your work to CPAN.  Congratulations!
All tests were successful.

Sections of this report:

    * Tester comments
    * Program output
    * Prerequisites
    * Environment and other context

------------------------------
TESTER COMMENTS
------------------------------

Additional comments from tester:

none provided

------------------------------
PROGRAM OUTPUT
------------------------------

Output from '/usr/bin/make test':

PERL_DL_NONLAZY=1 /bbbike/ctps/5160RC0linux/install/perl-5.16.0-RC0/bin/perl "-MExtUtils::Command::MM" "-e" "test_harness(0, 'blib/lib', 'blib/arch')" t/*.t
Name "main::a" used only once: possible typo at t/00_CM-Permutation.t line 72.
Name "main::b" used only once: possible typo at t/00_CM-Permutation.t line 72.
t/00_CM-Permutation.t ................. ok
t/01_CM-Permutation-Cycle.t ........... ok
t/02_CM-Cycle_Algorithm.t ............. ok
Argument "1,1,1" isn't numeric in numeric lt (<) at lib//CM/Group/Sym.pm line 422.
Argument "1,2" isn't numeric in numeric lt (<) at lib//CM/Group/Sym.pm line 422.
Argument "1,1,1,1" isn't numeric in numeric lt (<) at lib//CM/Group/Sym.pm line 422.
Argument "1,3" isn't numeric in numeric lt (<) at lib//CM/Group/Sym.pm line 422.
Argument "2,2" isn't numeric in numeric lt (<) at lib//CM/Group/Sym.pm line 422.
Argument "1,1,2" isn't numeric in numeric lt (<) at lib//CM/Group/Sym.pm line 422.
Argument "1,1,1,1" isn't numeric in numeric lt (<) at lib//CM/Group/Sym.pm line 422.
Argument "1,3" isn't numeric in numeric lt (<) at lib//CM/Group/Sym.pm line 422.
Argument "2,2" isn't numeric in numeric lt (<) at lib//CM/Group/Sym.pm line 422.
Argument "1,1,2" isn't numeric in numeric lt (<) at lib//CM/Group/Sym.pm line 422.
t/03_CM-Group-Sym.t ................... ok
t/04-CM-Group-Altern.t ................ ok
t/05-CM-Group-Dihedral.t .............. ok
t/06-CM-Group-Rubik.t ................. ok
t/07-CM-Group-ModuloMultiplication.t .. ok
t/08-Rubik-Model.t .................... skipped: OpenGL required for testing Rubik::Model
t/09-CM-Tuple.t ....................... ok
t/10-DirectProduct.t .................. ok
t/11-Commutator.t ..................... ok
t/12-Factor.t ......................... ok
t/13-Morphism.t ....................... ok
t/14-CM-Group-ModuloAddition.t ........ ok
t/18-CM-Polynomial-Chebyshev.t ........ ok
Operator or semicolon missing before *CM::Polynomial::Cyclotomic at t/19-CM-Polynomial-Cyclotomic.t line 80.
Ambiguous use of * resolved as operator * at t/19-CM-Polynomial-Cyclotomic.t line 80.
t/19-CM-Polynomial-Cyclotomic.t ....... ok
The plan was already output at /home/eserte/var/ctps/5160RC0linux/install/perl-5.16.0-RC0/lib/5.16.0/Test/Builder.pm line 2423.
t/20-CM-Polynomial-Irreducible.t ...... ok
Subroutine CM::Polynomial::Discriminant::inner redefined at (eval 235) line 8.
Prototype mismatch: sub CM::Polynomial::Discriminant::inner: none vs (;@) at (eval 235) line 8.
t/21-CM-Polynomial-Discriminant.t ..... ok
All tests successful.
Files=19, Tests=219, 11 wallclock secs ( 0.07 usr  0.05 sys +  9.60 cusr  0.53 csys = 10.25 CPU)
Result: PASS

------------------------------
PREREQUISITES
------------------------------

Prerequisite modules loaded:

requires:

    Module                      Need       Have      
    --------------------------- ---------- ----------
    Acme::AsciiArt2HtmlTable    0          0.01      
    Algorithm::Permute          0          0.12      
    Bit::Vector                 7.1        7.2       
    Carp                        0          1.26      
    Devel::REPL                 1.003009   1.003012  
    GD::SVG                     0.33       0.33      
    GraphViz                    0          2.10      
    List::AllUtils              0.02       0.03      
    Math::BigInt                0          1.998     
    Math::Complex               1.56       1.59      
    Math::Factor::XS            0.38       0.39      
    Math::Pari                  2.01080605 2.01080605
    Math::Polynomial            1.002      1.004     
    Math::Polynomial::Solve     2.50       2.61      
    Math::Primality             0.04       0.04      
    Math::Prime::XS             0.23       0.26      
    Math::Symbolic              0.606      0.606     
    Moose                       0.92       2.0602    
    MooseX::Role::Parameterized 0.17       1.00      
  ! OpenGL                      0.64       n/a       
    overload                    0          1.18      
    Params::Validate            0.94       1.06      
    PDL                         v2.4.6     2.4.10    
    Storable                    0          2.34      
    Test::Deep                  0.106      0.109     
    Test::More                  0          0.98      
    Text::Table                 1.114      1.124     

configure_requires:

    Module                      Need       Have      
    --------------------------- ---------- ----------
    ExtUtils::MakeMaker         6.30       6.63_02   


------------------------------
ENVIRONMENT AND OTHER CONTEXT
------------------------------

Environment variables:

    DBIC_NO_WARN_BAD_PERL = 1
    LANG = C
    PATH = /usr/local/bin:/usr/bin:/bin:/usr/local/sbin:/usr/sbin:/sbin:/home/eserte/bin/linux-gnu:/home/eserte/bin/sh:/home/eserte/bin:/usr/X11R6/bin:/usr/X11/bin:/usr/games:/home/eserte/devel:/home/eserte/work/cpan-testers-parallelsmoker/utils
    PERL5LIB = 
    PERL5OPT = 
    PERL5_CPANPLUS_IS_RUNNING = 2939
    PERL5_CPAN_IS_RUNNING = 2939
    PERL5_CPAN_IS_RUNNING_IN_RECURSION = 23838,2939
    PERLDOC = -MPod::Perldoc::ToTextOverstrike
    PERL_BATCH = yes
    PERL_CPAN_REPORTER_DIR = /home/eserte/var/ctps/5160RC0linux/config/perl-5.16.0-RC0/cpanreporter
    PERL_EXTUTILS_AUTOINSTALL = --defaultdeps
    PERL_HTML_DISPLAY_CLASS = HTML::Display::Mozilla
    PERL_PARALLEL_SMOKER = yes
    PERL_TEST_UNPATCHED = 1
    SHELL = /usr/bin/zsh
    TERM = screen
    TMPDIR = /var/tmp/cpansmoker-1001

Perl special variables (and OS-specific diagnostics, for MSWin32):

    $^X = /bbbike/ctps/5160RC0linux/install/perl-5.16.0-RC0/bin/perl
    $UID/$EUID = 1001 / 1001
    $GID = 1001 1001
    $EGID = 1001 1001

Perl module toolchain versions installed:

    Module              Have    
    ------------------- --------
    CPAN                1.9800  
    CPAN::Meta          2.120921
    Cwd                 3.39_02 
    ExtUtils::CBuilder  0.280206
    ExtUtils::Command   1.17    
    ExtUtils::Install   1.58    
    ExtUtils::MakeMaker 6.63_02 
    ExtUtils::Manifest  1.61    
    ExtUtils::ParseXS   3.16    
    File::Spec          3.39_02 
    JSON                2.53    
    JSON::PP            2.27200 
    Module::Build       0.40    
    Module::Signature   0.68    
    Parse::CPAN::Meta   1.4404  
    Test::Harness       3.23    
    Test::More          0.98    
    YAML                0.81    
    YAML::Syck          1.20    
    version             0.99    


--

Summary of my perl5 (revision 5 version 16 subversion 0) configuration:
   
  Platform:
    osname=linux, osvers=2.6.32-5-xen-amd64, archname=x86_64-linux
    uname='linux eserte 2.6.32-5-xen-amd64 #1 smp sat may 5 04:18:09 utc 2012 x86_64 gnulinux '
    config_args='-ds -e -Uversiononly -Dinstallusrbinperl=n -Dusedevel -Dprefix=/home/eserte/var/ctps/5160RC0linux/install/perl-5.16.0-RC0'
    hint=recommended, useposix=true, d_sigaction=define
    useithreads=undef, usemultiplicity=undef
    useperlio=define, d_sfio=undef, uselargefiles=define, usesocks=undef
    use64bitint=define, use64bitall=define, uselongdouble=undef
    usemymalloc=n, bincompat5005=undef
  Compiler:
    cc='cc', ccflags ='-fno-strict-aliasing -pipe -fstack-protector -I/usr/local/include -D_LARGEFILE_SOURCE -D_FILE_OFFSET_BITS=64',
    optimize='-O2',
    cppflags='-fno-strict-aliasing -pipe -fstack-protector -I/usr/local/include'
    ccversion='', gccversion='4.4.5', gccosandvers=''
    intsize=4, longsize=8, ptrsize=8, doublesize=8, byteorder=12345678
    d_longlong=define, longlongsize=8, d_longdbl=define, longdblsize=16
    ivtype='long', ivsize=8, nvtype='double', nvsize=8, Off_t='off_t', lseeksize=8
    alignbytes=8, prototype=define
  Linker and Libraries:
    ld='cc', ldflags =' -fstack-protector -L/usr/local/lib'
    libpth=/usr/local/lib /lib/../lib /usr/lib/../lib /lib /usr/lib /lib64 /usr/lib64
    libs=-lnsl -ldb -ldl -lm -lcrypt -lutil -lc
    perllibs=-lnsl -ldl -lm -lcrypt -lutil -lc
    libc=/lib/libc-2.11.3.so, so=so, useshrplib=false, libperl=libperl.a
    gnulibc_version='2.11.3'
  Dynamic Linking:
    dlsrc=dl_dlopen.xs, dlext=so, d_dlsymun=undef, ccdlflags='-Wl,-E'
    cccdlflags='-fPIC', lddlflags='-shared -O2 -L/usr/local/lib -fstack-protector'


Characteristics of this binary (from libperl): 
  Compile-time options: HAS_TIMES PERLIO_LAYERS PERL_DONT_CREATE_GVSV
                        PERL_MALLOC_WRAP PERL_PRESERVE_IVUV PERL_USE_DEVEL
                        USE_64_BIT_ALL USE_64_BIT_INT USE_LARGE_FILES
                        USE_LOCALE USE_LOCALE_COLLATE USE_LOCALE_CTYPE
                        USE_LOCALE_NUMERIC USE_PERLIO USE_PERL_ATOF
  Locally applied patches:
	RC0
  Built under linux
  Compiled at May 11 2012 20:52:16
  %ENV:
    PERL5LIB=""
    PERL5OPT=""
    PERL5_CPANPLUS_IS_RUNNING="2939"
    PERL5_CPAN_IS_RUNNING="2939"
    PERL5_CPAN_IS_RUNNING_IN_RECURSION="23838,2939"
    PERLDOC="-MPod::Perldoc::ToTextOverstrike"
    PERL_BATCH="yes"
    PERL_CPAN_REPORTER_DIR="/home/eserte/var/ctps/5160RC0linux/config/perl-5.16.0-RC0/cpanreporter"
    PERL_EXTUTILS_AUTOINSTALL="--defaultdeps"
    PERL_HTML_DISPLAY_CLASS="HTML::Display::Mozilla"
    PERL_PARALLEL_SMOKER="yes"
    PERL_TEST_UNPATCHED="1"
  @INC:
    /home/eserte/var/ctps/5160RC0linux/install/perl-5.16.0-RC0/lib/site_perl/5.16.0/x86_64-linux
    /home/eserte/var/ctps/5160RC0linux/install/perl-5.16.0-RC0/lib/site_perl/5.16.0
    /home/eserte/var/ctps/5160RC0linux/install/perl-5.16.0-RC0/lib/5.16.0/x86_64-linux
    /home/eserte/var/ctps/5160RC0linux/install/perl-5.16.0-RC0/lib/5.16.0
    .