Report for SDLx-GUI-0.002

Back
From: metabase:user:314402c4-2aae-11df-837a-5e0a49663a4f
Subject: PASS SDLx-GUI-0.002 v5.25.7 GNU/Linux
Date: 2016-11-25T06:50:46Z

This distribution has been tested as part of the CPAN Testers
project, supporting the Perl programming language.  See
http://wiki.cpantesters.org/ for more information or email
questions to cpan-testers-discuss@perl.org


--
Dear Jerome Quelin,

This is a computer-generated report for SDLx-GUI-0.002
on perl 5.25.7, created by CPAN-Reporter-1.2018.

Thank you for uploading your work to CPAN.  Congratulations!
All tests were successful.

Sections of this report:

    * Tester comments
    * Program output
    * Prerequisites
    * Environment and other context

------------------------------
TESTER COMMENTS
------------------------------

Additional comments from tester:

none provided

------------------------------
PROGRAM OUTPUT
------------------------------

Output from './Build test':

t/00-compile.t ................ ok
# 
# 
# Generated by Dist::Zilla::Plugin::ReportVersions::Tiny v1.10
# perl: 5.025007 (wanted 5.016) on linux from /opt/perl-5.25.7/bin/perl5.25.7
# 
# Carp                                          => 1.42       (want any version)
# DateTime                                      => 1.41       (want any version)
# Exporter::Lite                                => 0.08       (want any version)
# File::Spec                                    => 3.66       (want any version)
# IO::Handle                                    => 1.36       (want any version)
# IPC::Open3                                    => 1.20       (want any version)
# List::AllUtils                                => 0.12       (want any version)
# Module::Build                                 => 0.422      (want 0.3601) 
# Moose                                         => 2.1806     (want any version)
# Moose::Util::TypeConstraints                  => 2.1806     (want any version)
# MooseX::Has::Sugar                            => 1.000004   (want any version)
# MooseX::SemiAffordanceAccessor                => 0.10       (want any version)
# SDL::Color                                    => <undef>    (want any version)
# SDL::Event                                    => <undef>    (want any version)
# SDL::Video                                    => <undef>    (want any version)
# SDLx::App                                     => <undef>    (want any version)
# SDLx::Rect                                    => 0.01       (want any version)
# SDLx::Sprite                                  => <undef>    (want any version)
# SDLx::Surface                                 => <undef>    (want any version)
# SDLx::Text                                    => <undef>    (want any version)
# Test::More                                    => 1.302062   (want 0.88)   
# Time::HiRes                                   => 1.974003   (want any version)
# strict                                        => 1.11       (want any version)
# warnings                                      => 1.37       (want any version)
# 
# Thanks for using my code.  I hope it works for you.
# If not, please try and include this output in the bug report.
# That will help me reproduce the issue and solve your problem.
# 
t/000-report-versions-tiny.t .. ok
t/gui.t ....................... ok
t/release-pod-coverage.t ...... skipped: these tests are for release candidate testing
t/release-pod-syntax.t ........ skipped: these tests are for release candidate testing
All tests successful.
Files=5, Tests=10,  5 wallclock secs ( 0.01 usr  0.01 sys +  3.95 cusr  0.80 csys =  4.77 CPU)
Result: PASS

------------------------------
PREREQUISITES
------------------------------

Prerequisite modules loaded:

requires:

    Module                         Need   Have     
    ------------------------------ ------ ---------
    Carp                           0      1.42     
    DateTime                       0      1.41     
    Exporter::Lite                 0      0.08     
    List::AllUtils                 0      0.12     
    Moose                          0      2.1806   
    Moose::Util::TypeConstraints   0      2.1806   
    MooseX::Has::Sugar             0      1.000004 
    MooseX::SemiAffordanceAccessor 0      0.10     
    perl                           5.016  5.025007 
    SDL::Color                     0      0        
    SDL::Event                     0      0        
    SDL::Video                     0      0        
    SDLx::Rect                     0      0.01     
    SDLx::Sprite                   0      0        
    SDLx::Surface                  0      0        
    SDLx::Text                     0      0        
    Time::HiRes                    0      1.9740_03
    warnings                       0      1.37     

build_requires:

    Module                         Need   Have     
    ------------------------------ ------ ---------
    File::Spec                     0      3.66     
    IO::Handle                     0      1.36     
    IPC::Open3                     0      1.20     
    Module::Build                  0.3601 0.4220   
    SDLx::App                      0      0        
    strict                         0      1.11     
    Test::More                     0.88   1.302062 

configure_requires:

    Module                         Need   Have     
    ------------------------------ ------ ---------
    Module::Build                  0.3601 0.4220   


------------------------------
ENVIRONMENT AND OTHER CONTEXT
------------------------------

Environment variables:

    LANG = en_US.UTF-8
    PATH = /usr/local/bin:/usr/bin:/bin:/usr/local/sbin:/usr/sbin:/sbin:/home/eserte/bin/linux-gnu:/home/eserte/bin/sh:/home/eserte/bin:/home/eserte/bin/pistachio-perl/bin:/usr/games:/home/eserte/devel:/home/eserte/src/srezic-misc/scripts
    PERL5LIB = /home/eserte/.cpan/build/2016112506/SDL-2.546-0/blib/arch:/home/eserte/.cpan/build/2016112506/SDL-2.546-0/blib/lib:/home/eserte/.cpan/build/2016112506/Tie-Simple-1.04-0/blib/arch:/home/eserte/.cpan/build/2016112506/Tie-Simple-1.04-0/blib/lib:/home/eserte/.cpan/build/2016112506/Alien-SDL-1.446-0/blib/arch:/home/eserte/.cpan/build/2016112506/Alien-SDL-1.446-0/blib/lib:/home/eserte/.cpan/build/2016112506/Text-Patch-1.8-0/blib/arch:/home/eserte/.cpan/build/2016112506/Text-Patch-1.8-0/blib/lib:/home/eserte/.cpan/build/2016112506/Archive-Extract-0.78-0/blib/arch:/home/eserte/.cpan/build/2016112506/Archive-Extract-0.78-0/blib/lib:/home/eserte/.cpan/build/2016112506/MooseX-SemiAffordanceAccessor-0.10-0/blib/arch:/home/eserte/.cpan/build/2016112506/MooseX-SemiAffordanceAccessor-0.10-0/blib/lib:/home/eserte/.cpan/build/2016112506/MooseX-Has-Sugar-1.000004-0/blib/arch:/home/eserte/.cpan/build/2016112506/MooseX-Has-Sugar-1.000004-0/blib/lib:/home/eserte/.cpan/build/2016112506/List-AllUtils-0.12-0/blib/arch:/home/eserte/.cpan/build/2016112506/List-AllUtils-0.12-0/blib/lib:/home/eserte/.cpan/build/2016112506/List-UtilsBy-0.10-0/blib/arch:/home/eserte/.cpan/build/2016112506/List-UtilsBy-0.10-0/blib/lib:/home/eserte/.cpan/build/2016112506/List-SomeUtils-0.53-0/blib/arch:/home/eserte/.cpan/build/2016112506/List-SomeUtils-0.53-0/blib/lib:/home/eserte/.cpan/build/2016112506/List-SomeUtils-XS-0.52-0/blib/arch:/home/eserte/.cpan/build/2016112506/List-SomeUtils-XS-0.52-0/blib/lib
    PERL5OPT = 
    PERL5_CPANPLUS_IS_RUNNING = 18802
    PERL5_CPAN_IS_RUNNING = 18802
    PERL5_CPAN_IS_RUNNING_IN_RECURSION = 18783,18802
    PERLDOC = -MPod::Perldoc::ToTextOverstrike
    PERL_BATCH = yes
    PERL_CANARY_STABILITY_NOPROMPT = 1
    PERL_CPAN_REPORTER_CONFIG = /var/tmp/cpansmoker-1000/2016112506/cpanreporter_000_config.ini
    PERL_EXTUTILS_AUTOINSTALL = --defaultdeps
    PERL_USE_UNSAFE_INC = 1
    SHELL = /bin/zsh
    STDPERL = perl
    TERM = xterm
    TMPDIR = /var/tmp/cpansmoker-1000/2016112506

Perl special variables (and OS-specific diagnostics, for MSWin32):

    $^X = /opt/perl-5.25.7/bin/perl5.25.7
    $UID/$EUID = 1000 / 1000
    $GID = 1000 4 24 25 27 29 30 44 46 108 111 115 1000 1024
    $EGID = 1000 4 24 25 27 29 30 44 46 108 111 115 1000 1024

Perl module toolchain versions installed:

    Module              Have      
    ------------------- ----------
    CPAN                2.14_01   
    CPAN::Meta          2.150010  
    Cwd                 3.66      
    ExtUtils::CBuilder  0.280225  
    ExtUtils::Command   7.24      
    ExtUtils::Install   2.04      
    ExtUtils::MakeMaker 7.24      
    ExtUtils::Manifest  1.70      
    ExtUtils::ParseXS   3.33      
    File::Spec          3.66      
    JSON                2.90      
    JSON::PP            2.27400_02
    Module::Build       0.4220    
    Module::Signature   n/a       
    Parse::CPAN::Meta   2.150010  
    Test::Harness       3.36_01   
    Test::More          1.302062  
    YAML                1.19      
    YAML::Syck          1.29      
    version             0.9917    


--

Summary of my perl5 (revision 5 version 25 subversion 7) configuration:
   
  Platform:
    osname=linux
    osvers=3.16.0-4-amd64
    archname=x86_64-linux
    uname='linux cabulja 3.16.0-4-amd64 #1 smp debian 3.16.36-1+deb8u1 (2016-09-03) x86_64 gnulinux '
    config_args='-ds -e -Dprefix=/opt/perl-5.25.7 -Dusedevel -Dusemallocwrap=no -Dcf_email=srezic@cpan.org'
    hint=recommended
    useposix=true
    d_sigaction=define
    useithreads=undef
    usemultiplicity=undef
    use64bitint=define
    use64bitall=define
    uselongdouble=undef
    usemymalloc=n
    bincompat5005=undef
  Compiler:
    cc='cc'
    ccflags ='-fwrapv -fno-strict-aliasing -pipe -fstack-protector-strong -I/usr/local/include -D_LARGEFILE_SOURCE -D_FILE_OFFSET_BITS=64 -D_FORTIFY_SOURCE=2'
    optimize='-O2'
    cppflags='-fwrapv -fno-strict-aliasing -pipe -fstack-protector-strong -I/usr/local/include'
    ccversion=''
    gccversion='4.9.2'
    gccosandvers=''
    intsize=4
    longsize=8
    ptrsize=8
    doublesize=8
    byteorder=12345678
    doublekind=3
    d_longlong=define
    longlongsize=8
    d_longdbl=define
    longdblsize=16
    longdblkind=3
    ivtype='long'
    ivsize=8
    nvtype='double'
    nvsize=8
    Off_t='off_t'
    lseeksize=8
    alignbytes=8
    prototype=define
  Linker and Libraries:
    ld='cc'
    ldflags =' -fstack-protector-strong -L/usr/local/lib'
    libpth=/usr/local/lib /usr/lib/gcc/x86_64-linux-gnu/4.9/include-fixed /usr/include/x86_64-linux-gnu /usr/lib /lib/x86_64-linux-gnu /lib/../lib /usr/lib/x86_64-linux-gnu /usr/lib/../lib /lib
    libs=-lpthread -lnsl -lgdbm -ldb -ldl -lm -lcrypt -lutil -lc -lgdbm_compat
    perllibs=-lpthread -lnsl -ldl -lm -lcrypt -lutil -lc
    libc=libc-2.19.so
    so=so
    useshrplib=false
    libperl=libperl.a
    gnulibc_version='2.19'
  Dynamic Linking:
    dlsrc=dl_dlopen.xs
    dlext=so
    d_dlsymun=undef
    ccdlflags='-Wl,-E'
    cccdlflags='-fPIC'
    lddlflags='-shared -O2 -L/usr/local/lib -fstack-protector-strong'


Characteristics of this binary (from libperl): 
  Compile-time options:
    HAS_TIMES
    PERLIO_LAYERS
    PERL_COPY_ON_WRITE
    PERL_DONT_CREATE_GVSV
    PERL_HASH_FUNC_ONE_AT_A_TIME_HARD
    PERL_OP_PARENT
    PERL_PRESERVE_IVUV
    PERL_USE_DEVEL
    USE_64_BIT_ALL
    USE_64_BIT_INT
    USE_LARGE_FILES
    USE_LOCALE
    USE_LOCALE_COLLATE
    USE_LOCALE_CTYPE
    USE_LOCALE_NUMERIC
    USE_LOCALE_TIME
    USE_PERLIO
    USE_PERL_ATOF
  Built under linux
  Compiled at Nov 21 2016 08:02:25
  %ENV:
    PERL5LIB="/home/eserte/.cpan/build/2016112506/SDL-2.546-0/blib/arch:/home/eserte/.cpan/build/2016112506/SDL-2.546-0/blib/lib:/home/eserte/.cpan/build/2016112506/Tie-Simple-1.04-0/blib/arch:/home/eserte/.cpan/build/2016112506/Tie-Simple-1.04-0/blib/lib:/home/eserte/.cpan/build/2016112506/Alien-SDL-1.446-0/blib/arch:/home/eserte/.cpan/build/2016112506/Alien-SDL-1.446-0/blib/lib:/home/eserte/.cpan/build/2016112506/Text-Patch-1.8-0/blib/arch:/home/eserte/.cpan/build/2016112506/Text-Patch-1.8-0/blib/lib:/home/eserte/.cpan/build/2016112506/Archive-Extract-0.78-0/blib/arch:/home/eserte/.cpan/build/2016112506/Archive-Extract-0.78-0/blib/lib:/home/eserte/.cpan/build/2016112506/MooseX-SemiAffordanceAccessor-0.10-0/blib/arch:/home/eserte/.cpan/build/2016112506/MooseX-SemiAffordanceAccessor-0.10-0/blib/lib:/home/eserte/.cpan/build/2016112506/MooseX-Has-Sugar-1.000004-0/blib/arch:/home/eserte/.cpan/build/2016112506/MooseX-Has-Sugar-1.000004-0/blib/lib:/home/eserte/.cpan/build/2016112506/List-AllUtils-0.12-0/blib/arch:/home/eserte/.cpan/build/2016112506/List-AllUtils-0.12-0/blib/lib:/home/eserte/.cpan/build/2016112506/List-UtilsBy-0.10-0/blib/arch:/home/eserte/.cpan/build/2016112506/List-UtilsBy-0.10-0/blib/lib:/home/eserte/.cpan/build/2016112506/List-SomeUtils-0.53-0/blib/arch:/home/eserte/.cpan/build/2016112506/List-SomeUtils-0.53-0/blib/lib:/home/eserte/.cpan/build/2016112506/List-SomeUtils-XS-0.52-0/blib/arch:/home/eserte/.cpan/build/2016112506/List-SomeUtils-XS-0.52-0/blib/lib"
    PERL5OPT=""
    PERL5_CPANPLUS_IS_RUNNING="18802"
    PERL5_CPAN_IS_RUNNING="18802"
    PERL5_CPAN_IS_RUNNING_IN_RECURSION="18783,18802"
    PERLDOC="-MPod::Perldoc::ToTextOverstrike"
    PERL_BATCH="yes"
    PERL_CANARY_STABILITY_NOPROMPT="1"
    PERL_CPAN_REPORTER_CONFIG="/var/tmp/cpansmoker-1000/2016112506/cpanreporter_000_config.ini"
    PERL_EXTUTILS_AUTOINSTALL="--defaultdeps"
    PERL_USE_UNSAFE_INC="1"
  @INC:
    /home/eserte/.cpan/build/2016112506/SDL-2.546-0/blib/arch
    /home/eserte/.cpan/build/2016112506/SDL-2.546-0/blib/lib
    /home/eserte/.cpan/build/2016112506/Tie-Simple-1.04-0/blib/arch
    /home/eserte/.cpan/build/2016112506/Tie-Simple-1.04-0/blib/lib
    /home/eserte/.cpan/build/2016112506/Alien-SDL-1.446-0/blib/arch
    /home/eserte/.cpan/build/2016112506/Alien-SDL-1.446-0/blib/lib
    /home/eserte/.cpan/build/2016112506/Text-Patch-1.8-0/blib/arch
    /home/eserte/.cpan/build/2016112506/Text-Patch-1.8-0/blib/lib
    /home/eserte/.cpan/build/2016112506/Archive-Extract-0.78-0/blib/arch
    /home/eserte/.cpan/build/2016112506/Archive-Extract-0.78-0/blib/lib
    /home/eserte/.cpan/build/2016112506/MooseX-SemiAffordanceAccessor-0.10-0/blib/arch
    /home/eserte/.cpan/build/2016112506/MooseX-SemiAffordanceAccessor-0.10-0/blib/lib
    /home/eserte/.cpan/build/2016112506/MooseX-Has-Sugar-1.000004-0/blib/arch
    /home/eserte/.cpan/build/2016112506/MooseX-Has-Sugar-1.000004-0/blib/lib
    /home/eserte/.cpan/build/2016112506/List-AllUtils-0.12-0/blib/arch
    /home/eserte/.cpan/build/2016112506/List-AllUtils-0.12-0/blib/lib
    /home/eserte/.cpan/build/2016112506/List-UtilsBy-0.10-0/blib/arch
    /home/eserte/.cpan/build/2016112506/List-UtilsBy-0.10-0/blib/lib
    /home/eserte/.cpan/build/2016112506/List-SomeUtils-0.53-0/blib/arch
    /home/eserte/.cpan/build/2016112506/List-SomeUtils-0.53-0/blib/lib
    /home/eserte/.cpan/build/2016112506/List-SomeUtils-XS-0.52-0/blib/arch
    /home/eserte/.cpan/build/2016112506/List-SomeUtils-XS-0.52-0/blib/lib
    /opt/perl-5.25.7/lib/site_perl/5.25.7/x86_64-linux
    /opt/perl-5.25.7/lib/site_perl/5.25.7
    /opt/perl-5.25.7/lib/5.25.7/x86_64-linux
    /opt/perl-5.25.7/lib/5.25.7
    .