Report for autodie-2.29

Back
From: metabase:user:30f4dfbe-2aae-11df-837a-5e0a49663a4f
Subject: PASS autodie-2.29 v5.14.1 GNU/Linux
Date: 2016-07-24T10:43:44Z

This distribution has been tested as part of the CPAN Testers
project, supporting the Perl programming language.  See
http://wiki.cpantesters.org/ for more information or email
questions to cpan-testers-discuss@perl.org


--
Dear Paul Jamieson Fenwick,

This is a computer-generated report for autodie-2.29
on perl 5.14.1, created by CPAN-Reporter-1.2017.

Thank you for uploading your work to CPAN.  Congratulations!
All tests were successful.

Sections of this report:

    * Tester comments
    * Program output
    * Prerequisites
    * Environment and other context

------------------------------
TESTER COMMENTS
------------------------------

Additional comments from tester:

this report is from an automated smoke testing program
and was not reviewed by a human for accuracy

------------------------------
PROGRAM OUTPUT
------------------------------

Output from '/usr/bin/make test':

PERL_DL_NONLAZY=1 "/home/njh/perl5/perlbrew/perls/perl-5.14.1/bin/perl" "-MExtUtils::Command::MM" "-MTest::Harness" "-e" "undef *Test::Harness::Switches; test_harness(0, 'blib/lib', 'blib/arch')" t/*.t
t/author-critic.t ................ skipped: these tests are for testing by the author
t/00-load.t ...................... ok
t/backcompat.t ................... ok
t/args.t ......................... ok
t/binmode.t ...................... ok
t/critic.t ....................... skipped: Author test.  Set $ENV{AUTHOR_TESTING} to true to run.
t/chown.t ........................ ok
t/autodie.t ...................... ok
t/chmod.t ........................ ok
t/filehandles.t .................. ok
t/crickey.t ...................... ok
t/basic_exceptions.t ............. ok
t/exec.t ......................... ok
t/context_lexical.t .............. ok
t/blog_hints.t ................... ok
t/Fatal.t ........................ ok
t/context.t ...................... ok
t/eval_error.t ................... ok
t/fileno.t ....................... ok
t/fork.t ......................... skipped: BSD::Resource required to test fork()
t/core-trampoline-slurp.t ........ ok
t/caller.t ....................... ok
t/dbmopen.t ...................... ok
t/exception_class.t .............. ok
t/flock.t ........................ ok
t/import-into.t .................. skipped: Test needs Import::Into >= 1.002004
t/kwalitee.t ..................... skipped: Author test.  Set $ENV{RELEASE_TESTING} to true to run.
t/lex58.t ........................ skipped: IPC::System::Simple required
t/hints_insist.t ................. ok
t/internal.t ..................... ok
t/hints_provider_easy_does_it.t .. ok
t/hints_provider_isa.t ........... ok
t/pod.t .......................... skipped: Author test.  Set $ENV{AUTHOR_TESTING} to true to run.
t/internal-backcompat.t .......... ok
t/release-pod-coverage.t ......... skipped: these tests are for release candidate testing
t/lethal.t ....................... ok
t/no_carp.t ...................... ok
t/kill.t ......................... ok
t/release-pod-syntax.t ........... skipped: these tests are for release candidate testing
t/pod-coverage.t ................. skipped: Author test.  Set $ENV{AUTHOR_TESTING} to true to run.
t/repeat.t ....................... ok
t/hints_provider_does.t .......... ok
t/exceptions.t ................... ok
t/read.t ......................... ok
t/rt-74246.t ..................... ok
t/socket.t ....................... skipped: Author test.  Set $ENV{AUTHOR_TESTING} to true to run.
# Sub::Identify is loaded
t/hints.t ........................ ok
t/string-eval-leak.t ............. ok
t/recv.t ......................... ok
t/system.t ....................... skipped: IPC::System::Simple not installed
t/scope_leak.t ................... ok
t/mkdir.t ........................ ok
t/open.t ......................... ok
t/skip.t ......................... ok
t/format-clobber.t ............... ok
t/version.t ...................... skipped: Release test.  Set $ENV{RELEASE_TESTING} to true to run.
t/sysopen.t ...................... ok
t/string-eval-basic.t ............ ok
t/hints_pod_examples.t ........... ok
t/usersub.t ...................... ok
t/version_tag.t .................. ok
t/user-context.t ................. ok
t/utime.t ........................ ok
t/unlink.t ....................... ok
t/truncate.t ..................... ok
t/utf8_open.t .................... ok
All tests successful.
Files=66, Tests=495,  0 wallclock secs ( 0.13 usr  0.04 sys +  2.20 cusr  0.59 csys =  2.96 CPU)
Result: PASS

------------------------------
PREREQUISITES
------------------------------

Prerequisite modules loaded:

requires:

    Module              Need     Have    
    ------------------- -------- --------
    B                   0        1.29    
    Carp                0        1.3301  
    constant            0        1.27    
    Exporter            5.57     5.70    
    Fcntl               0        1.11    
    overload            0        1.13    
    parent              0        0.232   
    perl                5.008004 5.014001
    POSIX               0        1.24    
    Scalar::Util        0        1.41    
    strict              0        1.04    
    Tie::RefHash        0        1.39    
    warnings            0        1.12    

build_requires:

    Module              Need     Have    
    ------------------- -------- --------
    ExtUtils::MakeMaker 0        7.18    
    File::Copy          0        2.21    
    File::Spec          0        3.47    
    File::Temp          0        0.2304  
    FindBin             0        1.50    
    if                  0        0.0601  
    IO::Handle          0        1.31    
    lib                 0        0.63    
    Socket              0        2.018   
    Test::More          0        1.001014

configure_requires:

    Module              Need     Have    
    ------------------- -------- --------
    ExtUtils::MakeMaker 0        7.18    


------------------------------
ENVIRONMENT AND OTHER CONTEXT
------------------------------

Environment variables:

    AUTOMATED_TESTING = 1
    HARNESS_OPTIONS = j20
    LANG = en_US.UTF-8
    PATH = /home/njh/perl5/perlbrew/bin:/home/njh/perl5/perlbrew/perls/perl-5.14.1/bin:/home/njh/perl5/perlbrew/bin:/usr/bin:/bin
    PERL5LIB = /home/njh/.cpan/build/LWP-Authen-OAuth2-0.12-8EUMqA/blib/arch:/home/njh/.cpan/build/LWP-Authen-OAuth2-0.12-8EUMqA/blib/lib:/home/njh/.cpan/build/Method-Signatures-20160315-oRozTA/blib/arch:/home/njh/.cpan/build/Method-Signatures-20160315-oRozTA/blib/lib:/home/njh/.cpan/build/Any-Moose-0.26-TLYzSg/blib/arch:/home/njh/.cpan/build/Any-Moose-0.26-TLYzSg/blib/lib:/home/njh/.cpan/build/Devel-Declare-0.006018-YNSs4K/blib/arch:/home/njh/.cpan/build/Devel-Declare-0.006018-YNSs4K/blib/lib:/home/njh/.cpan/build/Mouse-v2.4.5-KDPuoU/blib/arch:/home/njh/.cpan/build/Mouse-v2.4.5-KDPuoU/blib/lib:/home/njh/.cpan/build/Test-Output-1.03-9MHbnv/blib/arch:/home/njh/.cpan/build/Test-Output-1.03-9MHbnv/blib/lib:/home/njh/.cpan/build/Test-LeakTrace-0.15-r7MKst/blib/arch:/home/njh/.cpan/build/Test-LeakTrace-0.15-r7MKst/blib/lib:/home/njh/.cpan/build/Module-Build-XSUtil-0.16-t09g3p/blib/arch:/home/njh/.cpan/build/Module-Build-XSUtil-0.16-t09g3p/blib/lib:/home/njh/.cpan/build/Devel-CheckCompiler-0.06-X1ixeO/blib/arch:/home/njh/.cpan/build/Devel-CheckCompiler-0.06-X1ixeO/blib/lib:/home/njh/.cpan/build/Cwd-Guard-0.05-cZhctp/blib/arch:/home/njh/.cpan/build/Cwd-Guard-0.05-cZhctp/blib/lib:/home/njh/.cpan/build/Scalar-Util-Reftype-0.44-6JKBkT/blib/arch:/home/njh/.cpan/build/Scalar-Util-Reftype-0.44-6JKBkT/blib/lib
    PERL5OPT = 
    PERL5_CPANPLUS_IS_RUNNING = 30361
    PERL5_CPAN_IS_RUNNING = 30361
    PERLBREW_BASHRC_VERSION = 0.76
    PERLBREW_HOME = /home/njh/.perlbrew
    PERLBREW_LIB = 
    PERLBREW_MANPATH = /home/njh/perl5/perlbrew/perls/perl-5.14.1/man
    PERLBREW_PATH = /home/njh/perl5/perlbrew/bin:/home/njh/perl5/perlbrew/perls/perl-5.14.1/bin
    PERLBREW_PERL = perl-5.14.1
    PERLBREW_ROOT = /home/njh/perl5/perlbrew
    PERLBREW_VERSION = 0.76
    PERL_LOCAL_LIB_ROOT = 
    SHELL = /bin/sh

Perl special variables (and OS-specific diagnostics, for MSWin32):

    $^X = /home/njh/perl5/perlbrew/perls/perl-5.14.1/bin/perl
    $UID/$EUID = 1000 / 1000
    $GID = 1000 4 24 25 29 30 44 46 107 112 118 1000
    $EGID = 1000 4 24 25 29 30 44 46 107 112 118 1000

Perl module toolchain versions installed:

    Module              Have    
    ------------------- --------
    CPAN                1.9800  
    CPAN::Meta          2.150001
    Cwd                 3.47    
    ExtUtils::CBuilder  0.280220
    ExtUtils::Command   7.18    
    ExtUtils::Install   2.04    
    ExtUtils::MakeMaker 7.18    
    ExtUtils::Manifest  1.70    
    ExtUtils::ParseXS   3.24    
    File::Spec          3.47    
    JSON                2.61    
    JSON::PP            2.27300 
    Module::Build       0.4211  
    Module::Signature   n/a     
    Parse::CPAN::Meta   1.4414  
    Test::Harness       3.28    
    Test::More          1.001014
    YAML                1.15    
    YAML::Syck          1.29    
    version             0.9912  


--

Summary of my perl5 (revision 5 version 14 subversion 1) configuration:
   
  Platform:
    osname=linux, osvers=3.16-2-amd64, archname=x86_64-linux-thread-multi
    uname='linux cyberpower2 3.16-2-amd64 #1 smp debian 3.16.3-2 (2014-09-20) x86_64 gnulinux '
    config_args='-de -Dprefix=/home/njh/perl5/perlbrew/perls/perl-5.14.1 -Duseithreads -Dusemultiplicity -Dusedevel -Accflags=-O2 -W -Wformat=2 -Wswitch -Wshadow -Wwrite-strings -Wuninitialized -Wall -pipe -mtune=native -march=native -fomit-frame-pointer -msse2 -msse -mmmx -mfpmath=sse -pedantic -D_FORTIFY_SOURCE=2 -Wpointer-arith -Wstrict-prototypes -fstack-protector -Wstack-protector -Wextra -Wbad-function-cast -Wcast-align -Wcast-qual -Wdisabled-optimization -Wendif-labels -Wfloat-equal -Wformat-nonliteral -Winline -Wmissing-declarations -Wmissing-prototypes -Wnested-externs -Wpointer-arith -Wundef -Wformat-security -ftree-vectorize -fdiagnostics-color=auto -Aeval:scriptdir=/home/njh/perl5/perlbrew/perls/perl-5.14.1/bin'
    hint=recommended, useposix=true, d_sigaction=define
    useithreads=define, usemultiplicity=define
    useperlio=define, d_sfio=undef, uselargefiles=define, usesocks=undef
    use64bitint=define, use64bitall=define, uselongdouble=undef
    usemymalloc=n, bincompat5005=undef
  Compiler:
    cc='cc', ccflags ='-D_REENTRANT -D_GNU_SOURCE -O2 -W -Wformat=2 -Wswitch -Wshadow -Wwrite-strings -Wuninitialized -Wall -pipe -mtune=native -march=native -fomit-frame-pointer -msse2 -msse -mmmx -mfpmath=sse -pedantic -D_FORTIFY_SOURCE=2 -Wpointer-arith -Wstrict-prototypes -fstack-protector -Wstack-protector -Wextra -Wbad-function-cast -Wcast-align -Wcast-qual -Wdisabled-optimization -Wendif-labels -Wfloat-equal -Wformat-nonliteral -Winline -Wmissing-declarations -Wmissing-prototypes -Wnested-externs -Wpointer-arith -Wundef -Wformat-security -ftree-vectorize -fdiagnostics-color=auto -fno-strict-aliasing -I/usr/local/include -D_LARGEFILE_SOURCE -D_FILE_OFFSET_BITS=64',
    optimize='-O2',
    cppflags='-D_REENTRANT -D_GNU_SOURCE -O2 -W -Wformat=2 -Wswitch -Wshadow -Wwrite-strings -Wuninitialized -Wall -pipe -mtune=native -march=native -fomit-frame-pointer -msse2 -msse -mmmx -mfpmath=sse -pedantic -D_FORTIFY_SOURCE=2 -Wpointer-arith -Wstrict-prototypes -fstack-protector -Wstack-protector -Wextra -Wbad-function-cast -Wcast-align -Wcast-qual -Wdisabled-optimization -Wendif-labels -Wfloat-equal -Wformat-nonliteral -Winline -Wmissing-declarations -Wmissing-prototypes -Wnested-externs -Wpointer-arith -Wundef -Wformat-security -ftree-vectorize -fdiagnostics-color=auto -fno-strict-aliasing -I/usr/local/include'
    ccversion='', gccversion='4.9.1', gccosandvers=''
    intsize=4, longsize=8, ptrsize=8, doublesize=8, byteorder=12345678
    d_longlong=define, longlongsize=8, d_longdbl=define, longdblsize=16
    ivtype='long', ivsize=8, nvtype='double', nvsize=8, Off_t='off_t', lseeksize=8
    alignbytes=8, prototype=define
  Linker and Libraries:
    ld='cc', ldflags =' -fstack-protector -L/usr/local/lib'
    libpth=/usr/local/lib /lib/x86_64-linux-gnu /lib/../lib /usr/lib/x86_64-linux-gnu /usr/lib/../lib /lib /usr/lib
    libs=-lnsl -lgdbm -ldb -ldl -lm -lcrypt -lutil -lpthread -lc -lgdbm_compat
    perllibs=-lnsl -ldl -lm -lcrypt -lutil -lpthread -lc
    libc=libc-2.19.so, so=so, useshrplib=false, libperl=libperl.a
    gnulibc_version='2.19'
  Dynamic Linking:
    dlsrc=dl_dlopen.xs, dlext=so, d_dlsymun=undef, ccdlflags='-Wl,-E'
    cccdlflags='-fPIC', lddlflags='-shared -O2 -L/usr/local/lib -fstack-protector'


Characteristics of this binary (from libperl): 
  Compile-time options: MULTIPLICITY PERL_DONT_CREATE_GVSV
                        PERL_IMPLICIT_CONTEXT PERL_MALLOC_WRAP
                        PERL_PRESERVE_IVUV PERL_USE_DEVEL USE_64_BIT_ALL
                        USE_64_BIT_INT USE_ITHREADS USE_LARGE_FILES
                        USE_PERLIO USE_PERL_ATOF USE_REENTRANT_API
  Built under linux
  Compiled at Oct 15 2014 08:59:53
  %ENV:
    PERL5LIB="/home/njh/.cpan/build/LWP-Authen-OAuth2-0.12-8EUMqA/blib/arch:/home/njh/.cpan/build/LWP-Authen-OAuth2-0.12-8EUMqA/blib/lib:/home/njh/.cpan/build/Method-Signatures-20160315-oRozTA/blib/arch:/home/njh/.cpan/build/Method-Signatures-20160315-oRozTA/blib/lib:/home/njh/.cpan/build/Any-Moose-0.26-TLYzSg/blib/arch:/home/njh/.cpan/build/Any-Moose-0.26-TLYzSg/blib/lib:/home/njh/.cpan/build/Devel-Declare-0.006018-YNSs4K/blib/arch:/home/njh/.cpan/build/Devel-Declare-0.006018-YNSs4K/blib/lib:/home/njh/.cpan/build/Mouse-v2.4.5-KDPuoU/blib/arch:/home/njh/.cpan/build/Mouse-v2.4.5-KDPuoU/blib/lib:/home/njh/.cpan/build/Test-Output-1.03-9MHbnv/blib/arch:/home/njh/.cpan/build/Test-Output-1.03-9MHbnv/blib/lib:/home/njh/.cpan/build/Test-LeakTrace-0.15-r7MKst/blib/arch:/home/njh/.cpan/build/Test-LeakTrace-0.15-r7MKst/blib/lib:/home/njh/.cpan/build/Module-Build-XSUtil-0.16-t09g3p/blib/arch:/home/njh/.cpan/build/Module-Build-XSUtil-0.16-t09g3p/blib/lib:/home/njh/.cpan/build/Devel-CheckCompiler-0.06-X1ixeO/blib/arch:/home/njh/.cpan/build/Devel-CheckCompiler-0.06-X1ixeO/blib/lib:/home/njh/.cpan/build/Cwd-Guard-0.05-cZhctp/blib/arch:/home/njh/.cpan/build/Cwd-Guard-0.05-cZhctp/blib/lib:/home/njh/.cpan/build/Scalar-Util-Reftype-0.44-6JKBkT/blib/arch:/home/njh/.cpan/build/Scalar-Util-Reftype-0.44-6JKBkT/blib/lib"
    PERL5OPT=""
    PERL5_CPANPLUS_IS_RUNNING="30361"
    PERL5_CPAN_IS_RUNNING="30361"
    PERLBREW_BASHRC_VERSION="0.76"
    PERLBREW_HOME="/home/njh/.perlbrew"
    PERLBREW_LIB=""
    PERLBREW_MANPATH="/home/njh/perl5/perlbrew/perls/perl-5.14.1/man"
    PERLBREW_PATH="/home/njh/perl5/perlbrew/bin:/home/njh/perl5/perlbrew/perls/perl-5.14.1/bin"
    PERLBREW_PERL="perl-5.14.1"
    PERLBREW_ROOT="/home/njh/perl5/perlbrew"
    PERLBREW_VERSION="0.76"
    PERL_LOCAL_LIB_ROOT=""
  @INC:
    /home/njh/.cpan/build/LWP-Authen-OAuth2-0.12-8EUMqA/blib/arch
    /home/njh/.cpan/build/LWP-Authen-OAuth2-0.12-8EUMqA/blib/lib
    /home/njh/.cpan/build/Method-Signatures-20160315-oRozTA/blib/arch
    /home/njh/.cpan/build/Method-Signatures-20160315-oRozTA/blib/lib
    /home/njh/.cpan/build/Any-Moose-0.26-TLYzSg/blib/arch
    /home/njh/.cpan/build/Any-Moose-0.26-TLYzSg/blib/lib
    /home/njh/.cpan/build/Devel-Declare-0.006018-YNSs4K/blib/arch
    /home/njh/.cpan/build/Devel-Declare-0.006018-YNSs4K/blib/lib
    /home/njh/.cpan/build/Mouse-v2.4.5-KDPuoU/blib/arch
    /home/njh/.cpan/build/Mouse-v2.4.5-KDPuoU/blib/lib
    /home/njh/.cpan/build/Test-Output-1.03-9MHbnv/blib/arch
    /home/njh/.cpan/build/Test-Output-1.03-9MHbnv/blib/lib
    /home/njh/.cpan/build/Test-LeakTrace-0.15-r7MKst/blib/arch
    /home/njh/.cpan/build/Test-LeakTrace-0.15-r7MKst/blib/lib
    /home/njh/.cpan/build/Module-Build-XSUtil-0.16-t09g3p/blib/arch
    /home/njh/.cpan/build/Module-Build-XSUtil-0.16-t09g3p/blib/lib
    /home/njh/.cpan/build/Devel-CheckCompiler-0.06-X1ixeO/blib/arch
    /home/njh/.cpan/build/Devel-CheckCompiler-0.06-X1ixeO/blib/lib
    /home/njh/.cpan/build/Cwd-Guard-0.05-cZhctp/blib/arch
    /home/njh/.cpan/build/Cwd-Guard-0.05-cZhctp/blib/lib
    /home/njh/.cpan/build/Scalar-Util-Reftype-0.44-6JKBkT/blib/arch
    /home/njh/.cpan/build/Scalar-Util-Reftype-0.44-6JKBkT/blib/lib
    /home/njh/perl5/perlbrew/perls/perl-5.14.1/lib/site_perl/5.14.1/x86_64-linux-thread-multi
    /home/njh/perl5/perlbrew/perls/perl-5.14.1/lib/site_perl/5.14.1
    /home/njh/perl5/perlbrew/perls/perl-5.14.1/lib/5.14.1/x86_64-linux-thread-multi
    /home/njh/perl5/perlbrew/perls/perl-5.14.1/lib/5.14.1
    .