Report for Array-Each-0.03

Back
From: metabase:user:8286d1fc-3d52-11e2-9ec4-cb9cdd236785
Subject: PASS Array-Each-0.03 v5.8.9 GNU/Linux
Date: 2014-03-09T05:56:01Z

This distribution has been tested as part of the CPAN Testers
project, supporting the Perl programming language.  See
http://wiki.cpantesters.org/ for more information or email
questions to cpan-testers-discuss@perl.org


--
Dear Brad Baxter,

This is a computer-generated report for Array-Each-0.03
on perl 5.8.9, created by CPAN-Reporter-1.2010.

Thank you for uploading your work to CPAN.  Congratulations!
All tests were successful.

Sections of this report:

    * Tester comments
    * Program output
    * Prerequisites
    * Environment and other context

------------------------------
TESTER COMMENTS
------------------------------

Additional comments from tester:

this report is from an automated smoke testing program
and was not reviewed by a human for accuracy

------------------------------
PROGRAM OUTPUT
------------------------------

Output from '/usr/local/bin/make test':

PERL_DL_NONLAZY=1 /opt/perl420-27-5.8.9/perl "-MExtUtils::Command::MM" "-MTest::Harness" "-e" "undef *Test::Harness::Switches; test_harness(0, 'blib/lib', 'blib/arch')" t/*.t
t/01-AE-pod_examples.t .. ok
t/02-AE-attributes.t .... ok
t/03-AE-methods.t ....... ok
t/04-AE-validate.t ...... ok
t/05-AE-parms_combos.t .. ok
t/06-AE-one_off.t ....... ok
t/07-AE-tut_examples.t .. ok
t/08-AE-count_combos.t .. ok
All tests successful.
Files=8, Tests=236,  1 wallclock secs ( 0.21 usr  0.05 sys +  0.92 cusr  0.19 csys =  1.37 CPU)
Result: PASS

------------------------------
PREREQUISITES
------------------------------

Prerequisite modules loaded:

configure_requires:

    Module              Need Have
    ------------------- ---- ----
    ExtUtils::MakeMaker 0    6.90


------------------------------
ENVIRONMENT AND OTHER CONTEXT
------------------------------

Environment variables:

    AUTOMATED_TESTING = 1
    LANG = en_US.UTF-8
    LD_LIBRARY_PATH = /usr/local/lib
    PATH = /usr/lib/qt-3.3/bin:/usr/kerberos/sbin:/usr/kerberos/bin:/usr/lib/ccache:/usr/local/sbin:/usr/local/bin:/sbin:/bin:/usr/sbin:/usr/bin:/usr/X11R6/bin:/usr/lib/alliance/bin:/opt/real/RealPlayer:/root/bin:/usr/lib/alliance/bin:/opt/real/RealPlayer
    PERL5LIB = /root/.cpan/build/Array-Diff-0.07-IE85fh/blib/arch:/root/.cpan/build/Array-Diff-0.07-IE85fh/blib/lib:/root/.cpan/build/Array-DeepUtils-0.2-vgd7Dn/blib/arch:/root/.cpan/build/Array-DeepUtils-0.2-vgd7Dn/blib/lib:/root/.cpan/build/Array-Compare-2.02-uOo731/blib/arch:/root/.cpan/build/Array-Compare-2.02-uOo731/blib/lib:/root/.cpan/build/Array-Base-0.005-pcDF1s/blib/arch:/root/.cpan/build/Array-Base-0.005-pcDF1s/blib/lib:/root/.cpan/build/Array-Average-0.02-AuAAC9/blib/arch:/root/.cpan/build/Array-Average-0.02-AuAAC9/blib/lib:/root/.cpan/build/Array-Autojoin-0.03-0vwwkU/blib/arch:/root/.cpan/build/Array-Autojoin-0.03-0vwwkU/blib/lib:/root/.cpan/build/Array-Assign-0.01-uthfjM/blib/arch:/root/.cpan/build/Array-Assign-0.01-uthfjM/blib/lib
    PERL5OPT = 
    PERL5_CPANPLUS_IS_RUNNING = 18918
    PERL5_CPAN_IS_RUNNING = 18918
    PERL_ANYEVENT_MODEL = POE
    PERL_MM_NONINTERACTIVE = 1
    PERL_MM_USE_DEFAULT = 1
    SHELL = /bin/bash
    TERM = xterm

Perl special variables (and OS-specific diagnostics, for MSWin32):

    $^X = /opt/perl420-27-5.8.9/perl
    $UID/$EUID = 0 / 0
    $GID = 0 0 1 2 3 4 6 10
    $EGID = 0 0 1 2 3 4 6 10

Perl module toolchain versions installed:

    Module              Have    
    ------------------- --------
    CPAN                1.9301  
    CPAN::Meta          2.140640
    Cwd                 3.40    
    ExtUtils::CBuilder  0.280212
    ExtUtils::Command   1.18    
    ExtUtils::Install   1.54    
    ExtUtils::MakeMaker 6.90    
    ExtUtils::Manifest  1.60    
    ExtUtils::ParseXS   3.24    
    File::Spec          3.40    
    JSON                2.90    
    JSON::PP            2.27203 
    Module::Build       0.4205  
    Module::Signature   0.73    
    Parse::CPAN::Meta   1.4414  
    Test::Harness       3.30    
    Test::More          1.001002
    YAML                0.90    
    YAML::Syck          1.27    
    version             0.9908  


--

Summary of my perl5 (revision 5 version 8 subversion 9) configuration:
  Platform:
    osname=linux, osvers=2.6.27-repin.1, archname=i686-linux-thread-multi-64int-ld
    uname='linux localhost.localdomain 2.6.27-repin.1 #1 smp tue jan 25 20:07:21 msk 2011 i686 i686 i386 gnulinux '
    config_args='-Dcc=/opt/420/bin/gcc -D_GNU_SOURCE -D_REENTRANT -DDMALLOC -Dprefix=/opt/perl420-27-5.8.9 -DDEBUGGING -Dusethreads -Dusemalloc=/usr/local/bin/dmalloc'
    hint=recommended, useposix=true, d_sigaction=define
    usethreads=define use5005threads=undef useithreads=define usemultiplicity=define
    useperlio=define d_sfio=undef uselargefiles=define usesocks=undef
    use64bitint=define use64bitall=undef uselongdouble=define
    usemymalloc=n, bincompat5005=undef
  Compiler:
    cc='/opt/420/bin/gcc', ccflags ='-D_REENTRANT -D_GNU_SOUIRCE -DDMALLOC -DDEBUGGING -D_LARGEFILE_SOURCE -D_FILE_OFFSET_BITS=64 -I/usr/include/gdbm',
    optimize='-O2 -g',
    cppflags='-D_REENTRANT -D_GNU_SOUIRCE -DDMALLOC -DDEBUGGING -I/usr/include/gdbm'
    ccversion='', gccversion='4.2.0', gccosandvers=''
    intsize=4, longsize=4, ptrsize=4, doublesize=8, byteorder=12345678
    d_longlong=define, longlongsize=8, d_longdbl=define, longdblsize=12
    ivtype='long long', ivsize=8, nvtype='long double', nvsize=12, Off_t='off_t', lseeksize=8
    alignbytes=4, prototype=define
  Linker and Libraries:
    ld='/opt/420/bin/gcc', ldflags =' -L/usr/local/lib'
    libpth=/usr/local/lib /lib /usr/lib
    libs=-lnsl -lgdbm -ldb -ldl -lm -lcrypt -lutil -lpthread -lc
    perllibs=-lnsl -ldl -lm -lcrypt -lutil -lpthread -lc
    libc=/lib/libc-2.5.so, so=so, useshrplib=true, libperl=libperl.so
    gnulibc_version='2.5'
  Dynamic Linking:
    dlsrc=dl_dlopen.xs, dlext=so, d_dlsymun=undef, ccdlflags='-Wl,-E -Wl,-rpath,/opt/perl420-27-5.8.9/lib/5.8.9/i686-linux-thread-multi-64int-ld/CORE'
    cccdlflags='-fPIC', lddlflags='-shared -O2 -g -L/usr/local/lib'


Characteristics of this binary (from libperl): 
  Compile-time options: DEBUGGING MULTIPLICITY PERL_IMPLICIT_CONTEXT
                        PERL_MALLOC_WRAP USE_64_BIT_INT USE_FAST_STDIO
                        USE_ITHREADS USE_LARGE_FILES USE_LONG_DOUBLE
                        USE_PERLIO USE_REENTRANT_API
  Built under linux
  Compiled at Mar  3 2014 02:03:45
  %ENV:
    PERL5LIB="/root/.cpan/build/Array-Diff-0.07-IE85fh/blib/arch:/root/.cpan/build/Array-Diff-0.07-IE85fh/blib/lib:/root/.cpan/build/Array-DeepUtils-0.2-vgd7Dn/blib/arch:/root/.cpan/build/Array-DeepUtils-0.2-vgd7Dn/blib/lib:/root/.cpan/build/Array-Compare-2.02-uOo731/blib/arch:/root/.cpan/build/Array-Compare-2.02-uOo731/blib/lib:/root/.cpan/build/Array-Base-0.005-pcDF1s/blib/arch:/root/.cpan/build/Array-Base-0.005-pcDF1s/blib/lib:/root/.cpan/build/Array-Average-0.02-AuAAC9/blib/arch:/root/.cpan/build/Array-Average-0.02-AuAAC9/blib/lib:/root/.cpan/build/Array-Autojoin-0.03-0vwwkU/blib/arch:/root/.cpan/build/Array-Autojoin-0.03-0vwwkU/blib/lib:/root/.cpan/build/Array-Assign-0.01-uthfjM/blib/arch:/root/.cpan/build/Array-Assign-0.01-uthfjM/blib/lib"
    PERL5OPT=""
    PERL5_CPANPLUS_IS_RUNNING="18918"
    PERL5_CPAN_IS_RUNNING="18918"
    PERL_ANYEVENT_MODEL="POE"
    PERL_MM_NONINTERACTIVE="1"
    PERL_MM_USE_DEFAULT="1"
  @INC:
    /root/.cpan/build/Array-Diff-0.07-IE85fh/blib/arch
    /root/.cpan/build/Array-Diff-0.07-IE85fh/blib/lib
    /root/.cpan/build/Array-DeepUtils-0.2-vgd7Dn/blib/arch
    /root/.cpan/build/Array-DeepUtils-0.2-vgd7Dn/blib/lib
    /root/.cpan/build/Array-Compare-2.02-uOo731/blib/arch
    /root/.cpan/build/Array-Compare-2.02-uOo731/blib/lib
    /root/.cpan/build/Array-Base-0.005-pcDF1s/blib/arch
    /root/.cpan/build/Array-Base-0.005-pcDF1s/blib/lib
    /root/.cpan/build/Array-Average-0.02-AuAAC9/blib/arch
    /root/.cpan/build/Array-Average-0.02-AuAAC9/blib/lib
    /root/.cpan/build/Array-Autojoin-0.03-0vwwkU/blib/arch
    /root/.cpan/build/Array-Autojoin-0.03-0vwwkU/blib/lib
    /root/.cpan/build/Array-Assign-0.01-uthfjM/blib/arch
    /root/.cpan/build/Array-Assign-0.01-uthfjM/blib/lib
    /opt/perl420-27-5.8.9/lib/5.8.9/i686-linux-thread-multi-64int-ld
    /opt/perl420-27-5.8.9/lib/5.8.9
    /opt/perl420-27-5.8.9/lib/site_perl/5.8.9/i686-linux-thread-multi-64int-ld
    /opt/perl420-27-5.8.9/lib/site_perl/5.8.9
    .