Report for Color-Calc-DEPRECATED-1.070

Back
From: metabase:user:315f03b2-2aae-11df-837a-5e0a49663a4f
Subject: PASS Color-Calc-DEPRECATED-1.070 v5.12.1 GNU/Linux
Date: 2010-10-24T05:35:21Z

This distribution has been tested as part of the CPAN Testers
project, supporting the Perl programming language.  See
http://wiki.cpantesters.org/ for more information or email
questions to cpan-testers-discuss@perl.org


--
Dear Claus Faerber,

This is a computer-generated report for Color-Calc-DEPRECATED-1.070
on perl 5.12.1, created by CPAN-Reporter-1.1711.

Thank you for uploading your work to CPAN.  Congratulations!
All tests were successful.

Sections of this report:

    * Tester comments
    * Program output
    * Prerequisites
    * Environment and other context

------------------------------
TESTER COMMENTS
------------------------------

Additional comments from tester:

this report is from an automated smoke testing program
and was not reviewed by a human for accuracy

------------------------------
PROGRAM OUTPUT
------------------------------

Output from 'make test':

PERL_DL_NONLAZY=1 /usr/local/perl-5.12.1-threads/bin/perl "-MExtUtils::Command::MM" "-e" "test_harness(0, 'blib/lib', 'blib/arch')" t/*.t
t/DEPRECATED_import_hex.t ..... ok
t/DEPRECATED_import_html.t .... ok
t/DEPRECATED_import_object.t .. ok
t/DEPRECATED_import_tuple.t ... ok
t/DEPRECATED_non-import.t ..... ok
All tests successful.
Files=5, Tests=106,  1 wallclock secs ( 0.08 usr  0.05 sys +  0.51 cusr  0.15 csys =  0.79 CPU)
Result: PASS

------------------------------
PREREQUISITES
------------------------------

Prerequisite modules loaded:

requires:

    Module        Need Have  
    ------------- ---- ------
    Color::Calc   1.07 1.070 

configure_requires:

    Module        Need Have  
    ------------- ---- ------
    Module::Build 0.36 0.3603


------------------------------
ENVIRONMENT AND OTHER CONTEXT
------------------------------

Environment variables:

    AUTOMATED_TESTING = 1
    LANG = en_US.UTF-8
    PATH = /usr/local/bin:/usr/bin:/bin:/usr/games
    PERL5LIB = /home/smoke/.cpan/build/Color-Calc-1.070-NTJUHW/blib/arch:/home/smoke/.cpan/build/Color-Calc-1.070-NTJUHW/blib/lib:/home/smoke/.cpan/build/Graphics-ColorNames-WWW-1.13-CAei70/blib/arch:/home/smoke/.cpan/build/Graphics-ColorNames-WWW-1.13-CAei70/blib/lib:/home/smoke/.cpan/build/Params-Validate-0.95-yfcstH/blib/arch:/home/smoke/.cpan/build/Params-Validate-0.95-yfcstH/blib/lib:/home/smoke/.cpan/build/Graphics-ColorNames-2.11-zhgvgn/blib/arch:/home/smoke/.cpan/build/Graphics-ColorNames-2.11-zhgvgn/blib/lib
    PERL5OPT = 
    PERL5_CPANPLUS_IS_RUNNING = 445
    PERL5_CPAN_IS_RUNNING = 445
    PERL5_CPAN_IS_RUNNING_IN_RECURSION = 25007,445
    PERL_CR_SMOKER_CURRENT = Color-Calc-DEPRECATED-1.070
    PERL_EXTUTILS_AUTOINSTALL = --defaultdeps
    PERL_MM_USE_DEFAULT = 1
    SHELL = /bin/bash
    TERM = screen

Perl special variables (and OS-specific diagnostics, for MSWin32):

    $^X = /usr/local/perl-5.12.1-threads/bin/perl
    $UID/$EUID = 1001 / 1001
    $GID = 1001 1001
    $EGID = 1001 1001

Perl module toolchain versions installed:

    Module              Have   
    ------------------- -------
    CPAN                1.94_56
    Cwd                 3.31   
    ExtUtils::CBuilder  0.27   
    ExtUtils::Command   1.16   
    ExtUtils::Install   1.55   
    ExtUtils::MakeMaker 6.56   
    ExtUtils::Manifest  1.57   
    ExtUtils::ParseXS   2.21   
    File::Spec          3.31   
    Module::Build       0.3603 
    Module::Signature   n/a    
    Test::Harness       3.17   
    Test::More          0.94   
    YAML                n/a    
    YAML::Syck          n/a    
    version             0.82   


--

Summary of my perl5 (revision 5 version 12 subversion 1) configuration:
   
  Platform:
    osname=linux, osvers=2.6.32-5-xen-686, archname=i686-linux-thread-multi
    uname='linux prickle 2.6.32-5-xen-686 #1 smp tue jun 1 08:48:09 utc 2010 i686 gnulinux '
    config_args=''
    hint=recommended, useposix=true, d_sigaction=define
    useithreads=define, usemultiplicity=define
    useperlio=define, d_sfio=undef, uselargefiles=define, usesocks=undef
    use64bitint=undef, use64bitall=undef, uselongdouble=undef
    usemymalloc=n, bincompat5005=undef
  Compiler:
    cc='cc', ccflags ='-D_REENTRANT -D_GNU_SOURCE -fno-strict-aliasing -pipe -fstack-protector -I/usr/local/include -D_LARGEFILE_SOURCE -D_FILE_OFFSET_BITS=64',
    optimize='-O2',
    cppflags='-D_REENTRANT -D_GNU_SOURCE -fno-strict-aliasing -pipe -fstack-protector -I/usr/local/include'
    ccversion='', gccversion='4.3.2', gccosandvers=''
    intsize=4, longsize=4, ptrsize=4, doublesize=8, byteorder=1234
    d_longlong=define, longlongsize=8, d_longdbl=define, longdblsize=12
    ivtype='long', ivsize=4, nvtype='double', nvsize=8, Off_t='off_t', lseeksize=8
    alignbytes=4, prototype=define
  Linker and Libraries:
    ld='cc', ldflags =' -fstack-protector -L/usr/local/lib'
    libpth=/usr/local/lib /lib /usr/lib
    libs=-lnsl -ldl -lm -lcrypt -lutil -lpthread -lc
    perllibs=-lnsl -ldl -lm -lcrypt -lutil -lpthread -lc
    libc=/lib/libc-2.11.2.so, so=so, useshrplib=false, libperl=libperl.a
    gnulibc_version='2.11.2'
  Dynamic Linking:
    dlsrc=dl_dlopen.xs, dlext=so, d_dlsymun=undef, ccdlflags='-Wl,-E'
    cccdlflags='-fPIC', lddlflags='-shared -O2 -L/usr/local/lib -fstack-protector'


Characteristics of this binary (from libperl): 
  Compile-time options: MULTIPLICITY PERL_DONT_CREATE_GVSV
                        PERL_IMPLICIT_CONTEXT PERL_MALLOC_WRAP USE_ITHREADS
                        USE_LARGE_FILES USE_PERLIO USE_PERL_ATOF
                        USE_REENTRANT_API
  Built under linux
  Compiled at Jul 17 2010 17:42:30
  %ENV:
    PERL5LIB="/home/smoke/.cpan/build/Color-Calc-1.070-NTJUHW/blib/arch:/home/smoke/.cpan/build/Color-Calc-1.070-NTJUHW/blib/lib:/home/smoke/.cpan/build/Graphics-ColorNames-WWW-1.13-CAei70/blib/arch:/home/smoke/.cpan/build/Graphics-ColorNames-WWW-1.13-CAei70/blib/lib:/home/smoke/.cpan/build/Params-Validate-0.95-yfcstH/blib/arch:/home/smoke/.cpan/build/Params-Validate-0.95-yfcstH/blib/lib:/home/smoke/.cpan/build/Graphics-ColorNames-2.11-zhgvgn/blib/arch:/home/smoke/.cpan/build/Graphics-ColorNames-2.11-zhgvgn/blib/lib"
    PERL5OPT=""
    PERL5_CPANPLUS_IS_RUNNING="445"
    PERL5_CPAN_IS_RUNNING="445"
    PERL5_CPAN_IS_RUNNING_IN_RECURSION="25007,445"
    PERL_CR_SMOKER_CURRENT="Color-Calc-DEPRECATED-1.070"
    PERL_EXTUTILS_AUTOINSTALL="--defaultdeps"
    PERL_MM_USE_DEFAULT="1"
  @INC:
    /home/smoke/.cpan/build/Color-Calc-1.070-NTJUHW/blib/arch
    /home/smoke/.cpan/build/Color-Calc-1.070-NTJUHW/blib/lib
    /home/smoke/.cpan/build/Graphics-ColorNames-WWW-1.13-CAei70/blib/arch
    /home/smoke/.cpan/build/Graphics-ColorNames-WWW-1.13-CAei70/blib/lib
    /home/smoke/.cpan/build/Params-Validate-0.95-yfcstH/blib/arch
    /home/smoke/.cpan/build/Params-Validate-0.95-yfcstH/blib/lib
    /home/smoke/.cpan/build/Graphics-ColorNames-2.11-zhgvgn/blib/arch
    /home/smoke/.cpan/build/Graphics-ColorNames-2.11-zhgvgn/blib/lib
    /usr/local/perl-5.12.1-threads/lib/site_perl/5.12.1/i686-linux-thread-multi
    /usr/local/perl-5.12.1-threads/lib/site_perl/5.12.1
    /usr/local/perl-5.12.1-threads/lib/5.12.1/i686-linux-thread-multi
    /usr/local/perl-5.12.1-threads/lib/5.12.1
    .