Debug-Client v0.31 Perl 5 v5.32.1 i386-openbsd

Status
Pass
From
Alceu Rodrigues de Freitas Junior
Dist
Debug-Client v0.31
Platform
Perl 5 v5.32.1 i386-openbsd
Date
2022-06-27 20:55:36
ID
7eb72f50-f65b-11ec-b737-db65ffa5fe2c
This distribution has been tested as part of the CPAN Testers
project, supporting the Perl programming language.  See
http://wiki.cpantesters.org/ for more information or email
questions to cpan-testers-discuss@perl.org


--
Dear Mohammad S Anwar,

This is a computer-generated report for Debug-Client-0.31
on perl 5.32.1, created by CPAN-Reporter-1.2018.

Thank you for uploading your work to CPAN.  Congratulations!
All tests were successful.

Sections of this report:

    * Tester comments
    * Program output
    * Prerequisites
    * Environment and other context

------------------------------
TESTER COMMENTS
------------------------------

Additional comments from tester:

this report is from an automated smoke testing program
and was not reviewed by a human for accuracy

If you would like to try to reproduce this report results or even to work with
the same environment for a bug fix, please refer to
https://github.com/glasswalk3r/cpan-openbsd-smoker to see how to use the
prebuilt virtual machines available.

------------------------------
PROGRAM OUTPUT
------------------------------

Output from '/usr/bin/make test':

PERL_DL_NONLAZY=1 "/usr/bin/perl" "-MExtUtils::Command::MM" "-MTest::Harness" "-e" "undef *Test::Harness::Switches; test_harness(0, 'inc', 'blib/lib', 'blib/arch')" t/*.t
t/00-check-deps.t ...... ok
# Prerequisite Report:
#    Version Module               
#   -------- ---------------------
#       1.50 Carp                 
#       5.74 Exporter             
#    7.65_01 ExtUtils::MakeMaker  
#      1.006 File::HomeDir        
#       3.78 File::Spec           
#       3.78 File::Spec::Functions
#     0.2311 File::Temp           
#       0.41 IO::Socket::IP       
#       1.62 List::Util           
#        2.5 PadWalker            
#       1.17 Term::ReadLine       
#       1.42 Term::ReadLine::Gnu  
#      0.010 Test::CheckDeps      
#       0.52 Test::Class          
#      1.130 Test::Deep           
#   1.302190 Test::More           
#       1.52 Test::Pod            
#       1.10 Test::Pod::Coverage  
#       0.11 Test::Requires       
#    missing Win32                
#    missing Win32::Process       
#       1.33 constant             
#      0.238 parent               
#     0.9929 version              
t/00-report-prereqs.t .. ok
# Info: Testing Debug::Client 0.31
# Info: Perl v5.32.1
t/01-compile.t ......... ok
t/02-exports.t ......... ok
t/03-pod.t ............. skipped: Author tests, not required for installation.
t/04-pod-coverage.t .... skipped: Author tests, not required for installation.
# 
# Info: Perl v5.32.1
# Info: OS openbsd
# Info: Term::ReadLine::Gnu installed
# Info: Using ReadLine implementation -> Term::ReadLine::Gnu
# INFO: $ENV{TERM} -> xterm-256color
[?1034ht/06-term.t ............ ok
t/07-initialize.t ...... ok
t/08-io.t .............. ok
t/10-top_tail.t ........ ok
t/10-top_tail_old.t .... ok
t/11-add.t ............. ok
t/13-return.t .......... ok
t/14-run.t ............. ok
# Info: perl5db version 1.57
t/15-run_to_line.t ..... ok
t/16-run_to_sub.t ...... ok
t/17-stepin.t .......... ok
t/18-stepout.t ......... ok
t/19-stepover.t ........ ok
t/20-get_value.t ....... ok
t/21-toggle_trace.t .... ok
t/22-subnames.t ........ ok
t/23-breakpoints.t ..... ok
t/24-y_zero.t .......... ok
t/25-get_v_vars.t ...... ok
t/26-get_x_vars.t ...... ok
t/27-get_p_exp.t ....... ok
t/28-get_h_var.t ....... ok
# Info: ComamandSet = '580'
t/29-options.t ......... ok
t/40-test_1415-old.t ... ok
t/40-test_1415.t ....... ok
t/99-perldb.t .......... ok
# Prerequisite Report:
#    Version Module               
#   -------- ---------------------
#       1.50 Carp                 
#       5.74 Exporter             
#    7.65_01 ExtUtils::MakeMaker  
#      1.006 File::HomeDir        
#       3.78 File::Spec           
#       3.78 File::Spec::Functions
#     0.2311 File::Temp           
#       0.41 IO::Socket::IP       
#       1.62 List::Util           
#        2.5 PadWalker            
#       1.17 Term::ReadLine       
#       1.42 Term::ReadLine::Gnu  
#      0.010 Test::CheckDeps      
#       0.52 Test::Class          
#      1.130 Test::Deep           
#   1.302190 Test::More           
#       1.52 Test::Pod            
#       1.10 Test::Pod::Coverage  
#       0.11 Test::Requires       
#    missing Win32                
#    missing Win32::Process       
#       1.33 constant             
#      0.238 parent               
#     0.9929 version              
t/report-prereqs.t ..... ok
All tests successful.
Files=33, Tests=182, 45 wallclock secs ( 0.14 usr  0.21 sys +  6.74 cusr  4.13 csys = 11.22 CPU)
Result: PASS

------------------------------
PREREQUISITES
------------------------------

Prerequisite modules loaded:

requires:

    Module                Need     Have    
    --------------------- -------- --------
    Carp                  1.3301   1.50    
    constant              1.27     1.33    
    Exporter              5.70     5.74    
    IO::Socket::IP        0.29     0.41    
    PadWalker             1.98     2.5     
    perl                  5.010001 5.032001
    Term::ReadLine        1.14     1.17    
    Term::ReadLine::Gnu   1.20     1.42    

build_requires:

    Module                Need     Have    
    --------------------- -------- --------
    ExtUtils::MakeMaker   6.59     7.65_01 
    File::HomeDir         1        1.006   
    File::Temp            0.2304   0.2311  
    List::Util            1.38     1.62    
    parent                0.228    0.238   
    Test::CheckDeps       0.01     0.010   
    Test::Class           0.42     0.52    
    Test::Deep            0.112    1.130   
    Test::More            1.001003 1.302190
    Test::Requires        0.07     0.11    
    version               0.9908   0.9929  

configure_requires:

    Module                Need     Have    
    --------------------- -------- --------
    ExtUtils::MakeMaker   6.59     7.65_01 

opt_requires:

    Module                Need     Have    
    --------------------- -------- --------
    ExtUtils::MakeMaker   6.66     7.65_01 
    File::Spec::Functions 3.4      3.78    
    List::Util            1.27     1.62    
    Test::Pod             1.48     1.52    
    Test::Pod::Coverage   1.08     1.10    


------------------------------
ENVIRONMENT AND OTHER CONTEXT
------------------------------

Environment variables:

    AUTOMATED_TESTING = 1
    PATH = /home/goku/perl5/bin:/usr/bin:/bin:/usr/sbin:/sbin:/usr/X11R6/bin:/usr/local/bin:/usr/local/sbin
    PERL5LIB = /home/goku/perl5/lib/perl5
    PERL5OPT = 
    PERL5_CPANPLUS_IS_RUNNING = 38508
    PERL5_CPAN_IS_RUNNING = 38508
    PERL5_CPAN_IS_RUNNING_IN_RECURSION = 1201,38508
    PERL_CR_SMOKER_CURRENT = Debug-Client-0.31
    PERL_EXTUTILS_AUTOINSTALL = --defaultdeps
    PERL_LOCAL_LIB_ROOT = /home/goku/perl5
    PERL_MB_OPT = --install_base "/home/goku/perl5"
    PERL_MM_OPT = INSTALL_BASE=/home/goku/perl5
    PERL_MM_USE_DEFAULT = 1
    PERL_USE_UNSAFE_INC = 1
    SHELL = /bin/ksh
    TERM = xterm-256color

Perl special variables (and OS-specific diagnostics, for MSWin32):

    $^X = /usr/bin/perl
    $UID/$EUID = 1001 / 1001
    $GID = 1002 1002 1001
    $EGID = 1002 1002 1001

Perl module toolchain versions installed:

    Module              Have    
    ------------------- --------
    CPAN                2.34    
    CPAN::Meta          2.150010
    Cwd                 3.78    
    ExtUtils::CBuilder  0.280236
    ExtUtils::Command   7.65_01 
    ExtUtils::Install   2.20    
    ExtUtils::MakeMaker 7.65_01 
    ExtUtils::Manifest  1.73    
    ExtUtils::ParseXS   3.44    
    File::Spec          3.78    
    JSON                4.06    
    JSON::PP            4.09    
    Module::Build       0.4231  
    Module::Signature   n/a     
    Parse::CPAN::Meta   2.150010
    Test::Harness       3.44    
    Test::More          1.302190
    YAML                1.30    
    YAML::Syck          1.34    
    version             0.9929  


--

Summary of my perl5 (revision 5 version 32 subversion 1) configuration:
   
  Platform:
    osname=openbsd
    osvers=7.1
    archname=i386-openbsd
    uname='openbsd'
    config_args='-dse -Dopenbsd_distribution=defined -Dmksymlinks'
    hint=recommended
    useposix=true
    d_sigaction=define
    useithreads=undef
    usemultiplicity=undef
    use64bitint=undef
    use64bitall=undef
    uselongdouble=undef
    usemymalloc=n
    default_inc_excludes_dot=define
    bincompat5005=undef
  Compiler:
    cc='cc'
    ccflags ='-DNO_LOCALE_NUMERIC -DNO_LOCALE_COLLATE -fno-strict-aliasing -fno-delete-null-pointer-checks -pipe -fstack-protector-strong -I/usr/local/include'
    optimize='-O2'
    cppflags='-DBIG_TIME -DNO_LOCALE_NUMERIC -DNO_LOCALE_COLLATE -fno-strict-aliasing -fno-delete-null-pointer-checks -pipe -fstack-protector-strong -I/usr/local/include'
    ccversion=''
    gccversion='OpenBSD Clang 13.0.0'
    gccosandvers=''
    intsize=4
    longsize=4
    ptrsize=4
    doublesize=8
    byteorder=1234
    doublekind=3
    d_longlong=define
    longlongsize=8
    d_longdbl=define
    longdblsize=12
    longdblkind=3
    ivtype='long'
    ivsize=4
    nvtype='double'
    nvsize=8
    Off_t='off_t'
    lseeksize=8
    alignbytes=4
    prototype=define
  Linker and Libraries:
    ld='cc'
    ldflags ='-Wl,-E  -fstack-protector-strong -L/usr/local/lib'
    libpth=/usr/lib /usr/lib/clang/13.0.0/lib /usr/lib
    libs=-lm -lc
    perllibs=-lm -lc
    libc=/usr/lib/libc.so.96.1
    so=so
    useshrplib=true
    libperl=libperl.so.22.0
    gnulibc_version=''
  Dynamic Linking:
    dlsrc=dl_dlopen.xs
    dlext=so
    d_dlsymun=undef
    ccdlflags='-Wl,-R/usr/libdata/perl5/i386-openbsd/CORE'
    cccdlflags='-DPIC -fpic '
    lddlflags='-shared -fpic  -fstack-protector-strong -L/usr/local/lib'


Characteristics of this binary (from libperl): 
  Compile-time options:
    HAS_TIMES
    PERLIO_LAYERS
    PERL_COPY_ON_WRITE
    PERL_DONT_CREATE_GVSV
    PERL_MALLOC_WRAP
    PERL_OP_PARENT
    PERL_PRESERVE_IVUV
    USE_LARGE_FILES
    USE_LOCALE
    USE_LOCALE_CTYPE
    USE_LOCALE_TIME
    USE_PERLIO
    USE_PERL_ATOF
  Built under openbsd
  %ENV:
    PERL5LIB="/home/goku/perl5/lib/perl5"
    PERL5OPT=""
    PERL5_CPANPLUS_IS_RUNNING="38508"
    PERL5_CPAN_IS_RUNNING="38508"
    PERL5_CPAN_IS_RUNNING_IN_RECURSION="1201,38508"
    PERL_CR_SMOKER_CURRENT="Debug-Client-0.31"
    PERL_EXTUTILS_AUTOINSTALL="--defaultdeps"
    PERL_LOCAL_LIB_ROOT="/home/goku/perl5"
    PERL_MB_OPT="--install_base "/home/goku/perl5""
    PERL_MM_OPT="INSTALL_BASE=/home/goku/perl5"
    PERL_MM_USE_DEFAULT="1"
    PERL_USE_UNSAFE_INC="1"
  @INC:
    /home/goku/perl5/lib/perl5/5.32.1/i386-openbsd
    /home/goku/perl5/lib/perl5/5.32.1
    /home/goku/perl5/lib/perl5/i386-openbsd
    /home/goku/perl5/lib/perl5
    /usr/local/libdata/perl5/site_perl/i386-openbsd
    /usr/local/libdata/perl5/site_perl
    /usr/libdata/perl5/i386-openbsd
    /usr/libdata/perl5
    .