Config-JSON-Enhanced v0.10 Perl 5 v5.38.0 amd64-freebsd-ld
- Status
- Pass
- From
- Slaven Rezić
- Dist
-
Config-JSON-Enhanced v0.10
- Platform
- Perl 5 v5.38.0 amd64-freebsd-ld
- Date
- 2024-03-12 18:08:14
- ID
- 7ed1ed8c-e09b-11ee-bb0c-ce1d6e8775ea
This distribution has been tested as part of the CPAN Testers
project, supporting the Perl programming language. See
http://wiki.cpantesters.org/ for more information or email
questions to cpan-testers-discuss@perl.org
--
Dear Andreas Hadjiprocopis,
This is a computer-generated report for Config-JSON-Enhanced-0.10
on perl 5.38.0, created by CPAN-Reporter-1.2019.
Thank you for uploading your work to CPAN. Congratulations!
All tests were successful.
Sections of this report:
* Tester comments
* Program output
* Prerequisites
* Environment and other context
------------------------------
TESTER COMMENTS
------------------------------
Additional comments from tester:
none provided
------------------------------
PROGRAM OUTPUT
------------------------------
Output from '/usr/bin/make test':
PERL_DL_NONLAZY=1 "/usr/perl5.38.0Dp/bin/perl" "-MExtUtils::Command::MM" "-MTest::Harness" "-e" "undef *Test::Harness::Switches; test_harness(0, 'blib/lib', 'blib/arch')" t/*.t
each on anonymous hash will always start from the beginning at /usr/perl5.38.0Dp/lib/site_perl/5.38.0/Data/Roundtrip.pm line 211.
# Testing Config::JSON::Enhanced 0.10, Perl 5.038000, /usr/perl5.38.0Dp/bin/perl
t/000-load.t ........................................... ok
each on anonymous hash will always start from the beginning at /usr/perl5.38.0Dp/lib/site_perl/5.38.0/Data/Roundtrip.pm line 211.
t/010-config2perl-simple.t ............................. ok
each on anonymous hash will always start from the beginning at /usr/perl5.38.0Dp/lib/site_perl/5.38.0/Data/Roundtrip.pm line 211.
t/030-config2perl-simple-utf8.t ........................ ok
each on anonymous hash will always start from the beginning at /usr/perl5.38.0Dp/lib/site_perl/5.38.0/Data/Roundtrip.pm line 211.
t/060-config2perl-complex.t ............................ ok
each on anonymous hash will always start from the beginning at /usr/perl5.38.0Dp/lib/site_perl/5.38.0/Data/Roundtrip.pm line 211.
t/070-config2perl-complex-utf8.t ....................... ok
each on anonymous hash will always start from the beginning at /usr/perl5.38.0Dp/lib/site_perl/5.38.0/Data/Roundtrip.pm line 211.
json2perl() : error, call to json2perl() has failed with this exception: malformed JSON string, neither tag, array, object, number, string or atom, at character offset 51 (before "<%begin-verbatim-sec...") at /usr/perl5.38.0Dp/lib/site_perl/5.38.0/Data/Roundtrip.pm line 235.
{
"long bash script" : ["/usr/bin/bash",
<%begin-verbatim-section%>
pushd . &> /dev/null
echo "My 'appdir' is \"/usr/home/cpansand/.cpan/build/2024031218/Config-JSON-Enhanced-0.10-0/t\""
echo "My current dir: " $(echo $PWD) " and bye"
popd &> /dev/null
],
"expected result" : "42"
}
Config::JSON::Enhanced::config2perl() (line 214) : error, call to Data::Roundtrip::json2perl() has failed for above json string and comments style 'C,CPP'. at /usr/home/cpansand/.cpan/build/2024031218/Config-JSON-Enhanced-0.10-0/blib/lib/Config/JSON/Enhanced.pm line 214.
t/090-config2perl-failed-verbatim.t .................... ok
each on anonymous hash will always start from the beginning at /usr/perl5.38.0Dp/lib/site_perl/5.38.0/Data/Roundtrip.pm line 211.
# $VAR1 = {
# "a" => "hello ***",
# "b" => "i am a verbatim section:\nhehehe\n</* this must remain */>\nand goodbye from verbatim section."
# };
# $VAR1 = {
# "b" => "i am a verbatim section:\n***\n\\* this must remain *\\\nand goodbye from verbatim section.",
# "a" => "hello hahaha"
# };
# $VAR1 = {
# "b" => "i am a verbatim section:\n+++\n/*/+/? this must remain ?/+/*/\nand goodbye from verbatim section.",
# "a" => "hello hahaha"
# };
# $VAR1 = {
# "a" => "hello }",
# "b" => "i am a verbatim section:\n{\n--- this must remain +++\nand goodbye from verbatim section."
# };
t/100-tags-for-comments-and-verbatim-and-variables.t ... ok
each on anonymous hash will always start from the beginning at /usr/perl5.38.0Dp/lib/site_perl/5.38.0/Data/Roundtrip.pm line 211.
t/110-config2perl-dont-remove-comments-from-strings.t .. ok
each on anonymous hash will always start from the beginning at /usr/perl5.38.0Dp/lib/site_perl/5.38.0/Data/Roundtrip.pm line 211.
t/130-config2perl-remove-comments-from-strings.t ....... ok
each on anonymous hash will always start from the beginning at /usr/perl5.38.0Dp/lib/site_perl/5.38.0/Data/Roundtrip.pm line 211.
t/150-config2perl-comments-in-verbatim-section.t ....... ok
each on anonymous hash will always start from the beginning at /usr/perl5.38.0Dp/lib/site_perl/5.38.0/Data/Roundtrip.pm line 211.
t/200-commentstyle.t ................................... ok
each on anonymous hash will always start from the beginning at /usr/perl5.38.0Dp/lib/site_perl/5.38.0/Data/Roundtrip.pm line 211.
t/250-custom-tags.t .................................... ok
each on anonymous hash will always start from the beginning at /usr/perl5.38.0Dp/lib/site_perl/5.38.0/Data/Roundtrip.pm line 211.
Config::JSON::Enhanced::configfile2perl() (line 80) : error, there is a clash (exact match) with verbatim/variable tags ('<:*' and '*:>') and comment tags ('<:*' and '*:>'). at /usr/home/cpansand/.cpan/build/2024031218/Config-JSON-Enhanced-0.10-0/blib/lib/Config/JSON/Enhanced.pm line 80.
Config::JSON::Enhanced::configfile2perl() (line 80) : error, there is a clash (exact match) with verbatim/variable tags ('<:*' and '*:>!!') and comment tags ('<:*' and '!!*:>'). at /usr/home/cpansand/.cpan/build/2024031218/Config-JSON-Enhanced-0.10-0/blib/lib/Config/JSON/Enhanced.pm line 80.
Config::JSON::Enhanced::configfile2perl() (line 80) : error, there is a clash (exact match) with verbatim/variable tags ('*:>' and 'xxx') and comment tags ('<:*' and '*:>'). at /usr/home/cpansand/.cpan/build/2024031218/Config-JSON-Enhanced-0.10-0/blib/lib/Config/JSON/Enhanced.pm line 80.
Config::JSON::Enhanced::configfile2perl() (line 69) : error, input parameter 'tags' must be an ARRAYref of exactly 2 items and not a ''. at /usr/home/cpansand/.cpan/build/2024031218/Config-JSON-Enhanced-0.10-0/blib/lib/Config/JSON/Enhanced.pm line 69.
Config::JSON::Enhanced::configfile2perl() (line 84) : error, there is a clash (one contains the other) with verbatim/variable tags ('<<<:*>>' and 'xxx') and comment tags ('<:*' and '*:>'). at /usr/home/cpansand/.cpan/build/2024031218/Config-JSON-Enhanced-0.10-0/blib/lib/Config/JSON/Enhanced.pm line 84.
Config::JSON::Enhanced::configfile2perl() (line 84) : error, there is a clash (one contains the other) with verbatim/variable tags ('xxx' and '<<<*:>>>>') and comment tags ('<:*' and '*:>'). at /usr/home/cpansand/.cpan/build/2024031218/Config-JSON-Enhanced-0.10-0/blib/lib/Config/JSON/Enhanced.pm line 84.
Config::JSON::Enhanced::configfile2perl() (line 84) : error, there is a clash (one contains the other) with verbatim/variable tags ('<<<:*>>' and 'xxx') and comment tags ('<:*' and '*:>'). at /usr/home/cpansand/.cpan/build/2024031218/Config-JSON-Enhanced-0.10-0/blib/lib/Config/JSON/Enhanced.pm line 84.
Config::JSON::Enhanced::configfile2perl() (line 87) : error, there is a clash (one contains the other) with verbatim/variable tags ('<:*' and '*:>') and comment tags ('xxx' and '<<<*:>>>>'). at /usr/home/cpansand/.cpan/build/2024031218/Config-JSON-Enhanced-0.10-0/blib/lib/Config/JSON/Enhanced.pm line 87.
t/300-tags-clashing.t .................................. ok
each on anonymous hash will always start from the beginning at /usr/perl5.38.0Dp/lib/site_perl/5.38.0/Data/Roundtrip.pm line 211.
t/800-config2perl-pod-synopsis.t ....................... ok
each on anonymous hash will always start from the beginning at /usr/perl5.38.0Dp/lib/site_perl/5.38.0/Data/Roundtrip.pm line 211.
# $VAR1 = {
# "expected result" => 42,
# "long bash script" => [
# "/usr/bin/bash",
# "# save current dir, this comment remains\npushd . &> /dev/null\n# following quotes will be escaped\necho \"My 'appdir' is \\\"/usr/home/cpansand/.cpan/build/2024031218/Config-JSON-Enhanced-0.10-0/t\\\"\"\necho \"My current dir: \" \$(echo \$PWD) \" and bye\"\n# go back to initial dir, this comment remains\npopd &> /dev/null"
# ]
# };
t/810-config2perl-pod.t ................................ ok
t/manifest.t ........................................... skipped: Author tests not required for installation
t/pod-coverage.t ....................................... skipped: Author tests not required for installation
t/pod.t ................................................ skipped: Author tests not required for installation
All tests successful.
Files=18, Tests=7029, 6 wallclock secs ( 0.36 usr 0.02 sys + 1.95 cusr 0.26 csys = 2.59 CPU)
Result: PASS
------------------------------
PREREQUISITES
------------------------------
Prerequisite modules loaded:
requires:
Module Need Have
------------------- ----- --------
Data::Roundtrip 0.16 0.24
perl 5.006 5.038000
build_requires:
Module Need Have
------------------- ----- --------
Cwd 0 3.89
ExtUtils::MakeMaker 0 7.70
File::Spec 0 3.88
File::Temp 0 0.2311
FindBin 0 1.53
Test2::Plugin::UTF8 0 0.000159
Test::More 0 1.302198
configure_requires:
Module Need Have
------------------- ----- --------
ExtUtils::MakeMaker 6.64 7.70
------------------------------
ENVIRONMENT AND OTHER CONTEXT
------------------------------
Environment variables:
PATH = /usr/local/bin:/usr/bin:/bin:/usr/local/sbin:/usr/sbin:/sbin:/home/cpansand/bin/sh:/home/cpansand/bin:/usr/games:/home/cpansand/devel:/usr/home/eserte/src/srezic-misc/scripts
PERL5LIB =
PERL5OPT =
PERL5_CPANPLUS_IS_RUNNING = 20601
PERL5_CPAN_IS_RUNNING = 20601
PERL5_CPAN_IS_RUNNING_IN_RECURSION = 20586,20601
PERL_BATCH = yes
PERL_CANARY_STABILITY_NOPROMPT = 1
PERL_CPAN_REPORTER_CONFIG = /var/tmp/cpansmoker-1023/2024031218/cpanreporter_000_config.ini
PERL_EXTUTILS_AUTOINSTALL = --defaultdeps
PERL_USE_UNSAFE_INC = 1
SHELL = /bin/sh
TMPDIR = /var/tmp/cpansmoker-1023/2024031218
Perl special variables (and OS-specific diagnostics, for MSWin32):
$^X = /usr/perl5.38.0Dp/bin/perl
$UID/$EUID = 1023 / 1023
$GID = 1023 1023
$EGID = 1023 1023
Perl module toolchain versions installed:
Module Have
------------------- --------
CPAN 2.36
CPAN::Meta 2.150010
Cwd 3.89
ExtUtils::CBuilder 0.280238
ExtUtils::Command 7.70
ExtUtils::Install 2.22
ExtUtils::MakeMaker 7.70
ExtUtils::Manifest 1.75
ExtUtils::ParseXS 3.51
File::Spec 3.88
JSON 4.10
JSON::PP 4.16
Module::Build 0.4234
Module::Signature 0.88
Parse::CPAN::Meta 2.150010
Test2 1.302198
Test::Harness 3.47
Test::More 1.302198
YAML 1.31
YAML::Syck 1.34
version 0.9929
--
Summary of my perl5 (revision 5 version 38 subversion 0) configuration:
Platform:
osname=freebsd
osvers=13.2-stable
archname=amd64-freebsd-ld
uname='freebsd cloud10.bbbike.org 13.2-stable freebsd 13.2-stable stable13-9000459d3 generic amd64 '
config_args='-ds -e -Dprefix=/usr/perl5.38.0Dp -Duselongdouble -Dcf_email=srezic@cpan.org -Doptimize=-O2 -pipe'
hint=recommended
useposix=true
d_sigaction=define
useithreads=undef
usemultiplicity=undef
use64bitint=define
use64bitall=define
uselongdouble=define
usemymalloc=n
default_inc_excludes_dot=define
Compiler:
cc='cc'
ccflags ='-DHAS_FPSETMASK -DHAS_FLOATINGPOINT_H -fno-strict-aliasing -pipe -fstack-protector-strong -I/usr/local/include'
optimize='-O2 -pipe'
cppflags='-DHAS_FPSETMASK -DHAS_FLOATINGPOINT_H -fno-strict-aliasing -pipe -fstack-protector-strong -I/usr/local/include'
ccversion=''
gccversion='FreeBSD Clang 15.0.7 (https://github.com/llvm/llvm-project.git llvmorg-15.0.7-0-g8dfdcc7b7bf6)'
gccosandvers=''
intsize=4
longsize=8
ptrsize=8
doublesize=8
byteorder=12345678
doublekind=3
d_longlong=define
longlongsize=8
d_longdbl=define
longdblsize=16
longdblkind=3
ivtype='long'
ivsize=8
nvtype='long double'
nvsize=16
Off_t='off_t'
lseeksize=8
alignbytes=16
prototype=define
Linker and Libraries:
ld='cc'
ldflags ='-pthread -Wl,-E -fstack-protector-strong -L/usr/local/lib'
libpth=/usr/lib /usr/local/lib /usr/lib/clang/15.0.7/lib
libs=-lpthread -lgdbm -ldl -lm -lcrypt -lutil -lc
perllibs=-lpthread -ldl -lm -lcrypt -lutil -lc
libc=
so=so
useshrplib=false
libperl=libperl.a
gnulibc_version=''
Dynamic Linking:
dlsrc=dl_dlopen.xs
dlext=so
d_dlsymun=undef
ccdlflags=' '
cccdlflags='-DPIC -fPIC'
lddlflags='-shared -L/usr/local/lib -fstack-protector-strong'
Characteristics of this binary (from libperl):
Compile-time options:
HAS_LONG_DOUBLE
HAS_STRTOLD
HAS_TIMES
PERLIO_LAYERS
PERL_COPY_ON_WRITE
PERL_DONT_CREATE_GVSV
PERL_HASH_FUNC_SIPHASH13
PERL_HASH_USE_SBOX32
PERL_MALLOC_WRAP
PERL_OP_PARENT
PERL_PRESERVE_IVUV
PERL_USE_SAFE_PUTENV
USE_64_BIT_ALL
USE_64_BIT_INT
USE_LARGE_FILES
USE_LOCALE
USE_LOCALE_COLLATE
USE_LOCALE_CTYPE
USE_LOCALE_NUMERIC
USE_LOCALE_TIME
USE_LONG_DOUBLE
USE_PERLIO
USE_PERL_ATOF
Built under freebsd
Compiled at Jul 8 2023 12:28:00
%ENV:
PERL5LIB=""
PERL5OPT=""
PERL5_CPANPLUS_IS_RUNNING="20601"
PERL5_CPAN_IS_RUNNING="20601"
PERL5_CPAN_IS_RUNNING_IN_RECURSION="20586,20601"
PERL_BATCH="yes"
PERL_CANARY_STABILITY_NOPROMPT="1"
PERL_CPAN_REPORTER_CONFIG="/var/tmp/cpansmoker-1023/2024031218/cpanreporter_000_config.ini"
PERL_EXTUTILS_AUTOINSTALL="--defaultdeps"
PERL_USE_UNSAFE_INC="1"
@INC:
/usr/perl5.38.0Dp/lib/site_perl/5.38.0/amd64-freebsd-ld
/usr/perl5.38.0Dp/lib/site_perl/5.38.0
/usr/perl5.38.0Dp/lib/5.38.0/amd64-freebsd-ld
/usr/perl5.38.0Dp/lib/5.38.0
.