autodie v2.29 Perl 5 v5.14.3 x86_64-linux

Status
Pass
From
Nigel Horne
Dist
autodie v2.29
Platform
Perl 5 v5.14.3 x86_64-linux
Date
2018-03-16 12:21:03
ID
7ed7fb9a-2914-11e8-adec-3f08e0f8fa91
This distribution has been tested as part of the CPAN Testers
project, supporting the Perl programming language.  See
http://wiki.cpantesters.org/ for more information or email
questions to cpan-testers-discuss@perl.org


--
Dear Paul Jamieson Fenwick,

This is a computer-generated report for autodie-2.29
on perl 5.14.3, created by CPAN-Reporter-1.2018.

Thank you for uploading your work to CPAN.  Congratulations!
All tests were successful.

Sections of this report:

    * Tester comments
    * Program output
    * Prerequisites
    * Environment and other context

------------------------------
TESTER COMMENTS
------------------------------

Additional comments from tester:

this report is from an automated smoke testing program
and was not reviewed by a human for accuracy

------------------------------
PROGRAM OUTPUT
------------------------------

Output from '/usr/bin/make test':

PERL_DL_NONLAZY=1 "/home/njh/perl5/perlbrew/perls/perl-5.14.3-64all/bin/perl5.14.3" "-MExtUtils::Command::MM" "-MTest::Harness" "-e" "undef *Test::Harness::Switches; test_harness(0, 'blib/lib', 'blib/arch')" t/*.t
t/00-load.t ...................... ok
t/args.t ......................... ok
t/autodie.t ...................... ok
t/author-critic.t ................ skipped: these tests are for testing by the author
t/backcompat.t ................... ok
t/basic_exceptions.t ............. ok
t/binmode.t ...................... ok
t/blog_hints.t ................... ok
t/caller.t ....................... ok
t/chmod.t ........................ ok
t/chown.t ........................ ok
t/context.t ...................... ok
t/context_lexical.t .............. ok
t/core-trampoline-slurp.t ........ ok
t/crickey.t ...................... ok
t/critic.t ....................... skipped: Author test.  Set $ENV{AUTHOR_TESTING} to true to run.
t/eval_error.t ................... ok
t/dbmopen.t ...................... ok
t/exceptions.t ................... ok
t/exception_class.t .............. ok
t/exec.t ......................... ok
t/Fatal.t ........................ ok
t/filehandles.t .................. ok
t/fileno.t ....................... ok
t/flock.t ........................ ok
t/fork.t ......................... ok
t/format-clobber.t ............... ok
# Sub::Identify is not loaded
t/hints.t ........................ ok
t/hints_insist.t ................. ok
t/hints_pod_examples.t ........... ok
t/hints_provider_does.t .......... ok
t/hints_provider_easy_does_it.t .. ok
t/hints_provider_isa.t ........... ok
t/import-into.t .................. skipped: Test needs Import::Into >= 1.002004
t/internal-backcompat.t .......... ok
t/internal.t ..................... ok
t/kwalitee.t ..................... skipped: Author test.  Set $ENV{RELEASE_TESTING} to true to run.
t/kill.t ......................... ok
t/lethal.t ....................... ok
t/lex58.t ........................ skipped: IPC::System::Simple required
t/mkdir.t ........................ ok
t/no_carp.t ...................... ok
t/pod-coverage.t ................. skipped: Author test.  Set $ENV{AUTHOR_TESTING} to true to run.
t/open.t ......................... ok
t/pod.t .......................... skipped: Author test.  Set $ENV{AUTHOR_TESTING} to true to run.
t/read.t ......................... ok
t/recv.t ......................... ok
t/release-pod-syntax.t ........... skipped: these tests are for release candidate testing
t/release-pod-coverage.t ......... skipped: these tests are for release candidate testing
t/repeat.t ....................... ok
t/rt-74246.t ..................... ok
t/scope_leak.t ................... ok
t/skip.t ......................... ok
t/socket.t ....................... skipped: Author test.  Set $ENV{AUTHOR_TESTING} to true to run.
t/string-eval-basic.t ............ ok
t/string-eval-leak.t ............. ok
t/sysopen.t ...................... ok
t/system.t ....................... skipped: IPC::System::Simple not installed
t/unlink.t ....................... ok
t/truncate.t ..................... ok
t/user-context.t ................. ok
t/usersub.t ...................... ok
t/utime.t ........................ ok
t/utf8_open.t .................... ok
t/version.t ...................... skipped: Release test.  Set $ENV{RELEASE_TESTING} to true to run.
t/version_tag.t .................. ok
All tests successful.
Files=66, Tests=498,  4 wallclock secs ( 0.35 usr  0.12 sys +  5.85 cusr  2.04 csys =  8.36 CPU)
Result: PASS

------------------------------
PREREQUISITES
------------------------------

Prerequisite modules loaded:

requires:

    Module              Need     Have    
    ------------------- -------- --------
    B                   0        1.29    
    Carp                0        1.38    
    constant            0        1.21    
    Exporter            5.57     5.64_03 
    Fcntl               0        1.11    
    overload            0        1.13    
    parent              0        0.225   
    perl                5.008004 5.014003
    POSIX               0        1.24    
    Scalar::Util        0        1.23    
    strict              0        1.04    
    Tie::RefHash        0        1.39    
    warnings            0        1.12    

build_requires:

    Module              Need     Have    
    ------------------- -------- --------
    ExtUtils::MakeMaker 0        7.32    
    File::Copy          0        2.21    
    File::Spec          0        3.33    
    File::Temp          0        0.22    
    FindBin             0        1.50    
    if                  0        0.0601  
    IO::Handle          0        1.31    
    lib                 0        0.63    
    Socket              0        1.94    
    Test::More          0        1.302122

configure_requires:

    Module              Need     Have    
    ------------------- -------- --------
    ExtUtils::MakeMaker 0        7.32    


------------------------------
ENVIRONMENT AND OTHER CONTEXT
------------------------------

Environment variables:

    AUTOMATED_TESTING = 1
    HARNESS_OPTIONS = j2
    LANG = en_US.UTF-8
    PATH = /home/njh/perl5/perlbrew/bin:/home/njh/perl5/perlbrew/perls/perl-5.14.3-64all/bin:src/njh/smoker/bin:/usr/bin:/bin
    PERL5LIB = /home/njh/.cpan/build/Data-Dumper-2.161-18/blib/arch:/home/njh/.cpan/build/Data-Dumper-2.161-18/blib/lib:/home/njh/.cpan/build/AnyEvent-HTTP-Message-0.302-18/blib/arch:/home/njh/.cpan/build/AnyEvent-HTTP-Message-0.302-18/blib/lib:/home/njh/.cpan/build/AnyEvent-HTTP-2.23-18/blib/arch:/home/njh/.cpan/build/AnyEvent-HTTP-2.23-18/blib/lib:/home/njh/.cpan/build/common-sense-3.74-18/blib/arch:/home/njh/.cpan/build/common-sense-3.74-18/blib/lib:/home/njh/.cpan/build/AnyEvent-7.14-18/blib/arch:/home/njh/.cpan/build/AnyEvent-7.14-18/blib/lib:/home/njh/.cpan/build/Canary-Stability-2012-18/blib/arch:/home/njh/.cpan/build/Canary-Stability-2012-18/blib/lib:/home/njh/.cpan/build/JSONP-1.88-18/blib/arch:/home/njh/.cpan/build/JSONP-1.88-18/blib/lib:/home/njh/.cpan/build/JSONP-1.87-18/blib/arch:/home/njh/.cpan/build/JSONP-1.87-18/blib/lib:/home/njh/.cpan/build/JSONP-1.86-18/blib/arch:/home/njh/.cpan/build/JSONP-1.86-18/blib/lib:/home/njh/.cpan/build/Want-0.29-18/blib/arch:/home/njh/.cpan/build/Want-0.29-18/blib/lib:/home/njh/.cpan/build/JSON-2.97001-16/blib/arch:/home/njh/.cpan/build/JSON-2.97001-16/blib/lib
    PERL5OPT = 
    PERL5_CPANPLUS_IS_RUNNING = 13220
    PERL5_CPAN_IS_RUNNING = 13220
    PERLBREW_HOME = /home/njh/.perlbrew
    PERLBREW_MANPATH = /home/njh/perl5/perlbrew/perls/perl-5.14.3-64all/man
    PERLBREW_PATH = /home/njh/perl5/perlbrew/bin:/home/njh/perl5/perlbrew/perls/perl-5.14.3-64all/bin
    PERLBREW_PERL = perl-5.14.3-64all
    PERLBREW_ROOT = /home/njh/perl5/perlbrew
    PERLBREW_SHELLRC_VERSION = 0.82
    PERLBREW_VERSION = 0.82
    SHELL = /bin/sh

Perl special variables (and OS-specific diagnostics, for MSWin32):

    $^X = /home/njh/perl5/perlbrew/perls/perl-5.14.3-64all/bin/perl5.14.3
    $UID/$EUID = 1000 / 1000
    $GID = 1000 1000
    $EGID = 1000 1000

Perl module toolchain versions installed:

    Module              Have    
    ------------------- --------
    CPAN                2.16    
    CPAN::Meta          2.143240
    Cwd                 3.36    
    ExtUtils::CBuilder  0.280230
    ExtUtils::Command   7.32    
    ExtUtils::Install   2.06    
    ExtUtils::MakeMaker 7.32    
    ExtUtils::Manifest  1.70    
    ExtUtils::ParseXS   2.2210  
    File::Spec          3.33    
    JSON                2.97001 
    JSON::PP            2.97001 
    Module::Build       0.3800  
    Module::Signature   n/a     
    Parse::CPAN::Meta   1.4414  
    Test::Harness       3.41    
    Test::More          1.302122
    YAML                1.24    
    YAML::Syck          1.30    
    version             0.88    


--

Summary of my perl5 (revision 5 version 14 subversion 3) configuration:
   
  Platform:
    osname=linux, osvers=4.9.0-5-amd64, archname=x86_64-linux
    uname='linux dev0.teada.net 4.9.0-5-amd64 #1 smp debian 4.9.65-3+deb9u2 (2018-01-04) x86_64 gnulinux '
    config_args='-de -Dprefix=/home/njh/perl5/perlbrew/perls/perl-5.14.3-64all -Dusedevel -Duse64bitall -Accflags= -Aeval:scriptdir=/home/njh/perl5/perlbrew/perls/perl-5.14.3-64all/bin'
    hint=recommended, useposix=true, d_sigaction=define
    useithreads=undef, usemultiplicity=undef
    useperlio=define, d_sfio=undef, uselargefiles=define, usesocks=undef
    use64bitint=define, use64bitall=define, uselongdouble=undef
    usemymalloc=n, bincompat5005=undef
  Compiler:
    cc='cc', ccflags ='-fno-strict-aliasing -pipe -fstack-protector -I/usr/local/include -D_LARGEFILE_SOURCE -D_FILE_OFFSET_BITS=64',
    optimize='-O2',
    cppflags='-fno-strict-aliasing -pipe -fstack-protector -I/usr/local/include'
    ccversion='', gccversion='6.3.0 20170516', gccosandvers=''
    intsize=4, longsize=8, ptrsize=8, doublesize=8, byteorder=12345678
    d_longlong=define, longlongsize=8, d_longdbl=define, longdblsize=16
    ivtype='long', ivsize=8, nvtype='double', nvsize=8, Off_t='off_t', lseeksize=8
    alignbytes=8, prototype=define
  Linker and Libraries:
    ld='cc', ldflags =' -fstack-protector -L/usr/local/lib'
    libpth=/usr/local/lib /lib/x86_64-linux-gnu /lib/../lib /usr/lib/x86_64-linux-gnu /usr/lib/../lib /lib /usr/lib
    libs=-lnsl -ldl -lm -lcrypt -lutil -lc
    perllibs=-lnsl -ldl -lm -lcrypt -lutil -lc
    libc=libc-2.24.so, so=so, useshrplib=false, libperl=libperl.a
    gnulibc_version='2.24'
  Dynamic Linking:
    dlsrc=dl_dlopen.xs, dlext=so, d_dlsymun=undef, ccdlflags='-Wl,-E'
    cccdlflags='-fPIC', lddlflags='-shared -O2 -L/usr/local/lib -fstack-protector'


Characteristics of this binary (from libperl): 
  Compile-time options: PERL_DONT_CREATE_GVSV PERL_MALLOC_WRAP
                        PERL_PRESERVE_IVUV PERL_USE_DEVEL USE_64_BIT_ALL
                        USE_64_BIT_INT USE_LARGE_FILES USE_PERLIO
                        USE_PERL_ATOF
  Locally applied patches:
	Devel::PatchPerl 1.48
  Built under linux
  Compiled at Feb 18 2018 00:51:36
  %ENV:
    PERL5LIB="/home/njh/.cpan/build/Data-Dumper-2.161-18/blib/arch:/home/njh/.cpan/build/Data-Dumper-2.161-18/blib/lib:/home/njh/.cpan/build/AnyEvent-HTTP-Message-0.302-18/blib/arch:/home/njh/.cpan/build/AnyEvent-HTTP-Message-0.302-18/blib/lib:/home/njh/.cpan/build/AnyEvent-HTTP-2.23-18/blib/arch:/home/njh/.cpan/build/AnyEvent-HTTP-2.23-18/blib/lib:/home/njh/.cpan/build/common-sense-3.74-18/blib/arch:/home/njh/.cpan/build/common-sense-3.74-18/blib/lib:/home/njh/.cpan/build/AnyEvent-7.14-18/blib/arch:/home/njh/.cpan/build/AnyEvent-7.14-18/blib/lib:/home/njh/.cpan/build/Canary-Stability-2012-18/blib/arch:/home/njh/.cpan/build/Canary-Stability-2012-18/blib/lib:/home/njh/.cpan/build/JSONP-1.88-18/blib/arch:/home/njh/.cpan/build/JSONP-1.88-18/blib/lib:/home/njh/.cpan/build/JSONP-1.87-18/blib/arch:/home/njh/.cpan/build/JSONP-1.87-18/blib/lib:/home/njh/.cpan/build/JSONP-1.86-18/blib/arch:/home/njh/.cpan/build/JSONP-1.86-18/blib/lib:/home/njh/.cpan/build/Want-0.29-18/blib/arch:/home/njh/.cpan/build/Want-0.29-18/blib/lib:/home/njh/.cpan/build/JSON-2.97001-16/blib/arch:/home/njh/.cpan/build/JSON-2.97001-16/blib/lib"
    PERL5OPT=""
    PERL5_CPANPLUS_IS_RUNNING="13220"
    PERL5_CPAN_IS_RUNNING="13220"
    PERLBREW_HOME="/home/njh/.perlbrew"
    PERLBREW_MANPATH="/home/njh/perl5/perlbrew/perls/perl-5.14.3-64all/man"
    PERLBREW_PATH="/home/njh/perl5/perlbrew/bin:/home/njh/perl5/perlbrew/perls/perl-5.14.3-64all/bin"
    PERLBREW_PERL="perl-5.14.3-64all"
    PERLBREW_ROOT="/home/njh/perl5/perlbrew"
    PERLBREW_SHELLRC_VERSION="0.82"
    PERLBREW_VERSION="0.82"
  @INC:
    /home/njh/.cpan/build/Data-Dumper-2.161-18/blib/arch
    /home/njh/.cpan/build/Data-Dumper-2.161-18/blib/lib
    /home/njh/.cpan/build/AnyEvent-HTTP-Message-0.302-18/blib/arch
    /home/njh/.cpan/build/AnyEvent-HTTP-Message-0.302-18/blib/lib
    /home/njh/.cpan/build/AnyEvent-HTTP-2.23-18/blib/arch
    /home/njh/.cpan/build/AnyEvent-HTTP-2.23-18/blib/lib
    /home/njh/.cpan/build/common-sense-3.74-18/blib/arch
    /home/njh/.cpan/build/common-sense-3.74-18/blib/lib
    /home/njh/.cpan/build/AnyEvent-7.14-18/blib/arch
    /home/njh/.cpan/build/AnyEvent-7.14-18/blib/lib
    /home/njh/.cpan/build/Canary-Stability-2012-18/blib/arch
    /home/njh/.cpan/build/Canary-Stability-2012-18/blib/lib
    /home/njh/.cpan/build/JSONP-1.88-18/blib/arch
    /home/njh/.cpan/build/JSONP-1.88-18/blib/lib
    /home/njh/.cpan/build/JSONP-1.87-18/blib/arch
    /home/njh/.cpan/build/JSONP-1.87-18/blib/lib
    /home/njh/.cpan/build/JSONP-1.86-18/blib/arch
    /home/njh/.cpan/build/JSONP-1.86-18/blib/lib
    /home/njh/.cpan/build/Want-0.29-18/blib/arch
    /home/njh/.cpan/build/Want-0.29-18/blib/lib
    /home/njh/.cpan/build/JSON-2.97001-16/blib/arch
    /home/njh/.cpan/build/JSON-2.97001-16/blib/lib
    /home/njh/perl5/perlbrew/perls/perl-5.14.3-64all/lib/site_perl/5.14.3/x86_64-linux
    /home/njh/perl5/perlbrew/perls/perl-5.14.3-64all/lib/site_perl/5.14.3
    /home/njh/perl5/perlbrew/perls/perl-5.14.3-64all/lib/5.14.3/x86_64-linux
    /home/njh/perl5/perlbrew/perls/perl-5.14.3-64all/lib/5.14.3
    .