Dist-Zilla-Plugin-CheckIssues v0.010 Perl 5 v5.24.3 OpenBSD.amd64-openbsd

Status
Pass
From
Alceu Rodrigues de Freitas Junior
Dist
Dist-Zilla-Plugin-CheckIssues v0.010
Platform
Perl 5 v5.24.3 OpenBSD.amd64-openbsd
Date
2017-11-12 02:30:49
ID
7ee3b84c-c751-11e7-bb8f-3ed960126b20
This distribution has been tested as part of the CPAN Testers
project, supporting the Perl programming language.  See
http://wiki.cpantesters.org/ for more information or email
questions to cpan-testers-discuss@perl.org


--
Dear Karen Etheridge,

This is a computer-generated report for Dist-Zilla-Plugin-CheckIssues-0.010
on perl 5.24.3, created by CPAN-Reporter-1.2018.

Thank you for uploading your work to CPAN.  Congratulations!
All tests were successful.

Sections of this report:

    * Tester comments
    * Program output
    * Prerequisites
    * Environment and other context

------------------------------
TESTER COMMENTS
------------------------------

Additional comments from tester:

this report is from an automated smoke testing program
and was not reviewed by a human for accuracy

------------------------------
PROGRAM OUTPUT
------------------------------

Output from '/usr/bin/make test':

PERL_DL_NONLAZY=1 "/home/bar/perl5/perlbrew/perls/perl-5.24.3/bin/perl" "-MExtUtils::Command::MM" "-MTest::Harness" "-e" "undef *Test::Harness::Switches; test_harness(0, 'blib/lib', 'blib/arch')" t/*.t
# 
# Versions for all modules listed in MYMETA.json (including optional ones):
# 
# === Configure Requires ===
# 
#     Module                       Want     Have
#     ------------------------ -------- --------
#     CPAN::Meta::Requirements 2.120620    2.140
#     ExtUtils::MakeMaker           any     7.30
#     Module::Metadata              any 1.000031
# 
# === Build Requires ===
# 
#     Module              Want Have
#     ------------------- ---- ----
#     ExtUtils::MakeMaker  any 7.30
# 
# === Test Requires ===
# 
#     Module                          Want     Have
#     ------------------------------- ---- --------
#     Dist::Zilla::App::Tester         any    6.010
#     Dist::Zilla::Role::MetaProvider  any    6.010
#     File::Spec                       any  3.63_01
#     File::pushd                      any    1.014
#     Module::Metadata                 any 1.000031
#     Moose::Util                      any   2.2006
#     Path::Tiny                       any    0.104
#     Test::DZil                       any    6.010
#     Test::Deep                       any    1.127
#     Test::Fatal                      any    0.014
#     Test::More                      0.88 1.302106
#     if                               any   0.0606
#     lib                              any     0.63
# 
# === Test Recommends ===
# 
#     Module         Want     Have
#     ---------- -------- --------
#     CPAN::Meta 2.120900 2.150010
# 
# === Runtime Requires ===
# 
#     Module                               Want      Have
#     -------------------------------- -------- ---------
#     Dist::Zilla                      4.300039     6.010
#     Dist::Zilla::App                      any     6.010
#     Dist::Zilla::Role::BeforeRelease      any     6.010
#     Encode                                any      2.93
#     HTTP::Headers                         any      6.13
#     HTTP::Tiny                            any 0.056_001
#     JSON::MaybeXS                    1.001000  1.003009
#     List::Util                           1.33      1.49
#     Log::Dispatch                        2.49      2.67
#     Moose                                 any    2.2006
#     Term::ANSIColor                      3.00      4.06
#     namespace::autoclean                  any      0.28
#     strict                                any      1.11
#     warnings                              any      1.36
# 
# === Other Modules ===
# 
#     Module         Have
#     ------------- -----
#     App::Cmd      0.331
#     Log::Dispatch  2.67
#     Pod::Coverage  0.23
# 
t/00-report-prereqs.t .. ok
t/01-basic.t ........... ok
t/02-no-rt.t ........... ok
t/03-no-repo.t ......... ok
t/04-command.t ......... ok
t/zzz-check-breaks.t ... ok
All tests successful.
Files=6, Tests=19,  9 wallclock secs ( 0.02 usr  0.06 sys +  6.57 cusr  1.32 csys =  7.97 CPU)
Result: PASS

------------------------------
PREREQUISITES
------------------------------

Prerequisite modules loaded:

requires:

    Module                           Need     Have     
    -------------------------------- -------- ---------
    Dist::Zilla                      4.300039 6.010    
    Dist::Zilla::App                 0        6.010    
    Dist::Zilla::Role::BeforeRelease 0        6.010    
    Encode                           0        2.93     
    HTTP::Headers                    0        6.13     
    HTTP::Tiny                       0        0.056_001
    JSON::MaybeXS                    1.001000 1.003009 
    List::Util                       1.33     1.49     
    Log::Dispatch                    2.49     2.67     
    Moose                            0        2.2006   
    namespace::autoclean             0        0.28     
    perl                             5.006    5.024003 
    strict                           0        1.11     
    Term::ANSIColor                  3.00     4.06     
    warnings                         0        1.36     

build_requires:

    Module                           Need     Have     
    -------------------------------- -------- ---------
    Dist::Zilla::App::Tester         0        6.010    
    Dist::Zilla::Role::MetaProvider  0        6.010    
    ExtUtils::MakeMaker              0        7.30     
    File::pushd                      0        1.014    
    File::Spec                       0        3.63_01  
    if                               0        0.0606   
    lib                              0        0.63     
    Module::Metadata                 0        1.000031 
    Moose::Util                      0        2.2006   
    Path::Tiny                       0        0.104    
    Test::Deep                       0        1.127    
    Test::DZil                       0        6.010    
    Test::Fatal                      0        0.014    
    Test::More                       0.88     1.302106 

configure_requires:

    Module                           Need     Have     
    -------------------------------- -------- ---------
    CPAN::Meta::Requirements         2.120620 2.140    
    ExtUtils::MakeMaker              0        7.30     
    Module::Metadata                 0        1.000031 
    perl                             5.006    5.024003 

opt_build_requires:

    Module                           Need     Have     
    -------------------------------- -------- ---------
    CPAN::Meta                       2.120900 2.150010 


------------------------------
ENVIRONMENT AND OTHER CONTEXT
------------------------------

Environment variables:

    AUTOMATED_TESTING = 1
    PATH = /home/bar/perl5/perlbrew/bin:/home/bar/perl5/perlbrew/perls/perl-5.24.3/bin:/home/bar/bin:/sbin:/usr/sbin:/bin:/usr/bin:/usr/X11R6/bin:/usr/local/sbin:/usr/local/bin
    PERL5LIB = 
    PERL5OPT = 
    PERL5_CPANPLUS_IS_RUNNING = 14775
    PERL5_CPAN_IS_RUNNING = 14775
    PERL5_CPAN_IS_RUNNING_IN_RECURSION = 88961,14775
    PERLBREW_BASHRC_VERSION = 0.80
    PERLBREW_HOME = /home/bar/.perlbrew
    PERLBREW_MANPATH = /home/bar/perl5/perlbrew/perls/perl-5.24.3/man
    PERLBREW_PATH = /home/bar/perl5/perlbrew/bin:/home/bar/perl5/perlbrew/perls/perl-5.24.3/bin
    PERLBREW_PERL = perl-5.24.3
    PERLBREW_ROOT = /home/bar/perl5/perlbrew
    PERLBREW_VERSION = 0.80
    PERL_CR_SMOKER_CURRENT = Dist-Zilla-PluginBundle-Author-SKIRMESS-0.031
    PERL_EXTUTILS_AUTOINSTALL = --defaultdeps
    PERL_MM_USE_DEFAULT = 1
    PERL_USE_UNSAFE_INC = 1
    SHELL = /usr/local/bin/bash
    TERM = xterm

Perl special variables (and OS-specific diagnostics, for MSWin32):

    $^X = /home/bar/perl5/perlbrew/perls/perl-5.24.3/bin/perl
    $UID/$EUID = 1002 / 1002
    $GID = 1002 1002 1001
    $EGID = 1002 1002 1001

Perl module toolchain versions installed:

    Module              Have    
    ------------------- --------
    CPAN                2.19    
    CPAN::Meta          2.150010
    Cwd                 3.63_01 
    ExtUtils::CBuilder  0.280226
    ExtUtils::Command   7.30    
    ExtUtils::Install   2.06    
    ExtUtils::MakeMaker 7.30    
    ExtUtils::Manifest  1.70    
    ExtUtils::ParseXS   3.31    
    File::Spec          3.63_01 
    JSON                2.94    
    JSON::PP            2.94    
    Module::Build       0.4224  
    Module::Signature   0.81    
    Parse::CPAN::Meta   2.150010
    Test::Harness       3.39    
    Test::More          1.302106
    YAML                1.24    
    YAML::Syck          1.30    
    version             0.9916  


--

Summary of my perl5 (revision 5 version 24 subversion 3) configuration:
   
  Platform:
    osname=openbsd, osvers=6.1, archname=OpenBSD.amd64-openbsd
    uname='openbsd cpansmoker.my.domain 6.1 generic.mp#20 amd64 '
    config_args='-de -Dprefix=/home/bar/perl5/perlbrew/perls/perl-5.24.3 -Aeval:scriptdir=/home/bar/perl5/perlbrew/perls/perl-5.24.3/bin'
    hint=recommended, useposix=true, d_sigaction=define
    useithreads=undef, usemultiplicity=undef
    use64bitint=define, use64bitall=define, uselongdouble=undef
    usemymalloc=n, bincompat5005=undef
  Compiler:
    cc='cc', ccflags ='-fno-strict-aliasing -pipe -fstack-protector-strong -I/usr/local/include -D_FORTIFY_SOURCE=2',
    optimize='-O2',
    cppflags='-fno-strict-aliasing -pipe -fstack-protector-strong -I/usr/local/include'
    ccversion='', gccversion='4.2.1 20070719 ', gccosandvers='openbsd6.1'
    intsize=4, longsize=8, ptrsize=8, doublesize=8, byteorder=12345678, doublekind=3
    d_longlong=define, longlongsize=8, d_longdbl=define, longdblsize=16, longdblkind=3
    ivtype='long', ivsize=8, nvtype='double', nvsize=8, Off_t='off_t', lseeksize=8
    alignbytes=8, prototype=define
  Linker and Libraries:
    ld='cc', ldflags ='-Wl,-E  -fstack-protector-strong -L/usr/local/lib'
    libpth=/usr/lib /usr/local/lib
    libs=-lpthread -lm -lutil -lc
    perllibs=-lpthread -lm -lutil -lc
    libc=/usr/lib/libc.so.89.3, so=so, useshrplib=false, libperl=libperl.a
    gnulibc_version=''
  Dynamic Linking:
    dlsrc=dl_dlopen.xs, dlext=so, d_dlsymun=undef, ccdlflags=' '
    cccdlflags='-DPIC -fPIC ', lddlflags='-shared -fPIC  -L/usr/local/lib -fstack-protector-strong'


Characteristics of this binary (from libperl): 
  Compile-time options: HAS_TIMES PERLIO_LAYERS PERL_COPY_ON_WRITE
                        PERL_DONT_CREATE_GVSV
                        PERL_HASH_FUNC_ONE_AT_A_TIME_HARD PERL_MALLOC_WRAP
                        PERL_PRESERVE_IVUV USE_64_BIT_ALL USE_64_BIT_INT
                        USE_LARGE_FILES USE_LOCALE USE_LOCALE_COLLATE
                        USE_LOCALE_CTYPE USE_LOCALE_NUMERIC USE_LOCALE_TIME
                        USE_PERLIO USE_PERL_ATOF
  Locally applied patches:
	Devel::PatchPerl 1.48
  Built under openbsd
  Compiled at Nov 10 2017 21:17:21
  %ENV:
    PERL5LIB=""
    PERL5OPT=""
    PERL5_CPANPLUS_IS_RUNNING="14775"
    PERL5_CPAN_IS_RUNNING="14775"
    PERL5_CPAN_IS_RUNNING_IN_RECURSION="88961,14775"
    PERLBREW_BASHRC_VERSION="0.80"
    PERLBREW_HOME="/home/bar/.perlbrew"
    PERLBREW_MANPATH="/home/bar/perl5/perlbrew/perls/perl-5.24.3/man"
    PERLBREW_PATH="/home/bar/perl5/perlbrew/bin:/home/bar/perl5/perlbrew/perls/perl-5.24.3/bin"
    PERLBREW_PERL="perl-5.24.3"
    PERLBREW_ROOT="/home/bar/perl5/perlbrew"
    PERLBREW_VERSION="0.80"
    PERL_CR_SMOKER_CURRENT="Dist-Zilla-PluginBundle-Author-SKIRMESS-0.031"
    PERL_EXTUTILS_AUTOINSTALL="--defaultdeps"
    PERL_MM_USE_DEFAULT="1"
    PERL_USE_UNSAFE_INC="1"
  @INC:
    /home/bar/perl5/perlbrew/perls/perl-5.24.3/lib/site_perl/5.24.3/OpenBSD.amd64-openbsd
    /home/bar/perl5/perlbrew/perls/perl-5.24.3/lib/site_perl/5.24.3
    /home/bar/perl5/perlbrew/perls/perl-5.24.3/lib/5.24.3/OpenBSD.amd64-openbsd
    /home/bar/perl5/perlbrew/perls/perl-5.24.3/lib/5.24.3
    .