Report for Term-ReadLine-1.14

Back
From: metabase:user:30f4dfbe-2aae-11df-837a-5e0a49663a4f
Subject: PASS Term-ReadLine-1.14 v5.6.2 OpenBSD
Date: 2014-08-09T17:27:54Z

This distribution has been tested as part of the CPAN Testers
project, supporting the Perl programming language.  See
http://wiki.cpantesters.org/ for more information or email
questions to cpan-testers-discuss@perl.org


--
Dear Florian Ragwitz,

This is a computer-generated report for Term-ReadLine-1.14
on perl 5.6.2, created by CPAN-Reporter-1.1902.

Thank you for uploading your work to CPAN.  Congratulations!
All tests were successful.

Sections of this report:

    * Tester comments
    * Program output
    * Prerequisites
    * Environment and other context

------------------------------
TESTER COMMENTS
------------------------------

Additional comments from tester:

none provided

------------------------------
PROGRAM OUTPUT
------------------------------

Output from '/usr/bin/make test':

PERL_DL_NONLAZY=1 /home/njh/perl5/perlbrew/perls/perl-5.6.2/bin/perl "-MExtUtils::Command::MM" "-MTest::Harness" "-e" "undef *Test::Harness::Switches; test_harness(0, 'blib/lib', 'blib/arch')" t/*.t
/home/njh/perl5/perlbrew/perls/perl-5.6.2/bin/perl:/home/njh/perl5/perlbrew/perls/perl-5.6.2/lib/5.6.2/OpenBSD.amd64-openbsd-multi/auto/Cwd/Cwd.so: undefined symbol 'DPPP_my_sv_2pv_flags'
/home/njh/perl5/perlbrew/perls/perl-5.6.2/bin/perl:/home/njh/perl5/perlbrew/perls/perl-5.6.2/lib/5.6.2/OpenBSD.amd64-openbsd-multi/auto/Cwd/Cwd.so: undefined symbol 'DPPP_my_sv_2pv_flags'
/home/njh/perl5/perlbrew/perls/perl-5.6.2/bin/perl:/home/njh/perl5/perlbrew/perls/perl-5.6.2/lib/5.6.2/OpenBSD.amd64-openbsd-multi/auto/Cwd/Cwd.so: undefined symbol 'DPPP_my_sv_2pv_flags'
t/AE.t .................. skipped: AnyEvent is not installed.
/home/njh/perl5/perlbrew/perls/perl-5.6.2/bin/perl:/home/njh/perl5/perlbrew/perls/perl-5.6.2/lib/5.6.2/OpenBSD.amd64-openbsd-multi/auto/Cwd/Cwd.so: undefined symbol 'DPPP_my_sv_2pv_flags'
t/AETk.t ................ skipped: AnyEvent and/or Tk is not installed.
t/ReadLine.t ............ ok
t/release-pod-syntax.t .. skipped: these tests are for release candidate testing
/home/njh/perl5/perlbrew/perls/perl-5.6.2/bin/perl:/home/njh/perl5/perlbrew/perls/perl-5.6.2/lib/5.6.2/OpenBSD.amd64-openbsd-multi/auto/Cwd/Cwd.so: undefined symbol 'DPPP_my_sv_2pv_flags'
t/Tk.t .................. skipped: Tk is not installed.
All tests successful.
Files=5, Tests=15,  0 wallclock secs ( 0.01 usr  0.00 sys +  0.05 cusr  0.04 csys =  0.10 CPU)
Result: PASS

------------------------------
PREREQUISITES
------------------------------

Prerequisite modules loaded:

requires:

    Module              Need                Have
    ------------------- ------------------- ----
  ! build_requires      HASH(0xb25d9094250) n/a 
  ! opt_build_requires  HASH(0xb25d901b648) n/a 
  ! opt_requires        HASH(0xb25d9008980) n/a 
  ! requires            HASH(0xb25d90bb2f0) n/a 

configure_requires:

    Module              Need                Have
    ------------------- ------------------- ----
    ExtUtils::MakeMaker 6.30                6.98


------------------------------
ENVIRONMENT AND OTHER CONTEXT
------------------------------

Environment variables:

    LANG = 
    LD_LIBRARY_PATH = /usr/local/lib:
    PATH = /home/njh/perl5/perlbrew/bin:/home/njh/perl5/perlbrew/perls/perl-5.6.2/bin:/home/njh/perl5/perlbrew/bin:/usr/bin:/bin:/usr/sbin:/sbin:/usr/X11R6/bin:/usr/local/bin:/usr/local/sbin:/home/njh/bin:/usr/perl5/bin
    PERL = [undef]
    PERL5LIB = 
    PERL5OPT = 
    PERL5_CPANPLUS_IS_RUNNING = 3710
    PERL5_CPAN_IS_EXECUTING = [undef]
    PERL5_CPAN_IS_RUNNING = 3710
    PERLBREW_BASHRC_VERSION = 0.69
    PERLBREW_HOME = /home/njh/.perlbrew
    PERLBREW_MANPATH = /home/njh/perl5/perlbrew/perls/perl-5.6.2/man
    PERLBREW_PATH = /home/njh/perl5/perlbrew/bin:/home/njh/perl5/perlbrew/perls/perl-5.6.2/bin
    PERLBREW_PERL = perl-5.6.2
    PERLBREW_ROOT = /home/njh/perl5/perlbrew
    PERLBREW_VERSION = 0.69
    PERL_AUTOINSTALL = [undef]
    PERL_EXTUTILS_AUTOINSTALL = [undef]
    SHELL = /usr/local/bin/bash
    TERM = vt220
    TMPDIR = /tmp

Perl special variables (and OS-specific diagnostics, for MSWin32):

    $^X = /home/njh/perl5/perlbrew/perls/perl-5.6.2/bin/perl
    $UID/$EUID = 1000 / 1000
    $GID = 1000 0 1000
    $EGID = 1000 0 1000

Perl module toolchain versions installed:

    Module Have
     


--

Summary of my perl5 (revision 5.0 version 6 subversion 2) configuration:
  Platform:
    osname=openbsd, osvers=5.5, archname=OpenBSD.amd64-openbsd-multi
    uname='openbsd openbsd.bandsman.co.uk 5.5 generic.mp#315 amd64 '
    config_args='-de -Dprefix=/home/njh/perl5/perlbrew/perls/perl-5.6.2 -Duseithreads -Dusemultiplicity -Accflags=-O2 -W -Wformat=2 -Wswitch -Wshadow -Wwrite-strings -Wuninitialized -Wall -pipe -mtune=native -march=native -fomit-frame-pointer -msse2 -msse -mmmx -mfpmath=sse -pedantic -D_FORTIFY_SOURCE=2 -Wpointer-arith -Wstrict-prototypes -fstack-protector -Wstack-protector -Wextra -Wbad-function-cast -Wcast-align -Wcast-qual -Wdisabled-optimization -Wendif-labels -Wfloat-equal -Wformat-nonliteral -Winline -Wmissing-declarations -Wmissing-prototypes -Wnested-externs -Wpointer-arith -Wundef -Wformat-security -ftree-vectorize -Aeval:scriptdir=/home/njh/perl5/perlbrew/perls/perl-5.6.2/bin'
    hint=recommended, useposix=true, d_sigaction=define
    usethreads=undef use5005threads=undef useithreads=undef usemultiplicity=define
    useperlio=undef d_sfio=undef uselargefiles=define usesocks=undef
    use64bitint=define use64bitall=define uselongdouble=undef
  Compiler:
    cc='cc', ccflags ='-O2 -W -Wformat=2 -Wswitch -Wshadow -Wwrite-strings -Wuninitialized -Wall -pipe -mtune=native -march=native -fomit-frame-pointer -msse2 -msse -mmmx -mfpmath=sse -pedantic -D_FORTIFY_SOURCE=2 -Wpointer-arith -Wstrict-prototypes -fstack-protector -Wstack-protector -Wextra -Wbad-function-cast -Wcast-align -Wcast-qual -Wdisabled-optimization -Wendif-labels -Wfloat-equal -Wformat-nonliteral -Winline -Wmissing-declarations -Wmissing-prototypes -Wnested-externs -Wpointer-arith -Wundef -Wformat-security -ftree-vectorize -fno-strict-aliasing -I/usr/local/include',
    optimize='-O2',
    cppflags='-O2 -W -Wformat=2 -Wswitch -Wshadow -Wwrite-strings -Wuninitialized -Wall -pipe -mtune=native -march=native -fomit-frame-pointer -msse2 -msse -mmmx -mfpmath=sse -pedantic -D_FORTIFY_SOURCE=2 -Wpointer-arith -Wstrict-prototypes -fstack-protector -Wstack-protector -Wextra -Wbad-function-cast -Wcast-align -Wcast-qual -Wdisabled-optimization -Wendif-labels -Wfloat-equal -Wformat-nonliteral -Winline -Wmissing-declarations -Wmissing-prototypes -Wnested-externs -Wpointer-arith -Wundef -Wformat-security -ftree-vectorize -fno-strict-aliasing -I/usr/local/include'
    ccversion='', gccversion='4.2.1 20070719 ', gccosandvers='openbsd5.5'
    intsize=4, longsize=8, ptrsize=8, doublesize=8, byteorder=12345678
    d_longlong=define, longlongsize=8, d_longdbl=define, longdblsize=16
    ivtype='long', ivsize=8, nvtype='double', nvsize=8, Off_t='off_t', lseeksize=8
    alignbytes=8, usemymalloc=y, prototype=define
  Linker and Libraries:
    ld='cc', ldflags ='-Wl,-E  -L/usr/local/lib'
    libpth=/usr/local/lib /usr/lib
    libs=-lm -lc -lutil
    perllibs=-lm -lc -lutil
    libc=/usr/lib/libc.so.73.1, so=so, useshrplib=false, libperl=libperl.a
  Dynamic Linking:
    dlsrc=dl_dlopen.xs, dlext=so, d_dlsymun=undef, ccdlflags=' '
    cccdlflags='-DPIC -fPIC ', lddlflags='-shared -fPIC  -L/usr/local/lib'


Characteristics of this binary (from libperl): 
  Compile-time options: MULTIPLICITY USE_64_BIT_INT USE_64_BIT_ALL USE_LARGE_FILES PERL_IMPLICIT_CONTEXT
  Built under openbsd
  Compiled at May 24 2014 05:18:15
  %ENV:
    PERL=""
    PERL5LIB=""
    PERL5OPT=""
    PERL5_CPANPLUS_IS_RUNNING="3710"
    PERL5_CPAN_IS_EXECUTING=""
    PERL5_CPAN_IS_RUNNING="3710"
    PERLBREW_BASHRC_VERSION="0.69"
    PERLBREW_HOME="/home/njh/.perlbrew"
    PERLBREW_MANPATH="/home/njh/perl5/perlbrew/perls/perl-5.6.2/man"
    PERLBREW_PATH="/home/njh/perl5/perlbrew/bin:/home/njh/perl5/perlbrew/perls/perl-5.6.2/bin"
    PERLBREW_PERL="perl-5.6.2"
    PERLBREW_ROOT="/home/njh/perl5/perlbrew"
    PERLBREW_VERSION="0.69"
    PERL_AUTOINSTALL=""
    PERL_EXTUTILS_AUTOINSTALL=""
  @INC:
    /home/njh/perl5/perlbrew/perls/perl-5.6.2/lib/5.6.2/OpenBSD.amd64-openbsd-multi
    /home/njh/perl5/perlbrew/perls/perl-5.6.2/lib/5.6.2
    /home/njh/perl5/perlbrew/perls/perl-5.6.2/lib/site_perl/5.6.2/OpenBSD.amd64-openbsd-multi
    /home/njh/perl5/perlbrew/perls/perl-5.6.2/lib/site_perl/5.6.2
    /home/njh/perl5/perlbrew/perls/perl-5.6.2/lib/site_perl
    .