Report for HTML-Mason-1.56

Back
From: metabase:user:fcf99560-6bf4-1014-86b3-1cf189224fdf
Subject: PASS HTML-Mason-1.56 v5.22.0 GNU/Linux
Date: 2015-09-04T19:52:38Z

This distribution has been tested as part of the CPAN Testers
project, supporting the Perl programming language.  See
http://wiki.cpantesters.org/ for more information or email
questions to cpan-testers-discuss@perl.org


--
Dear Dave Rolsky,

This is a computer-generated report for HTML-Mason-1.56
on perl 5.22.0, created by CPAN-Reporter-1.2014.

Thank you for uploading your work to CPAN.  Congratulations!
All tests were successful.

Sections of this report:

    * Tester comments
    * Program output
    * Prerequisites
    * Environment and other context

------------------------------
TESTER COMMENTS
------------------------------

Additional comments from tester:

none provided

------------------------------
PROGRAM OUTPUT
------------------------------

Output from '/usr/bin/make test':

make[1]: Map '/home/michiel/.cpan/build/HTML-Mason-1.56-V3aXG_' wordt binnengegaan
PERL_DL_NONLAZY=1 "/home/michiel/.plenv/versions/5.22.0/bin/perl5.22.0" "-MExtUtils::Command::MM" "-MTest::Harness" "-e" "undef *Test::Harness::Switches; test_harness(0, 'blib/lib', 'blib/arch')" t/*.t
# 
# Versions for all modules listed in MYMETA.json (including optional ones):
# 
# === Configure Requires ===
# 
#     Module              Want    Have
#     ------------------- ---- -------
#     ExtUtils::MakeMaker  any 7.04_01
# 
# === Build Requires ===
# 
#     Module              Want    Have
#     ------------------- ---- -------
#     ExtUtils::MakeMaker  any 7.04_01
# 
# === Test Requires ===
# 
#     Module              Want     Have
#     ------------------- ---- --------
#     ExtUtils::MakeMaker  any  7.04_01
#     File::Spec           0.8     3.56
#     Test::Deep           any    0.117
#     Test::More          0.88 1.001014
# 
# === Test Recommends ===
# 
#     Module         Want     Have
#     ---------- -------- --------
#     CPAN::Meta 2.120900 2.150001
# 
# === Runtime Requires ===
# 
#     Module           Want  Have
#     ---------------- ---- -----
#     CGI              2.46  4.21
#     Cache::Cache     1.00  1.08
#     Class::Container 0.07  0.12
#     Exception::Class 1.15  1.39
#     File::Spec        0.8  3.56
#     HTML::Entities    any  3.69
#     Log::Any         0.08 1.032
#     Params::Validate 0.70  1.21
#     Scalar::Util     1.01  1.41
# 
t/00-report-prereqs.t ......... ok
t/01-syntax.t ................. ok
t/01a-comp-calls.t ............ ok
t/02-sections.t ............... ok
t/02a-filter.t ................ ok
t/04-misc.t ................... ok
t/05-request.t ................ ok
t/05a-stack-corruption.t ...... ok
t/06-compiler.t ............... ok
t/06a-compiler_obj.t .......... ok
t/06b-compiler-named-subs.t ... ok
t/06c-compiler-spaces-path.t .. ok
t/07-interp.t ................. ok
t/07a-interp-mcr.t ............ ok
t/07b-interp-static-source.t .. ok
t/09-component.t .............. ok
t/09a-comp_content.t .......... ok
t/10-cache.t .................. ok
t/10a-cache-1.0x.t ............ ok
t/10b-cache-chi.t ............. skipped: CHI 0.21+ is not installed
t/11-inherit.t ................ ok
t/12-taint.t .................. ok
t/13-errors.t ................. ok
t/14-cgi.t .................... ok
t/14a-fake_apache.t ........... ok
t/15-subclass.t ............... ok
t/17-print.t .................. ok
t/18-leak.t ................... ok
t/19-subrequest.t ............. ok
t/20-plugins.t ................ ok
t/21-escapes.t ................ ok
t/22-path-security.t .......... ok
t/23-leak2.t .................. skipped: These tests require Test::Memory::Cycle to run.
t/24-tools.t .................. ok
t/25-flush-in-content.t ....... ok
t/25-log.t .................... ok
t/author-no-tabs.t ............ skipped: these tests are for testing by the author
t/author-pod-spell.t .......... skipped: these tests are for testing by the author
t/release-pod-syntax.t ........ skipped: these tests are for release candidate testing
All tests successful.
Files=39, Tests=515, 23 wallclock secs ( 0.16 usr  0.05 sys +  4.12 cusr  0.43 csys =  4.76 CPU)
Result: PASS
make[1]: Map '/home/michiel/.cpan/build/HTML-Mason-1.56-V3aXG_' wordt verlaten

------------------------------
PREREQUISITES
------------------------------

Prerequisite modules loaded:

requires:

    Module              Need Have    
    ------------------- ---- --------
    Cache::Cache        1.00 1.08    
    CGI                 2.46 4.21    
    Class::Container    0.07 0.12    
    Exception::Class    1.15 1.39    
    File::Spec          0.8  3.56    
    HTML::Entities      0    3.69    
    Log::Any            0.08 1.032   
    Params::Validate    0.70 1.21    
    Scalar::Util        1.01 1.41    

build_requires:

    Module              Need Have    
    ------------------- ---- --------
    ExtUtils::MakeMaker 0    7.04_01 
    File::Spec          0.8  3.56    
    Test::Deep          0    0.117   
    Test::More          0.88 1.001014

configure_requires:

    Module              Need Have    
    ------------------- ---- --------
    ExtUtils::MakeMaker 0    7.04_01 


------------------------------
ENVIRONMENT AND OTHER CONTEXT
------------------------------

Environment variables:

    DBD_MYSQL_TESTPASSWORD = s3kr1t
    LANG = nl_NL.utf8
    PATH = /home/michiel/.plenv/versions/5.22.0/bin:/home/michiel/.plenv/libexec:/home/michiel/.plenv/plugins/perl-build/bin:/home/michiel/.rbenv/shims:/home/michiel/.rbenv/bin:/home/michiel/.plenv/shims:/home/michiel/.plenv/bin:/usr/local/bin:/usr/bin:/bin:/usr/local/games:/usr/games
    PERL5LIB = 
    PERL5OPT = 
    PERL5_CPANPLUS_IS_RUNNING = 29130
    PERL5_CPAN_IS_RUNNING = 29130
    SHELL = /bin/bash
    TERM = xterm

Perl special variables (and OS-specific diagnostics, for MSWin32):

    $^X = /home/michiel/.plenv/versions/5.22.0/bin/perl5.22.0
    $UID/$EUID = 1000 / 1000
    $GID = 1000 4 20 24 25 27 29 30 44 46 103 111 116 131 133 1000
    $EGID = 1000 4 20 24 25 27 29 30 44 46 103 111 116 131 133 1000

Perl module toolchain versions installed:

    Module              Have    
    ------------------- --------
    CPAN                2.11    
    CPAN::Meta          2.150001
    Cwd                 3.56    
    ExtUtils::CBuilder  0.280221
    ExtUtils::Command   1.20    
    ExtUtils::Install   2.04    
    ExtUtils::MakeMaker 7.04_01 
    ExtUtils::Manifest  1.70    
    ExtUtils::ParseXS   3.28    
    File::Spec          3.56    
    JSON                2.90    
    JSON::PP            2.27300 
    Module::Build       0.4214  
    Module::Signature   n/a     
    Parse::CPAN::Meta   1.4414  
    Test::Harness       3.35    
    Test::More          1.001014
    YAML                n/a     
    YAML::Syck          n/a     
    version             0.9909  


--

Summary of my perl5 (revision 5 version 22 subversion 0) configuration:
   
  Platform:
    osname=linux, osvers=3.16.0-4-amd64, archname=x86_64-linux
    uname='linux limbs 3.16.0-4-amd64 #1 smp debian 3.16.7-ckt9-3~deb8u1 (2015-04-24) x86_64 gnulinux '
    config_args='-Dprefix=/home/michiel/.plenv/versions/5.22.0 -de -Dusedevel -A'eval:scriptdir=/home/michiel/.plenv/versions/5.22.0/bin''
    hint=recommended, useposix=true, d_sigaction=define
    useithreads=undef, usemultiplicity=undef
    use64bitint=define, use64bitall=define, uselongdouble=undef
    usemymalloc=n, bincompat5005=undef
  Compiler:
    cc='cc', ccflags ='-fwrapv -fno-strict-aliasing -pipe -fstack-protector-strong -I/usr/local/include -D_LARGEFILE_SOURCE -D_FILE_OFFSET_BITS=64 -D_FORTIFY_SOURCE=2',
    optimize='-O2',
    cppflags='-fwrapv -fno-strict-aliasing -pipe -fstack-protector-strong -I/usr/local/include'
    ccversion='', gccversion='4.9.2', gccosandvers=''
    intsize=4, longsize=8, ptrsize=8, doublesize=8, byteorder=12345678, doublekind=3
    d_longlong=define, longlongsize=8, d_longdbl=define, longdblsize=16, longdblkind=3
    ivtype='long', ivsize=8, nvtype='double', nvsize=8, Off_t='off_t', lseeksize=8
    alignbytes=8, prototype=define
  Linker and Libraries:
    ld='cc', ldflags =' -fstack-protector-strong -L/usr/local/lib'
    libpth=/usr/local/lib /usr/lib/gcc/x86_64-linux-gnu/4.9/include-fixed /usr/include/x86_64-linux-gnu /usr/lib /lib/x86_64-linux-gnu /lib/../lib /usr/lib/x86_64-linux-gnu /usr/lib/../lib /lib
    libs=-lpthread -lnsl -ldl -lm -lcrypt -lutil -lc
    perllibs=-lpthread -lnsl -ldl -lm -lcrypt -lutil -lc
    libc=libc-2.19.so, so=so, useshrplib=false, libperl=libperl.a
    gnulibc_version='2.19'
  Dynamic Linking:
    dlsrc=dl_dlopen.xs, dlext=so, d_dlsymun=undef, ccdlflags='-Wl,-E'
    cccdlflags='-fPIC', lddlflags='-shared -O2 -L/usr/local/lib -fstack-protector-strong'


Characteristics of this binary (from libperl): 
  Compile-time options: HAS_TIMES PERLIO_LAYERS PERL_DONT_CREATE_GVSV
                        PERL_HASH_FUNC_ONE_AT_A_TIME_HARD PERL_MALLOC_WRAP
                        PERL_NEW_COPY_ON_WRITE PERL_PRESERVE_IVUV
                        PERL_USE_DEVEL USE_64_BIT_ALL USE_64_BIT_INT
                        USE_LARGE_FILES USE_LOCALE USE_LOCALE_COLLATE
                        USE_LOCALE_CTYPE USE_LOCALE_NUMERIC USE_LOCALE_TIME
                        USE_PERLIO USE_PERL_ATOF
  Built under linux
  Compiled at Jun  2 2015 19:25:24
  %ENV:
    PERL5LIB=""
    PERL5OPT=""
    PERL5_CPANPLUS_IS_RUNNING="29130"
    PERL5_CPAN_IS_RUNNING="29130"
  @INC:
    /home/michiel/.plenv/versions/5.22.0/lib/perl5/site_perl/5.22.0/x86_64-linux
    /home/michiel/.plenv/versions/5.22.0/lib/perl5/site_perl/5.22.0
    /home/michiel/.plenv/versions/5.22.0/lib/perl5/5.22.0/x86_64-linux
    /home/michiel/.plenv/versions/5.22.0/lib/perl5/5.22.0
    .