GraphQL v0.54 Perl 5 v5.24.4 amd64-freebsd

Status
Pass
From
Slaven Rezić
Dist
GraphQL v0.54
Platform
Perl 5 v5.24.4 amd64-freebsd
Date
2022-03-24 20:25:07
ID
7f03397c-abb0-11ec-af4c-2d861f24ea8f
This distribution has been tested as part of the CPAN Testers
project, supporting the Perl programming language.  See
http://wiki.cpantesters.org/ for more information or email
questions to cpan-testers-discuss@perl.org


--
Dear Ed J,

This is a computer-generated report for GraphQL-0.54
on perl 5.24.4, created by CPAN-Reporter-1.2018.

Thank you for uploading your work to CPAN.  Congratulations!
All tests were successful.

Sections of this report:

    * Tester comments
    * Program output
    * Prerequisites
    * Environment and other context

------------------------------
TESTER COMMENTS
------------------------------

Additional comments from tester:

none provided

------------------------------
PROGRAM OUTPUT
------------------------------

Output from '/usr/bin/make test':

PERL_DL_NONLAZY=1 "/usr/perl5.24.4p/bin/perl5.24.4" "-MExtUtils::Command::MM" "-MTest::Harness" "-e" "undef *Test::Harness::Switches; test_harness(0, 'blib/lib', 'blib/arch')" t/*.t
# Testing GraphQL 0.54, Perl 5.024004, /usr/perl5.24.4p/bin/perl5.24.4
t/00-load.t ...................... ok
# 
# Versions for all modules listed in MYMETA.json (including optional ones):
# 
# === Configure Requires ===
# 
#     Module              Want Have Where                                 Howbig
#     ------------------- ---- ---- ------------------------------------- ------
#     ExtUtils::MakeMaker 6.64 7.62 /usr/perl5.24.4p/lib/site_perl/5.24.4 109336
# 
# === Build Requires ===
# 
#     Module              Want Have Where                                 Howbig
#     ------------------- ---- ---- ------------------------------------- ------
#     ExtUtils::MakeMaker  any 7.62 /usr/perl5.24.4p/lib/site_perl/5.24.4 109336
# 
# === Test Requires ===
# 
#     Module           Want     Have Where                                 Howbig
#     --------------- ----- -------- ------------------------------------- ------
#     Test::Deep      1.127    1.130 /usr/perl5.24.4p/lib/site_perl/5.24.4  50125
#     Test::Exception  0.42     0.43 /usr/perl5.24.4p/lib/site_perl/5.24.4  15465
#     Test::More       0.88 1.302190 /usr/perl5.24.4p/lib/site_perl/5.24.4  52979
# 
# === Runtime Requires ===
# 
#     Module                        Want     Have Where                                               Howbig
#     ------------------------- -------- -------- --------------------------------------------------- ------
#     Attribute::Handlers            any     0.99 /usr/perl5.24.4p/lib/5.24.4                          30409
#     DateTime                       any     1.56 /usr/perl5.24.4p/lib/site_perl/5.24.4/amd64-freebsd 137162
#     DateTime::Format::ISO8601      any     0.15 /usr/perl5.24.4p/lib/site_perl/5.24.4                45774
#     Devel::StrictMode              any    0.003 /usr/perl5.24.4p/lib/site_perl/5.24.4                 3601
#     Function::Parameters      2.001001 2.001003 /usr/perl5.24.4p/lib/site_perl/5.24.4/amd64-freebsd  46584
#     Import::Into              1.002003 1.002005 /usr/perl5.24.4p/lib/site_perl/5.24.4                 8200
#     JSON::MaybeXS             1.003009 1.004003 /usr/perl5.24.4p/lib/site_perl/5.24.4                 9692
#     JSON::PP                      2.92     4.07 /usr/perl5.24.4p/lib/site_perl/5.24.4               100679
#     Module::Runtime                any    0.016 /usr/perl5.24.4p/lib/site_perl/5.24.4                17521
#     Moo                            any 2.005004 /usr/perl5.24.4p/lib/site_perl/5.24.4                34356
#     MooX::Thunking                0.07     0.08 /usr/perl5.24.4p/lib/site_perl/5.24.4                 2601
#     Pegex                         0.64     0.74 /usr/perl5.24.4p/lib/site_perl/5.24.4                  750
#     Return::Type                   any    0.005 /usr/perl5.24.4p/lib/site_perl/5.24.4                 6686
#     Type::Tiny                     any 1.012004 /usr/perl5.24.4p/lib/site_perl/5.24.4                70464
#     curry                          any 2.000000 /usr/perl5.24.4p/lib/site_perl/5.24.4                 2647
# 
# === Runtime Suggests ===
# 
#     Module             Want Have Where                                               Howbig
#     ---------------- ------ ---- --------------------------------------------------- ------
#     Cpanel::JSON::XS 3.0237 4.27 /usr/perl5.24.4p/lib/site_perl/5.24.4/amd64-freebsd  90634
#     JSON::XS            any 4.03 /usr/perl5.24.4p/lib/site_perl/5.24.4/amd64-freebsd  69678
# 
t/00-report-prereqs.t ............ ok
t/directives.t ................... ok
t/execution-abstract.t ........... ok
t/execution-directives.t ......... ok
t/execution-execute.t ............ ok
t/execution-lists.t .............. ok
t/execution-nonnull.t ............ ok
t/execution-resolve.t ............ ok
t/execution-schema.t ............. ok
t/execution-sync.t ............... ok
t/execution-variables.t .......... ok
t/language-block-string-value.t .. ok
t/language-lexer.t ............... ok
t/language-parser.t .............. ok
t/language-schema-parser.t ....... ok
t/perl.t ......................... ok
t/subscribe.t .................... ok
t/type-definition.t .............. ok
t/type-enum.t .................... ok
Cannot serialize regexp without callbacks; serializing using callbacks at /usr/perl5.24.4p/lib/site_perl/5.24.4/Type/Tiny.pm line 871.
t/type-interface.t ............... ok
t/type-introspection.t ........... ok
t/type-schema.t .................. ok
t/util-buildschema.t ............. ok
All tests successful.
Files=24, Tests=387, 15 wallclock secs ( 0.01 usr  0.41 sys +  5.22 cusr  6.77 csys = 12.41 CPU)
Result: PASS

------------------------------
PREREQUISITES
------------------------------

Prerequisite modules loaded:

requires:

    Module                    Need     Have    
    ------------------------- -------- --------
    Attribute::Handlers       0        0.99    
    curry                     0        2.000000
    DateTime                  0        1.56    
    DateTime::Format::ISO8601 0        0.15    
    Devel::StrictMode         0        0.003   
    Function::Parameters      2.001001 2.001003
    Import::Into              1.002003 1.002005
    JSON::MaybeXS             1.003009 1.004003
    JSON::PP                  2.92     4.07    
    Module::Runtime           0        0.016   
    Moo                       0        2.005004
    MooX::Thunking            0.07     0.08    
    Pegex                     0.64     0.74    
    perl                      5.014    5.024004
    Return::Type              0        0.005   
    Type::Tiny                0        1.012004

build_requires:

    Module                    Need     Have    
    ------------------------- -------- --------
    ExtUtils::MakeMaker       0        7.62    
    Test::Deep                1.127    1.130   
    Test::Exception           0.42     0.43    
    Test::More                0.88     1.302190

configure_requires:

    Module                    Need     Have    
    ------------------------- -------- --------
    ExtUtils::MakeMaker       6.64     7.62    


------------------------------
ENVIRONMENT AND OTHER CONTEXT
------------------------------

Environment variables:

    LC_ALL = de_DE.ISO8859-1
    PATH = /usr/local/bin:/usr/bin:/bin:/usr/local/sbin:/usr/sbin:/sbin:/home/cpansand/bin/freebsd10.3:/home/cpansand/bin/sh:/home/cpansand/bin:/usr/games:/home/cpansand/devel:/home/eserte/src/srezic-misc/scripts
    PERL5LIB = 
    PERL5OPT = 
    PERL5_CPANPLUS_IS_RUNNING = 59862
    PERL5_CPAN_IS_RUNNING = 59862
    PERL5_CPAN_IS_RUNNING_IN_RECURSION = 59747,59862
    PERLDOC = -MPod::Perldoc::ToTextOverstrike
    PERL_BATCH = yes
    PERL_CANARY_STABILITY_NOPROMPT = 1
    PERL_CPAN_REPORTER_CONFIG = /var/tmp/cpansmoker-1023/2022032420/cpanreporter_000_config.ini
    PERL_EXTUTILS_AUTOINSTALL = --defaultdeps
    PERL_USE_UNSAFE_INC = 1
    SHELL = /usr/local/bin/zsh
    TERM = screen
    TMPDIR = /var/tmp/cpansmoker-1023/2022032420

Perl special variables (and OS-specific diagnostics, for MSWin32):

    $^X = /usr/perl5.24.4p/bin/perl5.24.4
    $UID/$EUID = 1023 / 1023
    $GID = 1023 1023
    $EGID = 1023 1023

Perl module toolchain versions installed:

    Module              Have    
    ------------------- --------
    CPAN                2.28    
    CPAN::Meta          2.150010
    Cwd                 3.75    
    ExtUtils::CBuilder  0.280235
    ExtUtils::Command   7.62    
    ExtUtils::Install   2.20    
    ExtUtils::MakeMaker 7.62    
    ExtUtils::Manifest  1.70    
    ExtUtils::ParseXS   3.35    
    File::Spec          3.75    
    JSON                4.05    
    JSON::PP            4.07    
    Module::Build       0.4229  
    Module::Signature   0.87    
    Parse::CPAN::Meta   2.150010
    Test::Harness       3.42    
    Test::More          1.302190
    YAML                1.30    
    YAML::Syck          1.34    
    version             0.9928  


--

Summary of my perl5 (revision 5 version 24 subversion 4) configuration:
   
  Platform:
    osname=freebsd, osvers=10.3-release-p24, archname=amd64-freebsd
    uname='freebsd cvrsnica-freebsd-101.herceg.de 10.3-release-p24 freebsd 10.3-release-p24 #0: wed nov 15 04:57:40 utc 2017 root@amd64-builder.daemonology.net:usrobjusrsrcsysgeneric amd64 '
    config_args='-ds -e -Dprefix=/usr/perl5.24.4p -Dcf_email=srezic@cpan.org -Doptimize=-O2 -pipe'
    hint=recommended, useposix=true, d_sigaction=define
    useithreads=undef, usemultiplicity=undef
    use64bitint=define, use64bitall=define, uselongdouble=undef
    usemymalloc=n, bincompat5005=undef
  Compiler:
    cc='cc', ccflags ='-DHAS_FPSETMASK -DHAS_FLOATINGPOINT_H -fno-strict-aliasing -pipe -fstack-protector -I/usr/local/include -D_FORTIFY_SOURCE=2',
    optimize='-O2 -pipe',
    cppflags='-DHAS_FPSETMASK -DHAS_FLOATINGPOINT_H -fno-strict-aliasing -pipe -fstack-protector -I/usr/local/include'
    ccversion='', gccversion='4.2.1 Compatible FreeBSD Clang 3.4.1 (tags/RELEASE_34/dot1-final 208032)', gccosandvers=''
    intsize=4, longsize=8, ptrsize=8, doublesize=8, byteorder=12345678, doublekind=3
    d_longlong=define, longlongsize=8, d_longdbl=define, longdblsize=16, longdblkind=3
    ivtype='long', ivsize=8, nvtype='double', nvsize=8, Off_t='off_t', lseeksize=8
    alignbytes=8, prototype=define
  Linker and Libraries:
    ld='cc', ldflags ='-pthread -Wl,-E  -fstack-protector -L/usr/local/lib'
    libpth=/usr/lib /usr/local/lib /usr/include/clang/3.4.1 /usr/lib
    libs=-lpthread -lgdbm -lm -lcrypt -lutil -lc
    perllibs=-lpthread -lm -lcrypt -lutil -lc
    libc=, so=so, useshrplib=false, libperl=libperl.a
    gnulibc_version=''
  Dynamic Linking:
    dlsrc=dl_dlopen.xs, dlext=so, d_dlsymun=undef, ccdlflags=' '
    cccdlflags='-DPIC -fPIC', lddlflags='-shared  -L/usr/local/lib -fstack-protector'


Characteristics of this binary (from libperl): 
  Compile-time options: HAS_TIMES PERLIO_LAYERS PERL_COPY_ON_WRITE
                        PERL_DONT_CREATE_GVSV
                        PERL_HASH_FUNC_ONE_AT_A_TIME_HARD PERL_MALLOC_WRAP
                        PERL_PRESERVE_IVUV USE_64_BIT_ALL USE_64_BIT_INT
                        USE_LARGE_FILES USE_LOCALE USE_LOCALE_COLLATE
                        USE_LOCALE_CTYPE USE_LOCALE_NUMERIC USE_LOCALE_TIME
                        USE_PERLIO USE_PERL_ATOF
  Built under freebsd
  Compiled at Dec 11 2018 23:48:33
  %ENV:
    PERL5LIB=""
    PERL5OPT=""
    PERL5_CPANPLUS_IS_RUNNING="59862"
    PERL5_CPAN_IS_RUNNING="59862"
    PERL5_CPAN_IS_RUNNING_IN_RECURSION="59747,59862"
    PERLDOC="-MPod::Perldoc::ToTextOverstrike"
    PERL_BATCH="yes"
    PERL_CANARY_STABILITY_NOPROMPT="1"
    PERL_CPAN_REPORTER_CONFIG="/var/tmp/cpansmoker-1023/2022032420/cpanreporter_000_config.ini"
    PERL_EXTUTILS_AUTOINSTALL="--defaultdeps"
    PERL_USE_UNSAFE_INC="1"
  @INC:
    /usr/perl5.24.4p/lib/site_perl/5.24.4/amd64-freebsd
    /usr/perl5.24.4p/lib/site_perl/5.24.4
    /usr/perl5.24.4p/lib/5.24.4/amd64-freebsd
    /usr/perl5.24.4p/lib/5.24.4
    .