Back
From: metabase:user:30f4dfbe-2aae-11df-837a-5e0a49663a4f
Subject: PASS Class-Accessor-Fast-Contained-1.01 v5.14.1 NetBSD
Date: 2011-09-17T15:27:04Z
This distribution has been tested as part of the CPAN Testers
project, supporting the Perl programming language. See
http://wiki.cpantesters.org/ for more information or email
questions to cpan-testers-discuss@perl.org
--
Dear Oliver Gorwits,
This is a computer-generated report for Class-Accessor-Fast-Contained-1.01
on perl 5.14.1, created by CPAN-Reporter-1.2002.
Thank you for uploading your work to CPAN. Congratulations!
All tests were successful.
Sections of this report:
* Tester comments
* Program output
* Prerequisites
* Environment and other context
------------------------------
TESTER COMMENTS
------------------------------
Additional comments from tester:
this report is from an automated smoke testing program
and was not reviewed by a human for accuracy
------------------------------
PROGRAM OUTPUT
------------------------------
Output from '/usr/bin/make test':
PERL_DL_NONLAZY=1 /home/njh/perl5/perlbrew/perls/perl-5.14.1/bin/perl "-MExtUtils::Command::MM" "-e" "test_harness(0, 'inc', 'blib/lib', 'blib/arch')" t/*.t
t/09-twoobjects.t .... ok
t/10-accessors.t ..... ok
t/20-aliases.t ....... ok
t/30-bestpractice.t .. ok
t/40-croak.t ......... ok
t/pod-coverage.t ..... ok
t/pod.t .............. ok
All tests successful.
Files=7, Tests=44, 0 wallclock secs ( 0.05 usr 0.03 sys + 0.46 cusr 0.11 csys = 0.65 CPU)
Result: PASS
------------------------------
PREREQUISITES
------------------------------
Prerequisite modules loaded:
requires:
Module Need Have
------------------- ---- ----
base 0 2.16
Class::Accessor 0 0.34
ExtUtils::MakeMaker 6.59 6.59
Test::More 0 0.98
Test::Pod 0 1.45
Test::Pod::Coverage 0 1.08
build_requires:
Module Need Have
------------------- ---- ----
ExtUtils::MakeMaker 0 6.59
------------------------------
ENVIRONMENT AND OTHER CONTEXT
------------------------------
Environment variables:
AUTOMATED_TESTING = 1
LD_LIBRARY_PATH = :/usr/local/lib:/usr/lib/qt-3.3/lib:/usr/X11R6/lib
PATH = /home/njh/perl5/perlbrew/bin:/home/njh/perl5/perlbrew/perls/perl-5.14.1/bin:/usr/bin:/bin:/usr/pkg/bin:/usr/local/bin:/home/njh/bin::/opt/intel/cc/9.1.038/bin:/opt/IBMJava2-13/bin:/usr/X11R6/bin:/home/njh/linux/bin:/usr/pkg/lib/perl5/site_perl/bin
PATH_WITHOUT_PERLBREW = /usr/bin:/bin:/usr/pkg/bin:/usr/local/bin:/home/njh/bin::/opt/intel/cc/9.1.038/bin:/opt/IBMJava2-13/bin:/usr/X11R6/bin
PERL5LIB = /home/njh/.cpan/build/Regexp-Common-2011041701-wZWjYz/blib/arch:/home/njh/.cpan/build/Regexp-Common-2011041701-wZWjYz/blib/lib:/home/njh/.cpan/build/Module-MultiConf-1.0401-9JS17k/blib/arch:/home/njh/.cpan/build/Module-MultiConf-1.0401-9JS17k/blib/lib:/home/njh/.cpan/build/Config-Any-0.23-pXWmW3/blib/arch:/home/njh/.cpan/build/Config-Any-0.23-pXWmW3/blib/lib:/home/njh/.cpan/build/Tie-File-FixedRecLen-2.112531-VMtWkj/blib/arch:/home/njh/.cpan/build/Tie-File-FixedRecLen-2.112531-VMtWkj/blib/lib
PERL5OPT =
PERL5_CPANPLUS_IS_RUNNING = 28965
PERL5_CPAN_IS_RUNNING = 28965
PERL5_CPAN_IS_RUNNING_IN_RECURSION = 298,28965
PERLBREW_HOME = /home/njh/.perlbrew
PERLBREW_PATH = /home/njh/perl5/perlbrew/bin:/home/njh/perl5/perlbrew/perls/perl-5.14.1/bin
PERLBREW_PERL = perl-5.14.1
PERLBREW_ROOT = /home/njh/perl5/perlbrew
PERLBREW_VERSION = 0.28
PERL_CR_SMOKER_CURRENT = YATG-4.112532
PERL_EXTUTILS_AUTOINSTALL = --defaultdeps
PERL_MM_USE_DEFAULT = 1
SHELL = /usr/pkg/bin/bash
TERM = vt100
Perl special variables (and OS-specific diagnostics, for MSWin32):
$^X = /home/njh/perl5/perlbrew/perls/perl-5.14.1/bin/perl
$UID/$EUID = 500 / 500
$GID = 100 0 100
$EGID = 100 0 100
Perl module toolchain versions installed:
Module Have
------------------- --------
CPAN 1.9800
CPAN::Meta 2.112150
Cwd 3.36
ExtUtils::CBuilder 0.280203
ExtUtils::Command 1.17
ExtUtils::Install 1.56
ExtUtils::MakeMaker 6.59
ExtUtils::Manifest 1.60
ExtUtils::ParseXS 3.04
File::Spec 3.33
JSON 2.53
JSON::PP 2.27200
Module::Build 0.3800
Module::Signature n/a
Parse::CPAN::Meta 1.4401
Test::Harness 3.23
Test::More 0.98
YAML 0.73
YAML::Syck 1.17
version 0.94
--
Summary of my perl5 (revision 5 version 14 subversion 1) configuration:
Platform:
osname=netbsd, osvers=4.0, archname=i386-netbsd
uname='netbsd philips.bandsman.co.uk 4.0 netbsd 4.0 (generic) #0: sun dec 16 00:20:10 pst 2007 builds@wb34:homebuildsabnetbsd-4-0-releasei386200712160005z-objhomebuildsabnetbsd-4-0-releasesrcsysarchi386compilegeneric i386 '
config_args='-de -Dprefix=/home/njh/perl5/perlbrew/perls/perl-5.14.1 -D_FORTIFY_SOURCE=2 -Accflags=-O2'
hint=recommended, useposix=true, d_sigaction=define
useithreads=undef, usemultiplicity=undef
useperlio=define, d_sfio=undef, uselargefiles=define, usesocks=undef
use64bitint=undef, use64bitall=undef, uselongdouble=undef
usemymalloc=n, bincompat5005=undef
Compiler:
cc='cc', ccflags ='-O2 -fno-strict-aliasing -pipe -fstack-protector -I/usr/pkg/include -I/usr/local/include',
optimize='-O',
cppflags='-O2 -fno-strict-aliasing -pipe -fstack-protector -I/usr/pkg/include -I/usr/local/include'
ccversion='', gccversion='4.1.2 20061021 prerelease (NetBSD nb3 20061125)', gccosandvers=''
intsize=4, longsize=4, ptrsize=4, doublesize=8, byteorder=1234
d_longlong=define, longlongsize=8, d_longdbl=define, longdblsize=12
ivtype='long', ivsize=4, nvtype='double', nvsize=8, Off_t='off_t', lseeksize=8
alignbytes=4, prototype=define
Linker and Libraries:
ld='cc', ldflags =' -Wl,-rpath,/usr/pkg/lib -Wl,-rpath,/usr/local/lib -fstack-protector -L/usr/pkg/lib -L/usr/local/lib'
libpth=/usr/pkg/lib /usr/local/lib /lib /usr/lib
libs=-lgdbm -lm -lcrypt -lutil -lc -lposix
perllibs=-lm -lcrypt -lutil -lc -lposix
libc=/lib/libc.so, so=so, useshrplib=false, libperl=libperl.a
gnulibc_version=''
Dynamic Linking:
dlsrc=dl_dlopen.xs, dlext=so, d_dlsymun=undef, ccdlflags='-Wl,-E '
cccdlflags='-DPIC -fPIC ', lddlflags='--whole-archive -shared -L/usr/pkg/lib -L/usr/local/lib -fstack-protector'
Characteristics of this binary (from libperl):
Compile-time options: PERL_DONT_CREATE_GVSV PERL_MALLOC_WRAP
PERL_PRESERVE_IVUV USE_LARGE_FILES USE_PERLIO
USE_PERL_ATOF
Built under netbsd
Compiled at Jul 5 2011 21:46:17
%ENV:
PERL5LIB="/home/njh/.cpan/build/Regexp-Common-2011041701-wZWjYz/blib/arch:/home/njh/.cpan/build/Regexp-Common-2011041701-wZWjYz/blib/lib:/home/njh/.cpan/build/Module-MultiConf-1.0401-9JS17k/blib/arch:/home/njh/.cpan/build/Module-MultiConf-1.0401-9JS17k/blib/lib:/home/njh/.cpan/build/Config-Any-0.23-pXWmW3/blib/arch:/home/njh/.cpan/build/Config-Any-0.23-pXWmW3/blib/lib:/home/njh/.cpan/build/Tie-File-FixedRecLen-2.112531-VMtWkj/blib/arch:/home/njh/.cpan/build/Tie-File-FixedRecLen-2.112531-VMtWkj/blib/lib"
PERL5OPT=""
PERL5_CPANPLUS_IS_RUNNING="28965"
PERL5_CPAN_IS_RUNNING="28965"
PERL5_CPAN_IS_RUNNING_IN_RECURSION="298,28965"
PERLBREW_HOME="/home/njh/.perlbrew"
PERLBREW_PATH="/home/njh/perl5/perlbrew/bin:/home/njh/perl5/perlbrew/perls/perl-5.14.1/bin"
PERLBREW_PERL="perl-5.14.1"
PERLBREW_ROOT="/home/njh/perl5/perlbrew"
PERLBREW_VERSION="0.28"
PERL_CR_SMOKER_CURRENT="YATG-4.112532"
PERL_EXTUTILS_AUTOINSTALL="--defaultdeps"
PERL_MM_USE_DEFAULT="1"
@INC:
/home/njh/.cpan/build/Regexp-Common-2011041701-wZWjYz/blib/arch
/home/njh/.cpan/build/Regexp-Common-2011041701-wZWjYz/blib/lib
/home/njh/.cpan/build/Module-MultiConf-1.0401-9JS17k/blib/arch
/home/njh/.cpan/build/Module-MultiConf-1.0401-9JS17k/blib/lib
/home/njh/.cpan/build/Config-Any-0.23-pXWmW3/blib/arch
/home/njh/.cpan/build/Config-Any-0.23-pXWmW3/blib/lib
/home/njh/.cpan/build/Tie-File-FixedRecLen-2.112531-VMtWkj/blib/arch
/home/njh/.cpan/build/Tie-File-FixedRecLen-2.112531-VMtWkj/blib/lib
/home/njh/perl5/perlbrew/perls/perl-5.14.1/lib/site_perl/5.14.1/i386-netbsd
/home/njh/perl5/perlbrew/perls/perl-5.14.1/lib/site_perl/5.14.1
/home/njh/perl5/perlbrew/perls/perl-5.14.1/lib/5.14.1/i386-netbsd
/home/njh/perl5/perlbrew/perls/perl-5.14.1/lib/5.14.1
.