HTTP-Message v6.43 Perl 5 v5.10.1 x86_64-linux

Status
Pass
From
Andreas J. König (ANDK)
Dist
HTTP-Message v6.43
Platform
Perl 5 v5.10.1 x86_64-linux
Date
2022-10-23 05:56:54
ID
7f0ed2e4-5297-11ed-af2d-a57b5775ab79
This distribution has been tested as part of the CPAN Testers
project, supporting the Perl programming language.  See
http://wiki.cpantesters.org/ for more information or email
questions to cpan-testers-discuss@perl.org


--
Dear Julien Fiegehenn,

This is a computer-generated report for HTTP-Message-6.43
on perl 5.10.1, created by CPAN-Reporter-1.2018.

Thank you for uploading your work to CPAN.  Congratulations!
All tests were successful.

Sections of this report:

    * Tester comments
    * Program output
    * Prerequisites
    * Environment and other context

------------------------------
TESTER COMMENTS
------------------------------

Additional comments from tester:

this report is from an automated smoke testing program
and was not reviewed by a human for accuracy

------------------------------
PROGRAM OUTPUT
------------------------------

Output from '/usr/bin/make test':

PERL_DL_NONLAZY=1 "/home/sand/src/perl/repoperls/installed-perls/host/k93msid/v5.10.1/da1c/bin/perl" "-MExtUtils::Command::MM" "-MTest::Harness" "-e" "undef *Test::Harness::Switches; test_harness(0, 'blib/lib', 'blib/arch')" t/*.t
# 
# Versions for all modules listed in MYMETA.json (including optional ones):
# 
# === Configure Requires ===
# 
#     Module              Want Have
#     ------------------- ---- ----
#     ExtUtils::MakeMaker  any 7.64
# 
# === Configure Suggests ===
# 
#     Module      Want Have
#     -------- ------- ----
#     JSON::PP 2.27300 4.12
# 
# === Build Requires ===
# 
#     Module              Want Have
#     ------------------- ---- ----
#     ExtUtils::MakeMaker  any 7.64
# 
# === Test Requires ===
# 
#     Module              Want     Have
#     ------------------- ---- --------
#     ExtUtils::MakeMaker  any     7.64
#     File::Spec           any     3.75
#     File::Temp           any   0.2311
#     PerlIO::encoding     any     0.11
#     Test::More          0.88 1.302190
#     Test::Needs          any 0.002009
#     Time::Local          any     1.30
#     Try::Tiny            any     0.31
#     URI::URL             any     5.10
#     lib                  any     0.62
#     overload             any     1.07
# 
# === Test Recommends ===
# 
#     Module                     Want     Have
#     ---------------------- -------- --------
#     CPAN::Meta             2.120900 2.150010
#     IO::Compress::Brotli   0.004001  missing
#     IO::Uncompress::Brotli 0.004001  missing
# 
# === Runtime Requires ===
# 
#     Module                      Want  Have
#     -------------------------- ----- -----
#     Carp                         any  1.50
#     Compress::Raw::Bzip2         any 2.201
#     Compress::Raw::Zlib          any 2.201
#     Encode                      3.01  3.18
#     Encode::Locale                 1  1.05
#     Exporter                    5.57  5.74
#     File::Spec                   any  3.75
#     HTTP::Date                     6  6.05
#     IO::Compress::Bzip2        2.021 2.201
#     IO::Compress::Deflate        any 2.201
#     IO::Compress::Gzip           any 2.201
#     IO::HTML                     any 1.004
#     IO::Uncompress::Inflate      any 2.201
#     IO::Uncompress::RawInflate   any 2.201
#     LWP::MediaTypes                6  6.04
#     MIME::Base64                 2.1  3.16
#     MIME::QuotedPrint            any  3.16
#     URI                         1.10  5.10
#     parent                       any 0.238
#     strict                       any  1.04
#     warnings                     any  1.06
# 
# === Runtime Recommends ===
# 
#     Module                     Want    Have
#     ---------------------- -------- -------
#     IO::Compress::Brotli   0.004001 missing
#     IO::Uncompress::Brotli 0.004001 missing
# 
# === Runtime Suggests ===
# 
#     Module Want Have
#     ------ ---- ----
#     Clone   any 0.45
# 
t/00-report-prereqs.t .......... ok
t/common-req.t ................. ok
t/headers-auth.t ............... ok
t/headers-etag.t ............... ok
t/headers-util.t ............... ok
t/headers.t .................... ok
t/http-config.t ................ ok
t/message-brotli.t ............. skipped: Need IO::Compress::Brotli, IO::Uncompress::Brotli
t/message-charset.t ............ ok
t/message-decode-brotlibomb.t .. skipped: Need IO::Compress::Brotli, IO::Uncompress::Brotli
t/message-decode-bzipbomb.t .... ok
t/message-decode-xml.t ......... ok
t/message-decode-zipbomb.t ..... ok
t/message-old.t ................ ok
t/message-parts.t .............. ok
t/message.t .................... ok
t/request.t .................... ok
t/request_type_with_data.t ..... ok
t/response.t ................... ok
t/status-old.t ................. ok
t/status.t ..................... ok
All tests successful.
Files=21, Tests=836,  5 wallclock secs ( 0.11 usr  0.07 sys +  2.72 cusr  0.59 csys =  3.49 CPU)
Result: PASS

------------------------------
PREREQUISITES
------------------------------

Prerequisite modules loaded:

requires:

    Module                     Need     Have    
    -------------------------- -------- --------
    Carp                       0        1.50    
    Compress::Raw::Bzip2       0        2.201   
    Compress::Raw::Zlib        0        2.201   
    Encode                     3.01     3.18    
    Encode::Locale             1        1.05    
    Exporter                   5.57     5.74    
    File::Spec                 0        3.75    
    HTTP::Date                 6        6.05    
    IO::Compress::Bzip2        2.021    2.201   
    IO::Compress::Deflate      0        2.201   
    IO::Compress::Gzip         0        2.201   
    IO::HTML                   0        1.004   
    IO::Uncompress::Inflate    0        2.201   
    IO::Uncompress::RawInflate 0        2.201   
    LWP::MediaTypes            6        6.04    
    MIME::Base64               2.1      3.16    
    MIME::QuotedPrint          0        3.16    
    parent                     0        0.238   
    perl                       5.008001 5.010001
    strict                     0        1.04    
    URI                        1.10     5.10    
    warnings                   0        1.06    

build_requires:

    Module                     Need     Have    
    -------------------------- -------- --------
    ExtUtils::MakeMaker        0        7.64    
    File::Spec                 0        3.75    
    File::Temp                 0        0.2311  
    lib                        0        0.62    
    overload                   0        1.07    
    PerlIO::encoding           0        0.11    
    Test::More                 0.88     1.302190
    Test::Needs                0        0.002009
    Time::Local                0        1.30    
    Try::Tiny                  0        0.31    
    URI::URL                   0        5.10    

configure_requires:

    Module                     Need     Have    
    -------------------------- -------- --------
    ExtUtils::MakeMaker        0        7.64    
    perl                       5.006    5.010001

opt_requires:

    Module                     Need     Have    
    -------------------------- -------- --------
  ! IO::Compress::Brotli       0.004001 n/a     
  ! IO::Uncompress::Brotli     0.004001 n/a     


------------------------------
ENVIRONMENT AND OTHER CONTEXT
------------------------------

Environment variables:

    AUTOMATED_TESTING = 1
    LANG = en_US.UTF-8
    LANGUAGE = en_US:en
    PATH = /home/sand/bin:/usr/local/bin:/usr/bin:/bin:/usr/games:/usr/local/perl/bin:/usr/X11/bin:/sbin:/usr/sbin
    PERL5LIB = 
    PERL5OPT = 
    PERL5_CPANPLUS_IS_RUNNING = 50477
    PERL5_CPAN_IS_RUNNING = 50477
    PERL_CANARY_STABILITY_NOPROMPT = 1
    PERL_MM_USE_DEFAULT = 1
    PERL_USE_UNSAFE_INC = 1
    SHELL = /usr/bin/zsh
    TERM = screen

Perl special variables (and OS-specific diagnostics, for MSWin32):

    $^X = /home/sand/src/perl/repoperls/installed-perls/host/k93msid/v5.10.1/da1c/bin/perl
    $UID/$EUID = 1005 / 1005
    $GID = 1005 1005
    $EGID = 1005 1005

Perl module toolchain versions installed:

    Module              Have    
    ------------------- --------
    CPAN                2.33    
    CPAN::Meta          2.150010
    Cwd                 3.75    
    ExtUtils::CBuilder  0.280236
    ExtUtils::Command   7.64    
    ExtUtils::Install   2.06    
    ExtUtils::MakeMaker 7.64    
    ExtUtils::Manifest  1.70    
    ExtUtils::ParseXS   3.44    
    File::Spec          3.75    
    JSON                4.10    
    JSON::PP            4.12    
    Module::Build       0.4231  
    Module::Signature   0.88    
    Parse::CPAN::Meta   2.150010
    Test::Harness       3.43_06 
    Test::More          1.302190
    YAML                1.30    
    YAML::Syck          1.34    
    version             0.9929  


--

Summary of my perl5 (revision 5 version 10 subversion 1) configuration:
  Commit id: 5348debf9fd57fc15c26529386769684fab96e57
  Platform:
    osname=linux, osvers=5.16.0-5-amd64, archname=x86_64-linux
    uname='linux k93msid 5.16.0-5-amd64 #1 smp preempt debian 5.16.14-1 (2022-03-15) x86_64 gnulinux '
    config_args='-Dprefix=/home/sand/src/perl/repoperls/installed-perls/host/k93msid/v5.10.1/da1c -Dmyhostname=k93msid -Dinstallusrbinperl=n -Uversiononly -Dusedevel -des -Ui_db -Dlibswanted=cl pthread socket inet nsl gdbm dbm malloc dl ld sun m crypt sec util c cposix posix ucb BSD gdbm_compat -Uuseithreads -Uuselongdouble -DEBUGGING=-g'
    hint=recommended, useposix=true, d_sigaction=define
    useithreads=undef, usemultiplicity=undef
    useperlio=define, d_sfio=undef, uselargefiles=define, usesocks=undef
    use64bitint=define, use64bitall=define, uselongdouble=undef
    usemymalloc=n, bincompat5005=undef
  Compiler:
    cc='cc', ccflags ='-fwrapv -fno-strict-aliasing -pipe -fstack-protector -I/usr/local/include -D_LARGEFILE_SOURCE -D_FILE_OFFSET_BITS=64',
    optimize='-O2 -g',
    cppflags='-fwrapv -fno-strict-aliasing -pipe -fstack-protector -I/usr/local/include'
    ccversion='', gccversion='11.2.0', gccosandvers=''
    intsize=4, longsize=8, ptrsize=8, doublesize=8, byteorder=12345678
    d_longlong=define, longlongsize=8, d_longdbl=define, longdblsize=16
    ivtype='long', ivsize=8, nvtype='double', nvsize=8, Off_t='off_t', lseeksize=8
    alignbytes=8, prototype=define
  Linker and Libraries:
    ld='cc', ldflags =' -fstack-protector -L/usr/local/lib'
    libpth=/usr/local/lib /lib/x86_64-linux-gnu /lib/../lib /usr/lib/x86_64-linux-gnu /usr/lib/../lib /lib /usr/lib
    libs=-lpthread -lnsl -ldl -lm -lcrypt -lutil -lc
    perllibs=-lpthread -lnsl -ldl -lm -lcrypt -lutil -lc
    libc=libc-2.33.so, so=so, useshrplib=false, libperl=libperl.a
    gnulibc_version='2.33'
  Dynamic Linking:
    dlsrc=dl_dlopen.xs, dlext=so, d_dlsymun=undef, ccdlflags='-Wl,-E'
    cccdlflags='-fPIC', lddlflags='-shared -O2 -g -L/usr/local/lib -fstack-protector'


Characteristics of this binary (from libperl): 
  Compile-time options: PERL_DONT_CREATE_GVSV PERL_MALLOC_WRAP PERL_USE_DEVEL
                        USE_64_BIT_ALL USE_64_BIT_INT USE_LARGE_FILES
                        USE_PERLIO
  Built under linux
  Compiled at Mar 20 2022 12:37:09
  %ENV:
    PERL5LIB=""
    PERL5OPT=""
    PERL5_CPANPLUS_IS_RUNNING="50477"
    PERL5_CPAN_IS_RUNNING="50477"
    PERL_CANARY_STABILITY_NOPROMPT="1"
    PERL_MM_USE_DEFAULT="1"
    PERL_USE_UNSAFE_INC="1"
  @INC:
    /home/sand/src/perl/repoperls/installed-perls/host/k93msid/v5.10.1/da1c/lib/5.10.1/x86_64-linux
    /home/sand/src/perl/repoperls/installed-perls/host/k93msid/v5.10.1/da1c/lib/5.10.1
    /home/sand/src/perl/repoperls/installed-perls/host/k93msid/v5.10.1/da1c/lib/site_perl/5.10.1/x86_64-linux
    /home/sand/src/perl/repoperls/installed-perls/host/k93msid/v5.10.1/da1c/lib/site_perl/5.10.1
    .