Back
From: metabase:user:d2c9f356-b46f-11df-9a90-20a83c0b7757
Subject: PASS CGI-Application-Server-0.062 v5.12.2 SunOS/Solaris
Date: 2010-10-18T09:45:52Z
This distribution has been tested as part of the CPAN Testers
project, supporting the Perl programming language. See
http://wiki.cpantesters.org/ for more information or email
questions to cpan-testers-discuss@perl.org
--
Dear Ricardo SIGNES,
This is a computer-generated report for CGI-Application-Server-0.062
on perl 5.12.2, created by CPAN-Reporter-1.1803.
Thank you for uploading your work to CPAN. Congratulations!
All tests were successful.
Sections of this report:
* Tester comments
* Program output
* Prerequisites
* Environment and other context
------------------------------
TESTER COMMENTS
------------------------------
Additional comments from tester:
this report is from an automated smoke testing program
and was not reviewed by a human for accuracy
------------------------------
PROGRAM OUTPUT
------------------------------
Output from './Build test':
t/000_load.t ....................... ok
t/001_basic.t ...................... ok
t/002_valid_entry_points.t ......... ok
t/003_dispatch.t ................... skipped: CGI::Application::Dispatch required for these tests
t/004_object_as_entry_point.t ...... ok
t/005_mode_param_from_path_info.t .. ok
t/006_docroot_as_entry_point.t ..... ok
t/006_replacequeryobject.t ......... ok
t/007_default_target.t ............. ok
t/pod.t ............................ ok
t/pod_coverage.t ................... ok
All tests successful.
Files=11, Tests=93, 3 wallclock secs ( 0.06 usr 0.05 sys + 2.10 cusr 0.72 csys = 2.93 CPU)
Result: PASS
------------------------------
PREREQUISITES
------------------------------
Prerequisite modules loaded:
requires:
Module Need Have
---------------------------------- ---- ------
Carp 0.01 1.17
CGI::Application 4.21 4.31
HTTP::Request 0 5.827
HTTP::Server::Simple 0.18 0.43
HTTP::Server::Simple::Static 0.02 0.07
HTTP::Status 0 5.817
Scalar::Util 1.18 1.23
build_requires:
Module Need Have
---------------------------------- ---- ------
CGI::Application::Plugin::Redirect 0 1.00
Test::Exception 0.21 0.31
Test::HTTP::Server::Simple 0.02 0.11
Test::More 0.47 0.96
Test::WWW::Mechanize 1.08 1.30
configure_requires:
Module Need Have
---------------------------------- ---- ------
Module::Build 0.36 0.3607
------------------------------
ENVIRONMENT AND OTHER CONTEXT
------------------------------
Environment variables:
AUTOMATED_TESTING = 1
LANG = en_US.UTF-8
PATH = /export/home/cpant3/perl5/bin:/usr/bin
PERL5LIB = /export/home/cpant3/.cpan/build/HTTP-Server-Simple-Static-0.07-JEAM9X/blib/arch:/export/home/cpant3/.cpan/build/HTTP-Server-Simple-Static-0.07-JEAM9X/blib/lib:/export/home/cpant3/.cpan/build/CGI-Application-Plugin-Redirect-1.00-z9Fop1/blib/arch:/export/home/cpant3/.cpan/build/CGI-Application-Plugin-Redirect-1.00-z9Fop1/blib/lib
PERL5OPT =
PERL5_CPANPLUS_IS_RUNNING = 6470
PERL5_CPAN_IS_RUNNING = 6470
PERL5_CPAN_IS_RUNNING_IN_RECURSION = 19417,6470
PERL_CR_SMOKER_CURRENT = CGI-Application-Server-0.062
PERL_CR_SMOKER_RUNONCE = 1
PERL_EXTUTILS_AUTOINSTALL = --defaultdeps
PERL_MM_USE_DEFAULT = 1
SHELL = /bin/bash
TERM = xterm
Perl special variables (and OS-specific diagnostics, for MSWin32):
$^X = /export/home/cpant3/perl5/bin/perl5.12.2
$UID/$EUID = 103 / 103
$GID = 1 1
$EGID = 1 1
Perl module toolchain versions installed:
Module Have
------------------- -------
CPAN 1.94_56
Cwd 3.33
ExtUtils::CBuilder 0.2703
ExtUtils::Command 1.16
ExtUtils::Install 1.55
ExtUtils::MakeMaker 6.56
ExtUtils::Manifest 1.58
ExtUtils::ParseXS 2.2206
File::Spec 3.33
Module::Build 0.3607
Module::Signature n/a
Test::Harness 3.22
Test::More 0.96
YAML 0.72
YAML::Syck 1.15
version 0.82
--
Summary of my perl5 (revision 5 version 12 subversion 2) configuration:
Platform:
osname=solaris, osvers=2.11, archname=i86pc-solaris-64int
uname='sunos open-solaris-noc 5.11 snv_95 i86pc i386 i86pc '
config_args='-Dcc=gcc -Dprefix=~/perl5 -Duse64bitint -Dusedevel -d'
hint=recommended, useposix=true, d_sigaction=define
useithreads=undef, usemultiplicity=undef
useperlio=define, d_sfio=undef, uselargefiles=define, usesocks=undef
use64bitint=define, use64bitall=undef, uselongdouble=undef
usemymalloc=n, bincompat5005=undef
Compiler:
cc='gcc', ccflags ='-DPTR_IS_LONG -fno-strict-aliasing -pipe -D_LARGEFILE_SOURCE -D_FILE_OFFSET_BITS=64 -DPERL_USE_SAFE_PUTENV',
optimize='-O',
cppflags='-DPTR_IS_LONG -fno-strict-aliasing -pipe'
ccversion='', gccversion='3.4.3 (csl-sol210-3_4-20050802)', gccosandvers='solaris2.11'
intsize=4, longsize=4, ptrsize=4, doublesize=8, byteorder=12345678
d_longlong=define, longlongsize=8, d_longdbl=define, longdblsize=12
ivtype='long long', ivsize=8, nvtype='double', nvsize=8, Off_t='off_t', lseeksize=8
alignbytes=4, prototype=define
Linker and Libraries:
ld='gcc', ldflags =' '
libpth=/usr/lib /usr/ccs/lib
libs=-lsocket -lnsl -ldl -lm -lc
perllibs=-lsocket -lnsl -ldl -lm -lc
libc=/lib/libc.so, so=so, useshrplib=false, libperl=libperl.a
gnulibc_version=''
Dynamic Linking:
dlsrc=dl_dlopen.xs, dlext=so, d_dlsymun=undef, ccdlflags=' '
cccdlflags='-fPIC', lddlflags='-G'
Characteristics of this binary (from libperl):
Compile-time options: PERL_DONT_CREATE_GVSV PERL_MALLOC_WRAP PERL_USE_DEVEL
PERL_USE_SAFE_PUTENV USE_64_BIT_INT USE_LARGE_FILES
USE_PERLIO USE_PERL_ATOF
Built under solaris
Compiled at Sep 26 2010 12:56:09
%ENV:
PERL5LIB="/export/home/cpant3/.cpan/build/HTTP-Server-Simple-Static-0.07-JEAM9X/blib/arch:/export/home/cpant3/.cpan/build/HTTP-Server-Simple-Static-0.07-JEAM9X/blib/lib:/export/home/cpant3/.cpan/build/CGI-Application-Plugin-Redirect-1.00-z9Fop1/blib/arch:/export/home/cpant3/.cpan/build/CGI-Application-Plugin-Redirect-1.00-z9Fop1/blib/lib"
PERL5OPT=""
PERL5_CPANPLUS_IS_RUNNING="6470"
PERL5_CPAN_IS_RUNNING="6470"
PERL5_CPAN_IS_RUNNING_IN_RECURSION="19417,6470"
PERL_CR_SMOKER_CURRENT="CGI-Application-Server-0.062"
PERL_CR_SMOKER_RUNONCE="1"
PERL_EXTUTILS_AUTOINSTALL="--defaultdeps"
PERL_MM_USE_DEFAULT="1"
@INC:
/export/home/cpant3/.cpan/build/HTTP-Server-Simple-Static-0.07-JEAM9X/blib/arch
/export/home/cpant3/.cpan/build/HTTP-Server-Simple-Static-0.07-JEAM9X/blib/lib
/export/home/cpant3/.cpan/build/CGI-Application-Plugin-Redirect-1.00-z9Fop1/blib/arch
/export/home/cpant3/.cpan/build/CGI-Application-Plugin-Redirect-1.00-z9Fop1/blib/lib
/export/home/cpant3/perl5/lib/site_perl/5.12.2/i86pc-solaris-64int
/export/home/cpant3/perl5/lib/site_perl/5.12.2
/export/home/cpant3/perl5/lib/5.12.2/i86pc-solaris-64int
/export/home/cpant3/perl5/lib/5.12.2
/export/home/cpant3/perl5/lib/site_perl
.