Report for Sort-Bucket-0.02

Back
From: metabase:user:e3434da8-b236-11df-85ca-0247c6d74bde
Subject: PASS Sort-Bucket-0.02 v5.8.9 GNU/Linux
Date: 2011-06-26T16:01:04Z

This distribution has been tested as part of the CPAN Testers
project, supporting the Perl programming language.  See
http://wiki.cpantesters.org/ for more information or email
questions to cpan-testers-discuss@perl.org


--
Dear Nick Cleaton,

This is a computer-generated report for Sort-Bucket-0.02
on perl 5.8.9, created by CPAN-Reporter-1.1902.

Thank you for uploading your work to CPAN.  Congratulations!
All tests were successful.

Sections of this report:

    * Tester comments
    * Program output
    * Prerequisites
    * Environment and other context

------------------------------
TESTER COMMENTS
------------------------------

Additional comments from tester:

this report is from an automated smoke testing program
and was not reviewed by a human for accuracy

------------------------------
PROGRAM OUTPUT
------------------------------

Output from './Build test':

# 
#   Benchmark  | CORE::sort() | Sort::Bucket |   Ratio
#   10k digits |     0.01208s |    0.001539s |      7.85
#  100k digits |      0.2174s |     0.03391s |      6.41
#  200k digits |       0.518s |     0.09408s |     5.506
#  500k digits |       1.911s |      0.2941s |     6.498
#    1M digits |       3.991s |      0.3987s |     10.01
#   10k binary |      0.3994s |    0.001197s |     333.7
#  100k binary |      0.3816s |     0.01772s |     21.53
#  200k binary |      0.8867s |     0.03808s |     23.29
#  500k binary |       2.723s |      0.1055s |     25.81
#    1M binary |       5.801s |      0.2535s |     22.88
t/benchmark.t ............ ok
t/cbv-nondescending.t .... ok
t/cbv.t .................. ok
t/inplace_bucket_sort.t .. ok
t/inplace_gaps.t ......... ok
t/invalid.t .............. ok
t/ms_do_mergesort.t ...... ok
All tests successful.
Files=7, Tests=1413, 96 wallclock secs ( 0.19 usr  0.03 sys + 93.04 cusr  0.64 csys = 93.90 CPU)
Result: PASS

------------------------------
PREREQUISITES
------------------------------

Prerequisite modules loaded:

requires:

    Module               Need Have    
    -------------------- ---- --------
    Exporter             0    5.63    
    XSLoader             0    0.10    

build_requires:

    Module               Need Have    
    -------------------- ---- --------
    Devel::Refcount      0    0.09    
    Digest::MD5          0    2.51    
    ExtUtils::CBuilder   0    0.280202
    List::Util           0    1.19    
    Test::Exception      0    0.31    
    Test::Group          0    0.18    
    Test::Group::Foreach 0    0.03    
    Test::More           0.88 0.98    
    Time::HiRes          0    1.9715  

configure_requires:

    Module               Need Have    
    -------------------- ---- --------
    Module::Build        0.35 0.3800  


------------------------------
ENVIRONMENT AND OTHER CONTEXT
------------------------------

Environment variables:

    AUTOMATED_TESTING = 1
    LANG = en_US.UTF-8
    LC_COLLATE = C
    LC_MONETARY = nl_NL.utf8
    PATH = /home/tester/perl5/perlbrew/bin:/home/tester/perl5/perlbrew/perls/perl-5.12.3/bin:/usr/lib64/qt-3.3/bin:/usr/lib64/ccache:/usr/local/bin:/bin:/usr/bin:/usr/local/sbin:/usr/sbin:/sbin:/home/tester/bin:/home/tester/bin
    PATH_WITHOUT_PERLBREW = /usr/lib64/qt-3.3/bin:/usr/lib64/ccache:/usr/local/bin:/bin:/usr/bin:/usr/local/sbin:/usr/sbin:/sbin:/home/tester/bin
    PERL5LIB = /home/perl58/.cpan/build/Devel-Refcount-0.09-w17Pgg/blib/arch:/home/perl58/.cpan/build/Devel-Refcount-0.09-w17Pgg/blib/lib:/home/perl58/.cpan/build/Test-Group-Foreach-0.03-6PLiCY/blib/arch:/home/perl58/.cpan/build/Test-Group-Foreach-0.03-6PLiCY/blib/lib:/home/perl58/.cpan/build/Test-NameNote-0.04-ocArjf/blib/arch:/home/perl58/.cpan/build/Test-NameNote-0.04-ocArjf/blib/lib:/home/perl58/.cpan/build/Sub-Prepend-0.01-wHkjt_/blib/arch:/home/perl58/.cpan/build/Sub-Prepend-0.01-wHkjt_/blib/lib:/home/perl58/.cpan/build/Test-Script-Run-0.05-gRF7qU/blib/arch:/home/perl58/.cpan/build/Test-Script-Run-0.05-gRF7qU/blib/lib:/home/perl58/.cpan/build/Pod-Snippets-0.14-LDTS8d/blib/arch:/home/perl58/.cpan/build/Pod-Snippets-0.14-LDTS8d/blib/lib:/home/perl58/.cpan/build/Test-Group-0.18-DIaxyo/blib/arch:/home/perl58/.cpan/build/Test-Group-0.18-DIaxyo/blib/lib:/home/perl58/.cpan/build/File-Slurp-9999.19-p3FWoZ/blib/arch:/home/perl58/.cpan/build/File-Slurp-9999.19-p3FWoZ/blib/lib:/home/perl58/.cpan/build/Test-Cmd-1.05-Skp3wY/blib/arch:/home/perl58/.cpan/build/Test-Cmd-1.05-Skp3wY/blib/lib
    PERL5OPT = 
    PERL5_CPANPLUS_IS_RUNNING = 13680
    PERL5_CPAN_IS_RUNNING = 13680
    PERL5_CPAN_IS_RUNNING_IN_RECURSION = 3095,13680
    PERLBREW_PATH = /home/tester/perl5/perlbrew/bin:/home/tester/perl5/perlbrew/perls/perl-5.12.3/bin
    PERLBREW_PERL = perl-5.12.3
    PERLBREW_ROOT = /home/tester/perl5/perlbrew
    PERLBREW_VERSION = 0.15
    PERL_CR_SMOKER_CURRENT = Sort-Bucket-0.02
    PERL_EXTUTILS_AUTOINSTALL = --defaultdeps
    PERL_MM_USE_DEFAULT = 1
    SHELL = /bin/bash
    TERM = screen

Perl special variables (and OS-specific diagnostics, for MSWin32):

    $^X = /home/perl58/testing/bin/perl5.8.9
    $UID/$EUID = 506 / 506
    $GID = 506 506
    $EGID = 506 506

Perl module toolchain versions installed:

    Module              Have    
    ------------------- --------
    CPAN                1.9600  
    Cwd                 3.29    
    ExtUtils::CBuilder  0.280202
    ExtUtils::Command   1.16    
    ExtUtils::Install   1.52    
    ExtUtils::MakeMaker 6.56    
    ExtUtils::Manifest  1.56    
    ExtUtils::ParseXS   2.2206  
    File::Spec          3.29    
    Module::Build       0.3800  
    Module::Signature   n/a     
    Test::Harness       3.23    
    Test::More          0.98    
    YAML                n/a     
    YAML::Syck          1.17    
    version             0.90    


--

Summary of my perl5 (revision 5 version 8 subversion 9) configuration:
  Platform:
    osname=linux, osvers=2.6.35.11-83.fc14.x86_64, archname=x86_64-linux-thread-multi
    uname='linux firenze.fritz.box 2.6.35.11-83.fc14.x86_64 #1 smp mon feb 7 07:06:44 utc 2011 x86_64 x86_64 x86_64 gnulinux '
    config_args='-Dprefix=/home/perl58/testing/ -Dusethreads -Dusedevel -des'
    hint=recommended, useposix=true, d_sigaction=define
    usethreads=define use5005threads=undef useithreads=define usemultiplicity=define
    useperlio=define d_sfio=undef uselargefiles=define usesocks=undef
    use64bitint=define use64bitall=define uselongdouble=undef
    usemymalloc=n, bincompat5005=undef
  Compiler:
    cc='cc', ccflags ='-D_REENTRANT -D_GNU_SOURCE -DTHREADS_HAVE_PIDS -fno-strict-aliasing -pipe -I/usr/local/include -D_LARGEFILE_SOURCE -D_FILE_OFFSET_BITS=64 -I/usr/include/gdbm',
    optimize='-O2',
    cppflags='-D_REENTRANT -D_GNU_SOURCE -DTHREADS_HAVE_PIDS -fno-strict-aliasing -pipe -I/usr/local/include -I/usr/include/gdbm'
    ccversion='', gccversion='4.5.1 20100924 (Red Hat 4.5.1-4)', gccosandvers=''
    intsize=4, longsize=8, ptrsize=8, doublesize=8, byteorder=12345678
    d_longlong=define, longlongsize=8, d_longdbl=define, longdblsize=16
    ivtype='long', ivsize=8, nvtype='double', nvsize=8, Off_t='off_t', lseeksize=8
    alignbytes=8, prototype=define
  Linker and Libraries:
    ld='cc', ldflags =' -L/usr/local/lib'
    libpth=/usr/local/lib /lib /usr/lib /lib64 /usr/lib64 /usr/local/lib64
    libs=-lnsl -lgdbm -ldb -ldl -lm -lcrypt -lutil -lpthread -lc
    perllibs=-lnsl -ldl -lm -lcrypt -lutil -lpthread -lc
    libc=, so=so, useshrplib=false, libperl=libperl.a
    gnulibc_version='2.13'
  Dynamic Linking:
    dlsrc=dl_dlopen.xs, dlext=so, d_dlsymun=undef, ccdlflags='-Wl,-E'
    cccdlflags='-fPIC', lddlflags='-shared -O2 -L/usr/local/lib'


Characteristics of this binary (from libperl): 
  Compile-time options: MULTIPLICITY PERL_IMPLICIT_CONTEXT PERL_MALLOC_WRAP
                        THREADS_HAVE_PIDS USE_64_BIT_ALL USE_64_BIT_INT
                        USE_FAST_STDIO USE_ITHREADS USE_LARGE_FILES
                        USE_PERLIO USE_REENTRANT_API
  Built under linux
  Compiled at Jun  4 2011 22:22:39
  %ENV:
    PERL5LIB="/home/perl58/.cpan/build/Devel-Refcount-0.09-w17Pgg/blib/arch:/home/perl58/.cpan/build/Devel-Refcount-0.09-w17Pgg/blib/lib:/home/perl58/.cpan/build/Test-Group-Foreach-0.03-6PLiCY/blib/arch:/home/perl58/.cpan/build/Test-Group-Foreach-0.03-6PLiCY/blib/lib:/home/perl58/.cpan/build/Test-NameNote-0.04-ocArjf/blib/arch:/home/perl58/.cpan/build/Test-NameNote-0.04-ocArjf/blib/lib:/home/perl58/.cpan/build/Sub-Prepend-0.01-wHkjt_/blib/arch:/home/perl58/.cpan/build/Sub-Prepend-0.01-wHkjt_/blib/lib:/home/perl58/.cpan/build/Test-Script-Run-0.05-gRF7qU/blib/arch:/home/perl58/.cpan/build/Test-Script-Run-0.05-gRF7qU/blib/lib:/home/perl58/.cpan/build/Pod-Snippets-0.14-LDTS8d/blib/arch:/home/perl58/.cpan/build/Pod-Snippets-0.14-LDTS8d/blib/lib:/home/perl58/.cpan/build/Test-Group-0.18-DIaxyo/blib/arch:/home/perl58/.cpan/build/Test-Group-0.18-DIaxyo/blib/lib:/home/perl58/.cpan/build/File-Slurp-9999.19-p3FWoZ/blib/arch:/home/perl58/.cpan/build/File-Slurp-9999.19-p3FWoZ/blib/lib:/home/perl58/.cpan/build/Test-Cmd-1.05-Skp3wY/blib/arch:/home/perl58/.cpan/build/Test-Cmd-1.05-Skp3wY/blib/lib"
    PERL5OPT=""
    PERL5_CPANPLUS_IS_RUNNING="13680"
    PERL5_CPAN_IS_RUNNING="13680"
    PERL5_CPAN_IS_RUNNING_IN_RECURSION="3095,13680"
    PERLBREW_PATH="/home/tester/perl5/perlbrew/bin:/home/tester/perl5/perlbrew/perls/perl-5.12.3/bin"
    PERLBREW_PERL="perl-5.12.3"
    PERLBREW_ROOT="/home/tester/perl5/perlbrew"
    PERLBREW_VERSION="0.15"
    PERL_CR_SMOKER_CURRENT="Sort-Bucket-0.02"
    PERL_EXTUTILS_AUTOINSTALL="--defaultdeps"
    PERL_MM_USE_DEFAULT="1"
  @INC:
    /home/perl58/.cpan/build/Devel-Refcount-0.09-w17Pgg/blib/arch
    /home/perl58/.cpan/build/Devel-Refcount-0.09-w17Pgg/blib/lib
    /home/perl58/.cpan/build/Test-Group-Foreach-0.03-6PLiCY/blib/arch
    /home/perl58/.cpan/build/Test-Group-Foreach-0.03-6PLiCY/blib/lib
    /home/perl58/.cpan/build/Test-NameNote-0.04-ocArjf/blib/arch
    /home/perl58/.cpan/build/Test-NameNote-0.04-ocArjf/blib/lib
    /home/perl58/.cpan/build/Sub-Prepend-0.01-wHkjt_/blib/arch
    /home/perl58/.cpan/build/Sub-Prepend-0.01-wHkjt_/blib/lib
    /home/perl58/.cpan/build/Test-Script-Run-0.05-gRF7qU/blib/arch
    /home/perl58/.cpan/build/Test-Script-Run-0.05-gRF7qU/blib/lib
    /home/perl58/.cpan/build/Pod-Snippets-0.14-LDTS8d/blib/arch
    /home/perl58/.cpan/build/Pod-Snippets-0.14-LDTS8d/blib/lib
    /home/perl58/.cpan/build/Test-Group-0.18-DIaxyo/blib/arch
    /home/perl58/.cpan/build/Test-Group-0.18-DIaxyo/blib/lib
    /home/perl58/.cpan/build/File-Slurp-9999.19-p3FWoZ/blib/arch
    /home/perl58/.cpan/build/File-Slurp-9999.19-p3FWoZ/blib/lib
    /home/perl58/.cpan/build/Test-Cmd-1.05-Skp3wY/blib/arch
    /home/perl58/.cpan/build/Test-Cmd-1.05-Skp3wY/blib/lib
    /home/perl58/testing/lib/5.8.9/x86_64-linux-thread-multi
    /home/perl58/testing/lib/5.8.9
    /home/perl58/testing/lib/site_perl/5.8.9/x86_64-linux-thread-multi
    /home/perl58/testing/lib/site_perl/5.8.9
    .